PDS_VERSION_ID = PDS3
/* FILE DATA ELEMENTS */
RECORD_TYPE = STREAM
/* POINTERS TO DATA OBJECTS */
^COMPRESSED_FILE = "H4376_0000_GR3.JP2"
/* IDENTIFICATION DATA ELEMENTS */
DATA_SET_ID = "MEX-M-HRSC-5-REFDR-MAPPROJECTED-V3.0"
DATA_SET_NAME = "MARS EXPRESS HRSC MAP PROJECTED REFDR V3.0"
DETECTOR_ID = MEX_HRSC_GREEN
EVENT_TYPE = "MARS-REGIONAL-MAPPING-Im-Fl-Eo"
INSTRUMENT_HOST_ID = MEX
INSTRUMENT_HOST_NAME = "MARS EXPRESS"
INSTRUMENT_ID = HRSC
INSTRUMENT_NAME = "HIGH RESOLUTION STEREO CAMERA"
MISSION_NAME = "MARS EXPRESS"
MISSION_PHASE_NAME = ME_Phase_7
PROCESSING_LEVEL_ID = 3
PRODUCT_CREATION_TIME = 2016-04-21T11:52:47.000Z
PRODUCT_ID = "H4376_0000_GR3.JP2"
RELEASE_ID = 0049
REVISION_ID = 0000
/* QUALITY DATA ELEMENTS */
DATA_QUALITY_ID = 2
DATA_QUALITY_DESC = "Data calculated based on photogrammetrically improved orbit and attitude data"
/* TIME DATA ELEMENTS */
SPACECRAFT_CLOCK_START_COUNT = "1/0128823956.08252"
SPACECRAFT_CLOCK_STOP_COUNT = "1/0128824377.30955"
START_TIME = 2007-06-02T00:26:33.033Z
STOP_TIME = 2007-06-02T00:32:10.840Z
/* ORBITAL DATA ELEMENTS */
ASCENDING_NODE_LONGITUDE = 136.69
MAXIMUM_RESOLUTION = 51.8
FOOTPRINT_POINT_LATITUDE = (-39.9151,-39.7323,-39.391,-39.0318, -38.5022,-37.9742,-37.6229,-37.2635, -36.9014,-36.5401,-36.1796,-35.8192, -35.4597,-35.1002,-34.7412,-34.3819, -34.0257,-33.6687,-33.3113,-32.7055, -32.2824,-31.8601,-31.2278,-30.8076, -30.3883,-29.97,-29.5525,-29.1361, -28.7207,-28.288,-27.8633,-27.2155, -26.7821,-26.3392,-25.6718,-25.2213, -24.765,-24.3063,-23.8395,-23.3705, -22.8947,-22.4135,-21.929,-21.4368, -20.9393,-20.4371,-19.9296,-19.4135, -19.0726,-19.0709,-19.0678,-19.0646, -19.5849,-20.0994,-20.608,-21.1087, -21.6078,-22.0997,-22.5828,-23.0609, -23.5375,-24.0058,-24.7004,-25.1591, -25.6104,-26.0594,-26.5023,-26.9431, -27.3774,-27.8107,-28.2362,-28.8793, -29.2955,-29.7129,-30.1315,-30.551, -30.9714,-31.393,-31.8151,-32.2382, -32.6621,-33.2793,-33.6362,-33.9937, -34.352,-34.7119,-35.0717,-35.432, -35.7925,-36.1535,-36.515,-37.0579, -37.4198,-37.9535,-38.3056,-38.6591, -39.1883,-39.5439,-39.8863,-39.9151)
FOOTPRINT_POINT_LONGITUDE = (318.834,318.095,318.11,318.128,318.158 ,318.182,318.197,318.209,318.224, 318.235,318.245,318.256,318.266,318.277 ,318.288,318.303,318.304,318.312, 318.325,318.336,318.342,318.347,318.358 ,318.363,318.368,318.372,318.375, 318.378,318.381,318.382,318.384,318.386 ,318.387,318.387,318.384,318.382,318.38 ,318.377,318.373,318.368,318.363, 318.357,318.35,318.343,318.335,318.326, 318.316,318.306,318.537,319.158,319.665 ,320.244,320.233,320.222,320.211,320.2, 320.191,320.18,320.167,320.155,320.144, 320.133,320.116,320.104,320.092,320.08, 320.069,320.057,320.045,320.033,320.021 ,320.002,319.989,319.976,319.963,319.95 ,319.937,319.923,319.909,319.895,319.88 ,319.858,319.845,319.832,319.819, 319.805,319.791,319.777,319.762,319.748 ,319.733,319.71,319.694,319.67,319.654, 319.638,319.613,319.596,319.579, 318.834)
ORBIT_NUMBER = 4376
ORBITAL_ECCENTRICITY = 0.571
ORBITAL_INCLINATION = 86.7
ORBITAL_SEMIMAJOR_AXIS = 8562.59
PERIAPSIS_ALTITUDE = 292.51
PERIAPSIS_ARGUMENT_ANGLE = 307.37
PERIAPSIS_TIME = 2007-06-02T00:23:18.000Z
SPACECRAFT_ORIENTATION = (0.0,1.0,0.0)
^MEX_ORIENTATION_DESC = "MEX_ORIENTATION_DESC.TXT"
SPACECRAFT_POINTING_MODE = ACROSSTRACK
^MEX_POINTING_DESC = "MEX_POINTING_DESC.TXT"
RIGHT_ASCENSION = -1e+32
DECLINATION = -1e+32
OFFSET_ANGLE = 0.6
SPACECRAFT_SOLAR_DISTANCE = 2.06673e+08
TARGET_NAME = MARS
/* CAMERA DATA ELEMENTS */
DETECTOR_TEMPERATURE = 18.3705
FOCAL_PLANE_TEMPERATURE = 10.2145
INST_CMPRS_NAME = "DISCRETE COSINE TRANSFORMATION (DCT)"
INST_CMPRS_RATIO = 15.2206
INST_CMPRS_QUALITY = 0
INST_CMPRS_QUANTZ_TBL_ID = 0
INSTRUMENT_TEMPERATURE = 12.0496
LENS_TEMPERATURE = 10.6223
MACROPIXEL_SIZE = 4
MISSING_FRAMES = 2
PIXEL_SUBSAMPLING_FLAG = N
SIGNAL_CHAIN_ID = 2
/* RADIOMETRIC DATA ELEMENTS */
BANDWIDTH = 88.0
CENTER_FILTER_WAVELENGTH = 538.0
RADIANCE_OFFSET = 2.38123
RADIANCE_SCALING_FACTOR = 0.00344441
REFLECTANCE_SCALING_FACTOR = 0.000126669
MEX:REFLECTANCE_OFFSET = 0.0875707
/* IMAGE OBJECT DEFINITIONS */
OBJECT = IMAGE
  INTERCHANGE_FORMAT = BINARY
  LINES = 24755
  LINE_SAMPLES = 2259
  SAMPLE_TYPE = UNSIGNED_INTEGER
  SAMPLE_BITS = 8
  BANDS = 1
  BAND_STORAGE_TYPE = BAND_SEQUENTIAL
  MAXIMUM = 255
  MEAN = 112.734
  MINIMUM = 1
  STANDARD_DEVIATION = 39.1976
END_OBJECT = IMAGE
/* MAP OBJECT DEFINITIONS */
OBJECT = IMAGE_MAP_PROJECTION
  ^DATA_SET_MAP_PROJECTION_CATALOG= "DSMAP.CAT"
  A_AXIS_RADIUS = 3396.0
  B_AXIS_RADIUS = 3396.0
  C_AXIS_RADIUS = 3396.0
  CENTER_LATITUDE = 0.0
  CENTER_LONGITUDE = 319.0
  COORDINATE_SYSTEM_NAME = PLANETOGRAPHIC
  COORDINATE_SYSTEM_TYPE = "BODY-FIXED ROTATING"
  EASTERNMOST_LONGITUDE = 320.244
  FIRST_STANDARD_PARALLEL = "N/A"
  LINE_FIRST_PIXEL = 1
  LINE_LAST_PIXEL = 24755
  LINE_PROJECTION_OFFSET = -22595.375
  MAP_PROJECTION_ROTATION = 0.0
  MAP_PROJECTION_TYPE = SINUSOIDAL
  MAP_RESOLUTION = 1185.42760773333
  MAP_SCALE = 0.05
  MAXIMUM_LATITUDE = -19.0646
  MINIMUM_LATITUDE = -39.9151
  POSITIVE_LONGITUDE_DIRECTION = EAST
  REFERENCE_LATITUDE = "N/A"
  REFERENCE_LONGITUDE = "N/A"
  SAMPLE_FIRST_PIXEL = 1
  SAMPLE_LAST_PIXEL = 2259
  SAMPLE_PROJECTION_OFFSET = 876.375
  SECOND_STANDARD_PARALLEL = "N/A"
  WESTERNMOST_LONGITUDE = 318.095
END_OBJECT = IMAGE_MAP_PROJECTION
/* The JPEG2000 image data file associated with this label. */
OBJECT = COMPRESSED_FILE
  FILE_NAME = "H4376_0000_GR3.JP2"
  RECORD_TYPE = UNDEFINED
  FILE_RECORDS = UNK
  ENCODING_TYPE = "JP2"
  INTERCHANGE_FORMAT = BINARY
  UNCOMPRESSED_FILE_NAME = "H4376_0000_GR3.IMG"
  REQUIRED_STORAGE_BYTES = "55944135"
  ^DESCRIPTION = "JP2INFO.TXT"
END_OBJECT = COMPRESSED_FILE
END
