PDS_VERSION_ID = PDS3
/* FILE DATA ELEMENTS */
RECORD_TYPE = STREAM
/* POINTERS TO DATA OBJECTS */
^COMPRESSED_FILE = "H4385_0000_ND3.JP2"
/* IDENTIFICATION DATA ELEMENTS */
DATA_SET_ID = "MEX-M-HRSC-5-REFDR-MAPPROJECTED-V3.0"
DATA_SET_NAME = "MARS EXPRESS HRSC MAP PROJECTED REFDR V3.0"
DETECTOR_ID = MEX_HRSC_NADIR
EVENT_TYPE = "MARS-REGIONAL-MAPPING-Im-Gl-La"
INSTRUMENT_HOST_ID = MEX
INSTRUMENT_HOST_NAME = "MARS EXPRESS"
INSTRUMENT_ID = HRSC
INSTRUMENT_NAME = "HIGH RESOLUTION STEREO CAMERA"
MISSION_NAME = "MARS EXPRESS"
MISSION_PHASE_NAME = ME_Phase_7
PROCESSING_LEVEL_ID = 3
PRODUCT_CREATION_TIME = 2016-04-21T11:52:47.000Z
PRODUCT_ID = "H4385_0000_ND3.JP2"
RELEASE_ID = 0049
REVISION_ID = 0000
/* QUALITY DATA ELEMENTS */
DATA_QUALITY_ID = 1
DATA_QUALITY_DESC = "Data calculated based on original SPICE kernels"
/* TIME DATA ELEMENTS */
SPACECRAFT_CLOCK_START_COUNT = "1/0129041142.09067"
SPACECRAFT_CLOCK_STOP_COUNT = "1/0129041304.42378"
START_TIME = 2007-06-04T12:46:26.743Z
STOP_TIME = 2007-06-04T12:47:55.741Z
/* ORBITAL DATA ELEMENTS */
ASCENDING_NODE_LONGITUDE = 136.5
MAXIMUM_RESOLUTION = 14.1
FOOTPRINT_POINT_LATITUDE = (-76.2706,-76.2333,-76.2109,-76.1877, -76.1638,-76.1391,-76.1007,-76.0707, -76.0257,-75.9933,-75.8546,-75.7425, -75.6301,-75.5175,-75.4049,-75.2921, -75.1792,-75.0659,-74.9526,-74.8392, -74.726,-74.6123,-74.4986,-74.3846, -74.2705,-74.1563,-74.0419,-73.9274, -73.8128,-73.6978,-73.5828,-73.4676, -73.3525,-73.2374,-73.1219,-73.0063, -72.8906,-72.775,-72.6591,-72.5431, -72.4272,-72.311,-72.1948,-72.0261, -71.8306,-71.6348,-71.4389,-71.2427, -71.0463,-70.8496,-70.5541,-70.5253, -70.549,-70.5677,-70.5936,-70.6239, -70.6557,-70.6755,-70.8364,-71.0368, -71.2369,-71.4368,-71.6366,-71.8362, -72.0355,-72.2346,-72.4041,-72.5227, -72.6412,-72.7597,-72.8781,-72.9964, -73.1147,-73.2328,-73.3509,-73.4689, -73.5868,-73.7047,-73.8225,-73.9402, -74.0578,-74.1753,-74.2927,-74.4101, -74.5274,-74.6446,-74.7619,-74.8789, -75.0541,-75.1709,-75.2875,-75.4041, -75.5206,-75.637,-75.7535,-75.9277, -76.0437,-76.1597,-76.2755,-76.2706)
FOOTPRINT_POINT_LONGITUDE = (148.44,147.679,147.245,146.813,146.381 ,145.952,145.31,144.83,144.139,143.663, 143.449,143.589,143.726,143.86,143.994, 144.125,144.253,144.379,144.503,144.626 ,144.75,144.87,144.988,145.104,145.218, 145.33,145.441,145.55,145.657,145.76, 145.863,145.963,146.065,146.166,146.263 ,146.358,146.453,146.548,146.641, 146.732,146.823,146.913,147.002,147.132 ,147.272,147.409,147.544,147.677, 147.807,147.935,148.121,148.738,149.135 ,149.46,149.93,150.51,151.164,151.6, 151.782,151.709,151.635,151.559,151.481 ,151.402,151.32,151.237,151.162,151.108 ,151.055,151.002,150.948,150.893, 150.839,150.782,150.724,150.665,150.607 ,150.548,150.488,150.427,150.365, 150.301,150.237,150.172,150.106,150.041 ,149.982,149.914,149.803,149.731, 149.656,149.581,149.506,149.429,149.356 ,149.236,149.153,149.071,148.986, 148.44)
ORBIT_NUMBER = 4385
ORBITAL_ECCENTRICITY = 0.571
ORBITAL_INCLINATION = 86.69
ORBITAL_SEMIMAJOR_AXIS = 8562.92
PERIAPSIS_ALTITUDE = 292.87
PERIAPSIS_ARGUMENT_ANGLE = 305.8
PERIAPSIS_TIME = 2007-06-04T12:52:09.000Z
SPACECRAFT_ORIENTATION = (0.0,1.0,0.0)
^MEX_ORIENTATION_DESC = "MEX_ORIENTATION_DESC.TXT"
SPACECRAFT_POINTING_MODE = ACROSSTRACK
^MEX_POINTING_DESC = "MEX_POINTING_DESC.TXT"
RIGHT_ASCENSION = -1e+32
DECLINATION = -1e+32
OFFSET_ANGLE = 0.1
SPACECRAFT_SOLAR_DISTANCE = 2.06666e+08
TARGET_NAME = MARS
/* CAMERA DATA ELEMENTS */
DETECTOR_TEMPERATURE = 18.5744
FOCAL_PLANE_TEMPERATURE = 10.2145
INST_CMPRS_NAME = "DISCRETE COSINE TRANSFORMATION (DCT)"
INST_CMPRS_RATIO = 7.32402
INST_CMPRS_QUALITY = 0
INST_CMPRS_QUANTZ_TBL_ID = 0
INSTRUMENT_TEMPERATURE = 11.6418
LENS_TEMPERATURE = 10.8262
MACROPIXEL_SIZE = 1
MISSING_FRAMES = 0
PIXEL_SUBSAMPLING_FLAG = N
SIGNAL_CHAIN_ID = 0
/* RADIOMETRIC DATA ELEMENTS */
BANDWIDTH = 177.0
CENTER_FILTER_WAVELENGTH = 677.5
RADIANCE_OFFSET = 5.63207
RADIANCE_SCALING_FACTOR = 0.0156446
REFLECTANCE_SCALING_FACTOR = 0.000354968
MEX:REFLECTANCE_OFFSET = 0.127788
/* IMAGE OBJECT DEFINITIONS */
OBJECT = IMAGE
  INTERCHANGE_FORMAT = BINARY
  LINES = 27511
  LINE_SAMPLES = 11253
  SAMPLE_TYPE = UNSIGNED_INTEGER
  SAMPLE_BITS = 8
  BANDS = 1
  BAND_STORAGE_TYPE = BAND_SEQUENTIAL
  MAXIMUM = 255
  MEAN = 110.784
  MINIMUM = 1
  STANDARD_DEVIATION = 39.3736
END_OBJECT = IMAGE
/* MAP OBJECT DEFINITIONS */
OBJECT = IMAGE_MAP_PROJECTION
  ^DATA_SET_MAP_PROJECTION_CATALOG= "DSMAP.CAT"
  A_AXIS_RADIUS = 3396.0
  B_AXIS_RADIUS = 3396.0
  C_AXIS_RADIUS = 3396.0
  CENTER_LATITUDE = 0.0
  CENTER_LONGITUDE = 148.0
  COORDINATE_SYSTEM_NAME = PLANETOGRAPHIC
  COORDINATE_SYSTEM_TYPE = "BODY-FIXED ROTATING"
  EASTERNMOST_LONGITUDE = 151.782
  FIRST_STANDARD_PARALLEL = "N/A"
  LINE_FIRST_PIXEL = 1
  LINE_LAST_PIXEL = 27511
  LINE_PROJECTION_OFFSET = -334240.0
  MAP_PROJECTION_ROTATION = 0.0
  MAP_PROJECTION_TYPE = SINUSOIDAL
  MAP_RESOLUTION = 4741.71043093333
  MAP_SCALE = 0.0125
  MAXIMUM_LATITUDE = -70.5253
  MINIMUM_LATITUDE = -76.27549999999999
  POSITIVE_LONGITUDE_DIRECTION = EAST
  REFERENCE_LATITUDE = "N/A"
  REFERENCE_LONGITUDE = "N/A"
  SAMPLE_FIRST_PIXEL = 1
  SAMPLE_LAST_PIXEL = 11253
  SAMPLE_PROJECTION_OFFSET = 5347.0
  SECOND_STANDARD_PARALLEL = "N/A"
  WESTERNMOST_LONGITUDE = 143.449
END_OBJECT = IMAGE_MAP_PROJECTION
/* The JPEG2000 image data file associated with this label. */
OBJECT = COMPRESSED_FILE
  FILE_NAME = "H4385_0000_ND3.JP2"
  RECORD_TYPE = UNDEFINED
  FILE_RECORDS = UNK
  ENCODING_TYPE = "JP2"
  INTERCHANGE_FORMAT = BINARY
  UNCOMPRESSED_FILE_NAME = "H4385_0000_ND3.IMG"
  REQUIRED_STORAGE_BYTES = "309615042"
  ^DESCRIPTION = "JP2INFO.TXT"
END_OBJECT = COMPRESSED_FILE
END
