PDS_VERSION_ID = PDS3
/* FILE DATA ELEMENTS */
RECORD_TYPE = STREAM
/* POINTERS TO DATA OBJECTS */
^COMPRESSED_FILE = "H4385_0000_RE3.JP2"
/* IDENTIFICATION DATA ELEMENTS */
DATA_SET_ID = "MEX-M-HRSC-5-REFDR-MAPPROJECTED-V3.0"
DATA_SET_NAME = "MARS EXPRESS HRSC MAP PROJECTED REFDR V3.0"
DETECTOR_ID = MEX_HRSC_RED
EVENT_TYPE = "MARS-REGIONAL-MAPPING-Im-Gl-La"
INSTRUMENT_HOST_ID = MEX
INSTRUMENT_HOST_NAME = "MARS EXPRESS"
INSTRUMENT_ID = HRSC
INSTRUMENT_NAME = "HIGH RESOLUTION STEREO CAMERA"
MISSION_NAME = "MARS EXPRESS"
MISSION_PHASE_NAME = ME_Phase_7
PROCESSING_LEVEL_ID = 3
PRODUCT_CREATION_TIME = 2016-04-21T11:52:47.000Z
PRODUCT_ID = "H4385_0000_RE3.JP2"
RELEASE_ID = 0049
REVISION_ID = 0000
/* QUALITY DATA ELEMENTS */
DATA_QUALITY_ID = 1
DATA_QUALITY_DESC = "Data calculated based on original SPICE kernels"
/* TIME DATA ELEMENTS */
SPACECRAFT_CLOCK_START_COUNT = "1/0129041142.09067"
SPACECRAFT_CLOCK_STOP_COUNT = "1/0129041304.42378"
START_TIME = 2007-06-04T12:45:53.822Z
STOP_TIME = 2007-06-04T12:47:27.921Z
/* ORBITAL DATA ELEMENTS */
ASCENDING_NODE_LONGITUDE = 136.5
MAXIMUM_RESOLUTION = 122.6
FOOTPRINT_POINT_LATITUDE = (-76.3987,-76.3619,-76.3198,-76.2716, -76.2365,-76.1964,-76.1293,-76.0574, -75.8635,-75.7551,-75.5911,-75.4818, -75.3739,-75.2675,-75.1605,-75.053, -74.9451,-74.7841,-74.6251,-74.5177, -74.3076,-74.0434,-73.9375,-73.8312, -73.7243,-73.6165,-73.4543,-73.2421, -73.0799,-72.9711,-72.8636,-72.7031, -72.5953,-72.487,-72.3798,-72.2718, -72.0584,-71.9507,-71.7864,-71.6768, -71.5677,-71.4582,-71.3493,-71.1854, -71.076,-70.9665,-70.8025,-70.6931, -70.5835,-70.5308,-70.5686,-70.6098, -70.6389,-70.6643,-70.6963,-70.8722, -70.9838,-71.1511,-71.2625,-71.3738, -71.485,-71.5961,-71.7072,-71.8182, -71.9291,-72.04,-72.1511,-72.2619, -72.3727,-72.4865,-72.6537,-72.7641, -72.8742,-72.9842,-73.0937,-73.2035, -73.3145,-73.4249,-73.5348,-73.644, -73.753,-73.9161,-74.0254,-74.2431, -74.3525,-74.5697,-74.7779,-74.8873, -75.0001,-75.1694,-75.3368,-75.448, -75.5586,-75.7201,-75.8313,-75.9464, -76.0604,-76.1734,-76.2872,-76.3987)
FOOTPRINT_POINT_LONGITUDE = (148.966,148.198,147.379,146.511, 145.917,145.273,144.26,143.254,143.338, 143.475,143.677,143.809,143.938,144.063 ,144.186,144.307,144.426,144.602, 144.776,144.889,145.105,145.366,145.469 ,145.569,145.668,145.766,145.909, 146.099,146.236,146.326,146.416,146.548 ,146.635,146.72,146.805,146.889,147.055 ,147.136,147.254,147.331,147.408, 147.484,147.56,147.671,147.744,147.816, 147.923,147.994,148.063,148.754,149.356 ,150.067,150.601,151.101,151.781, 151.853,151.814,151.754,151.714,151.673 ,151.632,151.59,151.547,151.504,151.461 ,151.417,151.372,151.326,151.28,151.229 ,151.155,151.107,151.059,151.01,150.961 ,150.911,150.858,150.805,150.752, 150.699,150.646,150.565,150.51,150.397, 150.338,150.22,150.115,150.053,149.986, 149.882,149.779,149.709,149.64,149.542, 149.471,149.392,149.313,149.235,149.154 ,148.966)
ORBIT_NUMBER = 4385
ORBITAL_ECCENTRICITY = 0.571
ORBITAL_INCLINATION = 86.69
ORBITAL_SEMIMAJOR_AXIS = 8562.92
PERIAPSIS_ALTITUDE = 292.87
PERIAPSIS_ARGUMENT_ANGLE = 305.8
PERIAPSIS_TIME = 2007-06-04T12:52:09.000Z
SPACECRAFT_ORIENTATION = (0.0,1.0,0.0)
^MEX_ORIENTATION_DESC = "MEX_ORIENTATION_DESC.TXT"
SPACECRAFT_POINTING_MODE = ACROSSTRACK
^MEX_POINTING_DESC = "MEX_POINTING_DESC.TXT"
RIGHT_ASCENSION = -1e+32
DECLINATION = -1e+32
OFFSET_ANGLE = 0.1
SPACECRAFT_SOLAR_DISTANCE = 2.06666e+08
TARGET_NAME = MARS
/* CAMERA DATA ELEMENTS */
DETECTOR_TEMPERATURE = 19.1861
FOCAL_PLANE_TEMPERATURE = 10.2145
INST_CMPRS_NAME = "DISCRETE COSINE TRANSFORMATION (DCT)"
INST_CMPRS_RATIO = 35.9806
INST_CMPRS_QUALITY = 0
INST_CMPRS_QUANTZ_TBL_ID = 0
INSTRUMENT_TEMPERATURE = 11.6418
LENS_TEMPERATURE = 10.8262
MACROPIXEL_SIZE = 8
MISSING_FRAMES = 0
PIXEL_SUBSAMPLING_FLAG = N
SIGNAL_CHAIN_ID = 2
/* RADIOMETRIC DATA ELEMENTS */
BANDWIDTH = 48.0
CENTER_FILTER_WAVELENGTH = 748.0
RADIANCE_OFFSET = 1.72803
RADIANCE_SCALING_FACTOR = 0.00428898
REFLECTANCE_SCALING_FACTOR = 0.000418041
MEX:REFLECTANCE_OFFSET = 0.168429
/* IMAGE OBJECT DEFINITIONS */
OBJECT = IMAGE
  INTERCHANGE_FORMAT = BINARY
  LINES = 3439
  LINE_SAMPLES = 1407
  SAMPLE_TYPE = UNSIGNED_INTEGER
  SAMPLE_BITS = 8
  BANDS = 1
  BAND_STORAGE_TYPE = BAND_SEQUENTIAL
  MAXIMUM = 255
  MEAN = 113.325
  MINIMUM = 1
  STANDARD_DEVIATION = 44.1248
END_OBJECT = IMAGE
/* MAP OBJECT DEFINITIONS */
OBJECT = IMAGE_MAP_PROJECTION
  ^DATA_SET_MAP_PROJECTION_CATALOG= "DSMAP.CAT"
  A_AXIS_RADIUS = 3396.0
  B_AXIS_RADIUS = 3396.0
  C_AXIS_RADIUS = 3396.0
  CENTER_LATITUDE = 0.0
  CENTER_LONGITUDE = 148.0
  COORDINATE_SYSTEM_NAME = PLANETOGRAPHIC
  COORDINATE_SYSTEM_TYPE = "BODY-FIXED ROTATING"
  EASTERNMOST_LONGITUDE = 151.853
  FIRST_STANDARD_PARALLEL = "N/A"
  LINE_FIRST_PIXEL = 1
  LINE_LAST_PIXEL = 3439
  LINE_PROJECTION_OFFSET = -41780.4375
  MAP_PROJECTION_ROTATION = 0.0
  MAP_PROJECTION_TYPE = SINUSOIDAL
  MAP_RESOLUTION = 592.713803866667
  MAP_SCALE = 0.1
  MAXIMUM_LATITUDE = -70.5308
  MINIMUM_LATITUDE = -76.39870000000001
  POSITIVE_LONGITUDE_DIRECTION = EAST
  REFERENCE_LATITUDE = "N/A"
  REFERENCE_LONGITUDE = "N/A"
  SAMPLE_FIRST_PIXEL = 1
  SAMPLE_LAST_PIXEL = 1407
  SAMPLE_PROJECTION_OFFSET = 667.9375
  SECOND_STANDARD_PARALLEL = "N/A"
  WESTERNMOST_LONGITUDE = 143.254
END_OBJECT = IMAGE_MAP_PROJECTION
/* The JPEG2000 image data file associated with this label. */
OBJECT = COMPRESSED_FILE
  FILE_NAME = "H4385_0000_RE3.JP2"
  RECORD_TYPE = UNDEFINED
  FILE_RECORDS = UNK
  ENCODING_TYPE = "JP2"
  INTERCHANGE_FORMAT = BINARY
  UNCOMPRESSED_FILE_NAME = "H4385_0000_RE3.IMG"
  REQUIRED_STORAGE_BYTES = "4858371"
  ^DESCRIPTION = "JP2INFO.TXT"
END_OBJECT = COMPRESSED_FILE
END
