PDS_VERSION_ID = PDS3
/* FILE DATA ELEMENTS */
RECORD_TYPE = STREAM
/* POINTERS TO DATA OBJECTS */
^COMPRESSED_FILE = "H4385_0000_S23.JP2"
/* IDENTIFICATION DATA ELEMENTS */
DATA_SET_ID = "MEX-M-HRSC-5-REFDR-MAPPROJECTED-V3.0"
DATA_SET_NAME = "MARS EXPRESS HRSC MAP PROJECTED REFDR V3.0"
DETECTOR_ID = MEX_HRSC_S2
EVENT_TYPE = "MARS-REGIONAL-MAPPING-Im-Gl-La"
INSTRUMENT_HOST_ID = MEX
INSTRUMENT_HOST_NAME = "MARS EXPRESS"
INSTRUMENT_ID = HRSC
INSTRUMENT_NAME = "HIGH RESOLUTION STEREO CAMERA"
MISSION_NAME = "MARS EXPRESS"
MISSION_PHASE_NAME = ME_Phase_7
PROCESSING_LEVEL_ID = 3
PRODUCT_CREATION_TIME = 2016-04-21T11:52:47.000Z
PRODUCT_ID = "H4385_0000_S23.JP2"
RELEASE_ID = 0049
REVISION_ID = 0000
/* QUALITY DATA ELEMENTS */
DATA_QUALITY_ID = 1
DATA_QUALITY_DESC = "Data calculated based on original SPICE kernels"
/* TIME DATA ELEMENTS */
SPACECRAFT_CLOCK_START_COUNT = "1/0129041142.09067"
SPACECRAFT_CLOCK_STOP_COUNT = "1/0129041304.42378"
START_TIME = 2007-06-04T12:45:46.257Z
STOP_TIME = 2007-06-04T12:47:21.768Z
/* ORBITAL DATA ELEMENTS */
ASCENDING_NODE_LONGITUDE = 136.5
MAXIMUM_RESOLUTION = 31.5
FOOTPRINT_POINT_LATITUDE = (-76.4172,-76.3709,-76.3209,-76.2877, -76.2459,-76.2169,-76.1869,-76.156, -76.112,-76.0788,-75.9238,-75.8127, -75.7031,-75.5921,-75.4821,-75.3719, -75.206,-75.0947,-74.9294,-74.7682, -74.6608,-74.4976,-74.3888,-74.2792, -74.1148,-73.9006,-73.6837,-73.5743, -73.4107,-73.2493,-73.029,-72.92, -72.757,-72.5392,-72.3216,-72.1579, -71.9412,-71.8303,-71.7195,-71.6093, -71.4983,-71.388,-71.2774,-71.1666, -71.0556,-70.9445,-70.8338,-70.723, -70.612,-70.5005,-70.5219,-70.5669, -70.6006,-70.6408,-70.6659,-70.6878, -70.7037,-70.8237,-70.9371,-71.0501, -71.1632,-71.2761,-71.389,-71.5017, -71.6708,-71.8396,-71.952,-72.0646, -72.2333,-72.3458,-72.4618,-72.6317, -72.7436,-72.8551,-73.022,-73.1329, -73.3014,-73.4134,-73.5248,-73.7457, -73.9108,-74.0215,-74.2968,-74.464, -74.5765,-74.6873,-74.9029,-75.0171, -75.1326,-75.2461,-75.3593,-75.4749, -75.5901,-75.756,-75.8713,-75.9872, -76.1022,-76.2178,-76.3342,-76.4172)
FOOTPRINT_POINT_LONGITUDE = (148.649,147.722,146.8,146.228,145.544, 145.091,144.639,144.188,143.571,143.124 ,143.167,143.31,143.448,143.585,143.719 ,143.852,144.047,144.175,144.36,144.54, 144.658,144.831,144.944,145.056,145.22, 145.429,145.632,145.731,145.877,146.022 ,146.208,146.3,146.436,146.614,146.787, 146.914,147.08,147.161,147.241,147.32, 147.398,147.475,147.552,147.627,147.702 ,147.775,147.848,147.92,147.991,148.062 ,148.552,149.261,149.821,150.533, 151.022,151.474,151.813,151.9,151.861, 151.821,151.781,151.74,151.699,151.658, 151.594,151.53,151.486,151.441,151.373, 151.327,151.275,151.202,151.154,151.105 ,151.032,150.983,150.904,150.851, 150.798,150.692,150.611,150.555,150.414 ,150.324,150.263,150.205,150.094, 150.027,149.956,149.887,149.818,149.746 ,149.673,149.575,149.499,149.421, 149.342,149.261,149.181,148.649)
ORBIT_NUMBER = 4385
ORBITAL_ECCENTRICITY = 0.571
ORBITAL_INCLINATION = 86.69
ORBITAL_SEMIMAJOR_AXIS = 8562.92
PERIAPSIS_ALTITUDE = 292.87
PERIAPSIS_ARGUMENT_ANGLE = 305.8
PERIAPSIS_TIME = 2007-06-04T12:52:09.000Z
SPACECRAFT_ORIENTATION = (0.0,1.0,0.0)
^MEX_ORIENTATION_DESC = "MEX_ORIENTATION_DESC.TXT"
SPACECRAFT_POINTING_MODE = ACROSSTRACK
^MEX_POINTING_DESC = "MEX_POINTING_DESC.TXT"
RIGHT_ASCENSION = -1e+32
DECLINATION = -1e+32
OFFSET_ANGLE = 0.1
SPACECRAFT_SOLAR_DISTANCE = 2.06666e+08
TARGET_NAME = MARS
/* CAMERA DATA ELEMENTS */
DETECTOR_TEMPERATURE = 19.1861
FOCAL_PLANE_TEMPERATURE = 10.2145
INST_CMPRS_NAME = "DISCRETE COSINE TRANSFORMATION (DCT)"
INST_CMPRS_RATIO = 13.0779
INST_CMPRS_QUALITY = 0
INST_CMPRS_QUANTZ_TBL_ID = 0
INSTRUMENT_TEMPERATURE = 11.6418
LENS_TEMPERATURE = 10.8262
MACROPIXEL_SIZE = 2
MISSING_FRAMES = 0
PIXEL_SUBSAMPLING_FLAG = N
SIGNAL_CHAIN_ID = 1
/* RADIOMETRIC DATA ELEMENTS */
BANDWIDTH = 178.0
CENTER_FILTER_WAVELENGTH = 679.0
RADIANCE_OFFSET = 6.56786
RADIANCE_SCALING_FACTOR = 0.0156906
REFLECTANCE_SCALING_FACTOR = 0.000354903
MEX:REFLECTANCE_OFFSET = 0.148557
/* IMAGE OBJECT DEFINITIONS */
OBJECT = IMAGE
  INTERCHANGE_FORMAT = BINARY
  LINES = 13756
  LINE_SAMPLES = 5627
  SAMPLE_TYPE = UNSIGNED_INTEGER
  SAMPLE_BITS = 8
  BANDS = 1
  BAND_STORAGE_TYPE = BAND_SEQUENTIAL
  MAXIMUM = 255
  MEAN = 109.038
  MINIMUM = 1
  STANDARD_DEVIATION = 43.2417
END_OBJECT = IMAGE
/* MAP OBJECT DEFINITIONS */
OBJECT = IMAGE_MAP_PROJECTION
  ^DATA_SET_MAP_PROJECTION_CATALOG= "DSMAP.CAT"
  A_AXIS_RADIUS = 3396.0
  B_AXIS_RADIUS = 3396.0
  C_AXIS_RADIUS = 3396.0
  CENTER_LATITUDE = 0.0
  CENTER_LONGITUDE = 148.0
  COORDINATE_SYSTEM_NAME = PLANETOGRAPHIC
  COORDINATE_SYSTEM_TYPE = "BODY-FIXED ROTATING"
  EASTERNMOST_LONGITUDE = 151.9
  FIRST_STANDARD_PARALLEL = "N/A"
  LINE_FIRST_PIXEL = 1
  LINE_LAST_PIXEL = 13756
  LINE_PROJECTION_OFFSET = -167120.25
  MAP_PROJECTION_ROTATION = 0.0
  MAP_PROJECTION_TYPE = SINUSOIDAL
  MAP_RESOLUTION = 2370.85521546667
  MAP_SCALE = 0.025
  MAXIMUM_LATITUDE = -70.5005
  MINIMUM_LATITUDE = -76.41719999999999
  POSITIVE_LONGITUDE_DIRECTION = EAST
  REFERENCE_LATITUDE = "N/A"
  REFERENCE_LONGITUDE = "N/A"
  SAMPLE_FIRST_PIXEL = 1
  SAMPLE_LAST_PIXEL = 5627
  SAMPLE_PROJECTION_OFFSET = 2673.25
  SECOND_STANDARD_PARALLEL = "N/A"
  WESTERNMOST_LONGITUDE = 143.124
END_OBJECT = IMAGE_MAP_PROJECTION
/* The JPEG2000 image data file associated with this label. */
OBJECT = COMPRESSED_FILE
  FILE_NAME = "H4385_0000_S23.JP2"
  RECORD_TYPE = UNDEFINED
  FILE_RECORDS = UNK
  ENCODING_TYPE = "JP2"
  INTERCHANGE_FORMAT = BINARY
  UNCOMPRESSED_FILE_NAME = "H4385_0000_S23.IMG"
  REQUIRED_STORAGE_BYTES = "77433147"
  ^DESCRIPTION = "JP2INFO.TXT"
END_OBJECT = COMPRESSED_FILE
END
