PDS_VERSION_ID = PDS3
/* FILE DATA ELEMENTS */
RECORD_TYPE = STREAM
/* POINTERS TO DATA OBJECTS */
^COMPRESSED_FILE = "H4385_0001_GR3.JP2"
/* IDENTIFICATION DATA ELEMENTS */
DATA_SET_ID = "MEX-M-HRSC-5-REFDR-MAPPROJECTED-V3.0"
DATA_SET_NAME = "MARS EXPRESS HRSC MAP PROJECTED REFDR V3.0"
DETECTOR_ID = MEX_HRSC_GREEN
EVENT_TYPE = "MARS-REGIONAL-MAPPING-Vo-Te-Fl"
INSTRUMENT_HOST_ID = MEX
INSTRUMENT_HOST_NAME = "MARS EXPRESS"
INSTRUMENT_ID = HRSC
INSTRUMENT_NAME = "HIGH RESOLUTION STEREO CAMERA"
MISSION_NAME = "MARS EXPRESS"
MISSION_PHASE_NAME = ME_Phase_7
PROCESSING_LEVEL_ID = 3
PRODUCT_CREATION_TIME = 2016-04-21T11:52:47.000Z
PRODUCT_ID = "H4385_0001_GR3.JP2"
RELEASE_ID = 0049
REVISION_ID = 0000
/* QUALITY DATA ELEMENTS */
DATA_QUALITY_ID = 1
DATA_QUALITY_DESC = "Data calculated based on original SPICE kernels"
/* TIME DATA ELEMENTS */
SPACECRAFT_CLOCK_START_COUNT = "1/0129041435.08413"
SPACECRAFT_CLOCK_STOP_COUNT = "1/0129041706.64522"
START_TIME = 2007-06-04T12:51:10.418Z
STOP_TIME = 2007-06-04T12:54:45.597Z
/* ORBITAL DATA ELEMENTS */
ASCENDING_NODE_LONGITUDE = 136.5
MAXIMUM_RESOLUTION = 46.4
FOOTPRINT_POINT_LATITUDE = (-58.2248,-58.2109,-58.1867,-58.1695, -57.8836,-57.5957,-57.3079,-56.8866, -56.4704,-56.0541,-55.7766,-55.499, -55.2212,-54.9436,-54.527,-54.1106, -53.694,-53.2774,-52.9995,-52.5827, -52.3049,-52.0273,-51.75,-51.4726, -51.1958,-50.9184,-50.5028,-50.2256, -49.9484,-49.6716,-49.2413,-48.9532, -48.666,-48.2352,-47.8045,-47.5176, -47.2308,-46.9442,-46.6577,-46.2282, -45.9419,-45.6563,-45.3706,-45.0752, -44.7793,-44.4835,-44.1882,-43.9734, -43.9816,-43.9923,-44.0002,-44.0109, -44.3069,-44.6031,-44.8995,-45.1961, -45.4892,-45.9191,-46.2056,-46.4929, -46.7793,-47.0665,-47.3538,-47.6411, -47.9287,-48.2164,-48.6485,-48.9372, -49.2254,-49.5136,-49.7974,-50.0753, -50.3531,-50.6311,-50.9091,-51.187, -51.4655,-51.7437,-52.1603,-52.439, -52.857,-53.1356,-53.4142,-53.6927, -53.9712,-54.3891,-54.6685,-54.9467, -55.2254,-55.5042,-55.7829,-56.0615, -56.3401,-56.6185,-56.8971,-57.1756, -57.4621,-57.7513,-58.185,-58.2248)
FOOTPRINT_POINT_LONGITUDE = (153.898,153.551,152.996,152.631, 152.527,152.579,152.63,152.702,152.771, 152.837,152.879,152.922,152.963,153.004 ,153.062,153.118,153.173,153.226, 153.262,153.313,153.346,153.378,153.407 ,153.437,153.464,153.493,153.533,153.56 ,153.587,153.612,153.65,153.678,153.702 ,153.737,153.773,153.795,153.817, 153.838,153.859,153.889,153.91,153.928, 153.946,153.964,153.982,154.0,154.016, 154.125,154.392,154.771,155.078,155.529 ,155.515,155.5,155.484,155.469,155.453, 155.43,155.414,155.398,155.381,155.364, 155.347,155.329,155.312,155.294,155.267 ,155.25,155.231,155.211,155.189,155.17, 155.15,155.13,155.11,155.088,155.068, 155.046,155.011,154.989,154.955,154.932 ,154.908,154.884,154.859,154.82,154.796 ,154.769,154.742,154.715,154.687, 154.658,154.629,154.599,154.569,154.538 ,154.505,154.472,154.421,153.898)
ORBIT_NUMBER = 4385
ORBITAL_ECCENTRICITY = 0.571
ORBITAL_INCLINATION = 86.69
ORBITAL_SEMIMAJOR_AXIS = 8562.92
PERIAPSIS_ALTITUDE = 292.87
PERIAPSIS_ARGUMENT_ANGLE = 305.8
PERIAPSIS_TIME = 2007-06-04T12:52:09.000Z
SPACECRAFT_ORIENTATION = (0.0,1.0,0.0)
^MEX_ORIENTATION_DESC = "MEX_ORIENTATION_DESC.TXT"
SPACECRAFT_POINTING_MODE = ACROSSTRACK
^MEX_POINTING_DESC = "MEX_POINTING_DESC.TXT"
RIGHT_ASCENSION = -1e+32
DECLINATION = -1e+32
OFFSET_ANGLE = 0.1
SPACECRAFT_SOLAR_DISTANCE = 2.06666e+08
TARGET_NAME = MARS
/* CAMERA DATA ELEMENTS */
DETECTOR_TEMPERATURE = 19.1861
FOCAL_PLANE_TEMPERATURE = 10.4184
INST_CMPRS_NAME = "DISCRETE COSINE TRANSFORMATION (DCT)"
INST_CMPRS_RATIO = 19.1986
INST_CMPRS_QUALITY = 0
INST_CMPRS_QUANTZ_TBL_ID = 0
INSTRUMENT_TEMPERATURE = 13.0691
LENS_TEMPERATURE = 10.8262
MACROPIXEL_SIZE = 4
MISSING_FRAMES = 0
PIXEL_SUBSAMPLING_FLAG = N
SIGNAL_CHAIN_ID = 2
/* RADIOMETRIC DATA ELEMENTS */
BANDWIDTH = 88.0
CENTER_FILTER_WAVELENGTH = 538.0
RADIANCE_OFFSET = 2.1657
RADIANCE_SCALING_FACTOR = 0.00478858
REFLECTANCE_SCALING_FACTOR = 0.000176091
MEX:REFLECTANCE_OFFSET = 0.0796395
/* IMAGE OBJECT DEFINITIONS */
OBJECT = IMAGE
  INTERCHANGE_FORMAT = BINARY
  LINES = 16942
  LINE_SAMPLES = 2294
  SAMPLE_TYPE = UNSIGNED_INTEGER
  SAMPLE_BITS = 8
  BANDS = 1
  BAND_STORAGE_TYPE = BAND_SEQUENTIAL
  MAXIMUM = 255
  MEAN = 144.074
  MINIMUM = 1
  STANDARD_DEVIATION = 47.4901
END_OBJECT = IMAGE
/* MAP OBJECT DEFINITIONS */
OBJECT = IMAGE_MAP_PROJECTION
  ^DATA_SET_MAP_PROJECTION_CATALOG= "DSMAP.CAT"
  A_AXIS_RADIUS = 3396.0
  B_AXIS_RADIUS = 3396.0
  C_AXIS_RADIUS = 3396.0
  CENTER_LATITUDE = 0.0
  CENTER_LONGITUDE = 154.0
  COORDINATE_SYSTEM_NAME = PLANETOGRAPHIC
  COORDINATE_SYSTEM_TYPE = "BODY-FIXED ROTATING"
  EASTERNMOST_LONGITUDE = 155.529
  FIRST_STANDARD_PARALLEL = "N/A"
  LINE_FIRST_PIXEL = 1
  LINE_LAST_PIXEL = 16942
  LINE_PROJECTION_OFFSET = -52118.625
  MAP_PROJECTION_ROTATION = 0.0
  MAP_PROJECTION_TYPE = SINUSOIDAL
  MAP_RESOLUTION = 1185.42760773333
  MAP_SCALE = 0.05
  MAXIMUM_LATITUDE = -43.9734
  MINIMUM_LATITUDE = -58.2248
  POSITIVE_LONGITUDE_DIRECTION = EAST
  REFERENCE_LATITUDE = "N/A"
  REFERENCE_LONGITUDE = "N/A"
  SAMPLE_FIRST_PIXEL = 1
  SAMPLE_LAST_PIXEL = 2294
  SAMPLE_PROJECTION_OFFSET = 969.375
  SECOND_STANDARD_PARALLEL = "N/A"
  WESTERNMOST_LONGITUDE = 152.527
END_OBJECT = IMAGE_MAP_PROJECTION
/* The JPEG2000 image data file associated with this label. */
OBJECT = COMPRESSED_FILE
  FILE_NAME = "H4385_0001_GR3.JP2"
  RECORD_TYPE = UNDEFINED
  FILE_RECORDS = UNK
  ENCODING_TYPE = "JP2"
  INTERCHANGE_FORMAT = BINARY
  UNCOMPRESSED_FILE_NAME = "H4385_0001_GR3.IMG"
  REQUIRED_STORAGE_BYTES = "38887888"
  ^DESCRIPTION = "JP2INFO.TXT"
END_OBJECT = COMPRESSED_FILE
END
