PDS_VERSION_ID = PDS3
/* FILE DATA ELEMENTS */
RECORD_TYPE = STREAM
/* POINTERS TO DATA OBJECTS */
^COMPRESSED_FILE = "H4391_0000_GR3.JP2"
/* IDENTIFICATION DATA ELEMENTS */
DATA_SET_ID = "MEX-M-HRSC-5-REFDR-MAPPROJECTED-V3.0"
DATA_SET_NAME = "MARS EXPRESS HRSC MAP PROJECTED REFDR V3.0"
DETECTOR_ID = MEX_HRSC_GREEN
EVENT_TYPE = "MARS-REGIONAL-MAPPING-Im-Gl-La"
INSTRUMENT_HOST_ID = MEX
INSTRUMENT_HOST_NAME = "MARS EXPRESS"
INSTRUMENT_ID = HRSC
INSTRUMENT_NAME = "HIGH RESOLUTION STEREO CAMERA"
MISSION_NAME = "MARS EXPRESS"
MISSION_PHASE_NAME = ME_Phase_7
PROCESSING_LEVEL_ID = 3
PRODUCT_CREATION_TIME = 2016-04-21T11:52:47.000Z
PRODUCT_ID = "H4391_0000_GR3.JP2"
RELEASE_ID = 0049
REVISION_ID = 0000
/* QUALITY DATA ELEMENTS */
DATA_QUALITY_ID = 2
DATA_QUALITY_DESC = "Data calculated based on photogrammetrically improved orbit and attitude data"
/* TIME DATA ELEMENTS */
SPACECRAFT_CLOCK_START_COUNT = "1/0129186262.09094"
SPACECRAFT_CLOCK_STOP_COUNT = "1/0129186580.08328"
START_TIME = 2007-06-06T05:05:16.031Z
STOP_TIME = 2007-06-06T05:09:20.045Z
/* ORBITAL DATA ELEMENTS */
ASCENDING_NODE_LONGITUDE = 136.38
MAXIMUM_RESOLUTION = 49
FOOTPRINT_POINT_LATITUDE = (-79.3066,-79.2005,-79.0927,-78.6906, -78.3324,-77.9887,-77.6517,-77.3139, -76.9732,-76.6316,-76.289,-75.945, -75.5998,-75.2535,-74.9059,-74.5573, -74.2077,-73.8572,-73.5238,-73.23, -72.9342,-72.49,-72.0433,-71.7455, -71.4467,-71.1477,-70.8475,-70.5477, -70.2479,-69.7954,-69.4934,-69.1941, -68.9014,-68.6084,-68.3149,-68.0211, -67.7271,-67.4329,-67.0054,-66.5773, -66.2916,-66.0055,-65.7192,-65.2898, -65.0128,-64.7356,-64.4581,-64.1805, -63.9026,-63.575,-63.6116,-63.6546, -63.9468,-64.2267,-64.5063,-64.7857, -65.0651,-65.3443,-65.6304,-65.9191, -66.2079,-66.4962,-66.9283,-67.2161, -67.5037,-67.9473,-68.2442,-68.689, -68.9852,-69.2813,-69.5823,-69.8875, -70.3453,-70.652,-70.9556,-71.4104, -71.7136,-72.0168,-72.3191,-72.6214, -72.9233,-73.2248,-73.5259,-73.825, -74.181,-74.5388,-74.8954,-75.2519, -75.6073,-76.1406,-76.4943,-76.8484, -77.2003,-77.5527,-77.9019,-78.2522, -78.6091,-78.9829,-79.338,-79.3066)
FOOTPRINT_POINT_LONGITUDE = (276.84,274.681,272.779,272.209,272.817 ,273.363,273.866,274.336,274.791, 275.218,275.622,276.007,276.373,276.721 ,277.053,277.369,277.671,277.958,278.22 ,278.437,278.651,278.956,279.248, 279.432,279.611,279.784,279.952,280.113 ,280.267,280.493,280.637,280.774, 280.905,281.031,281.153,281.272,281.387 ,281.499,281.656,281.806,281.902, 281.996,282.087,282.219,282.302,282.382 ,282.46,282.536,282.61,282.871,283.67, 284.774,285.063,285.023,284.981,284.939 ,284.895,284.85,284.803,284.754,284.705 ,284.653,284.573,284.517,284.461,284.37 ,284.307,284.208,284.14,284.07,283.998, 283.92,283.804,283.736,283.646,283.506, 283.411,283.317,283.215,283.111,283.005 ,282.893,282.778,282.646,282.49,282.335 ,282.168,281.997,281.814,281.534, 281.327,281.118,280.885,280.65,280.379, 280.112,279.831,279.503,279.153,276.84)
ORBIT_NUMBER = 4391
ORBITAL_ECCENTRICITY = 0.571
ORBITAL_INCLINATION = 86.68
ORBITAL_SEMIMAJOR_AXIS = 8560.53
PERIAPSIS_ALTITUDE = 292.14
PERIAPSIS_ARGUMENT_ANGLE = 304.74
PERIAPSIS_TIME = 2007-06-06T05:11:24.000Z
SPACECRAFT_ORIENTATION = (0.0,1.0,0.0)
^MEX_ORIENTATION_DESC = "MEX_ORIENTATION_DESC.TXT"
SPACECRAFT_POINTING_MODE = ACROSSTRACK
^MEX_POINTING_DESC = "MEX_POINTING_DESC.TXT"
RIGHT_ASCENSION = -1e+32
DECLINATION = -1e+32
OFFSET_ANGLE = -0.4
SPACECRAFT_SOLAR_DISTANCE = 2.0667e+08
TARGET_NAME = MARS
/* CAMERA DATA ELEMENTS */
DETECTOR_TEMPERATURE = 18.7783
FOCAL_PLANE_TEMPERATURE = 9.195
INST_CMPRS_NAME = "DISCRETE COSINE TRANSFORMATION (DCT)"
INST_CMPRS_RATIO = 11.9482
INST_CMPRS_QUALITY = 0
INST_CMPRS_QUANTZ_TBL_ID = 0
INSTRUMENT_TEMPERATURE = 11.234
LENS_TEMPERATURE = 8.7872
MACROPIXEL_SIZE = 4
MISSING_FRAMES = 2
PIXEL_SUBSAMPLING_FLAG = N
SIGNAL_CHAIN_ID = 2
/* RADIOMETRIC DATA ELEMENTS */
BANDWIDTH = 88.0
CENTER_FILTER_WAVELENGTH = 538.0
RADIANCE_OFFSET = 2.21435
RADIANCE_SCALING_FACTOR = 0.0162734
REFLECTANCE_SCALING_FACTOR = 0.000598441
MEX:REFLECTANCE_OFFSET = 0.0814307
/* IMAGE OBJECT DEFINITIONS */
OBJECT = IMAGE
  INTERCHANGE_FORMAT = BINARY
  LINES = 18767
  LINE_SAMPLES = 3986
  SAMPLE_TYPE = UNSIGNED_INTEGER
  SAMPLE_BITS = 8
  BANDS = 1
  BAND_STORAGE_TYPE = BAND_SEQUENTIAL
  MAXIMUM = 255
  MEAN = 117.051
  MINIMUM = 1
  STANDARD_DEVIATION = 103.986
END_OBJECT = IMAGE
/* MAP OBJECT DEFINITIONS */
OBJECT = IMAGE_MAP_PROJECTION
  ^DATA_SET_MAP_PROJECTION_CATALOG= "DSMAP.CAT"
  A_AXIS_RADIUS = 3396.0
  B_AXIS_RADIUS = 3396.0
  C_AXIS_RADIUS = 3396.0
  CENTER_LATITUDE = 0.0
  CENTER_LONGITUDE = 282.0
  COORDINATE_SYSTEM_NAME = PLANETOGRAPHIC
  COORDINATE_SYSTEM_TYPE = "BODY-FIXED ROTATING"
  EASTERNMOST_LONGITUDE = 285.063
  FIRST_STANDARD_PARALLEL = "N/A"
  LINE_FIRST_PIXEL = 1
  LINE_LAST_PIXEL = 18767
  LINE_PROJECTION_OFFSET = -75365.375
  MAP_PROJECTION_ROTATION = 0.0
  MAP_PROJECTION_TYPE = SINUSOIDAL
  MAP_RESOLUTION = 1185.42760773333
  MAP_SCALE = 0.05
  MAXIMUM_LATITUDE = -63.575
  MINIMUM_LATITUDE = -79.33799999999999
  POSITIVE_LONGITUDE_DIRECTION = EAST
  REFERENCE_LATITUDE = "N/A"
  REFERENCE_LONGITUDE = "N/A"
  SAMPLE_FIRST_PIXEL = 1
  SAMPLE_LAST_PIXEL = 3986
  SAMPLE_PROJECTION_OFFSET = 2365.125
  SECOND_STANDARD_PARALLEL = "N/A"
  WESTERNMOST_LONGITUDE = 272.209
END_OBJECT = IMAGE_MAP_PROJECTION
/* The JPEG2000 image data file associated with this label. */
OBJECT = COMPRESSED_FILE
  FILE_NAME = "H4391_0000_GR3.JP2"
  RECORD_TYPE = UNDEFINED
  FILE_RECORDS = UNK
  ENCODING_TYPE = "JP2"
  INTERCHANGE_FORMAT = BINARY
  UNCOMPRESSED_FILE_NAME = "H4391_0000_GR3.IMG"
  REQUIRED_STORAGE_BYTES = "74829178"
  ^DESCRIPTION = "JP2INFO.TXT"
END_OBJECT = COMPRESSED_FILE
END
