PDS_VERSION_ID = PDS3
/* FILE DATA ELEMENTS */
RECORD_TYPE = STREAM
/* POINTERS TO DATA OBJECTS */
^COMPRESSED_FILE = "H4397_0000_S13.JP2"
/* IDENTIFICATION DATA ELEMENTS */
DATA_SET_ID = "MEX-M-HRSC-5-REFDR-MAPPROJECTED-V3.0"
DATA_SET_NAME = "MARS EXPRESS HRSC MAP PROJECTED REFDR V3.0"
DETECTOR_ID = MEX_HRSC_S1
EVENT_TYPE = "MARS-REGIONAL-MAPPING-Vo-Te-Gl"
INSTRUMENT_HOST_ID = MEX
INSTRUMENT_HOST_NAME = "MARS EXPRESS"
INSTRUMENT_ID = HRSC
INSTRUMENT_NAME = "HIGH RESOLUTION STEREO CAMERA"
MISSION_NAME = "MARS EXPRESS"
MISSION_PHASE_NAME = ME_Phase_7
PROCESSING_LEVEL_ID = 3
PRODUCT_CREATION_TIME = 2016-04-21T11:52:47.000Z
PRODUCT_ID = "H4397_0000_S13.JP2"
RELEASE_ID = 0049
REVISION_ID = 0000
/* QUALITY DATA ELEMENTS */
DATA_QUALITY_ID = 1
DATA_QUALITY_DESC = "Data calculated based on original SPICE kernels"
/* TIME DATA ELEMENTS */
SPACECRAFT_CLOCK_START_COUNT = "1/0129331566.09059"
SPACECRAFT_CLOCK_STOP_COUNT = "1/0129331899.39949"
START_TIME = 2007-06-07T21:27:12.632Z
STOP_TIME = 2007-06-07T21:31:41.727Z
/* ORBITAL DATA ELEMENTS */
ASCENDING_NODE_LONGITUDE = 136.26
MAXIMUM_RESOLUTION = 24.6
FOOTPRINT_POINT_LATITUDE = (-71.1717,-71.1289,-71.0839,-71.0464, -70.9063,-70.5118,-70.1218,-69.7418, -69.3589,-68.7822,-68.2101,-67.8391, -67.2797,-66.7248,-66.1694,-65.7968, -65.4288,-65.0745,-64.7171,-64.3592, -64.0006,-63.6426,-63.2845,-62.926, -62.5684,-62.2088,-61.85,-61.4917, -61.1419,-60.7968,-60.4522,-60.1088, -59.7677,-59.4188,-59.0765,-58.5655, -58.0511,-57.7075,-57.3651,-57.0229, -56.5129,-56.173,-55.8336,-55.4935, -54.9851,-54.6463,-54.3074,-53.799, -53.4616,-53.2794,-53.2929,-53.311, -53.3333,-53.8407,-54.1793,-54.5195, -54.8588,-55.1988,-55.7086,-56.0493, -56.5611,-56.9027,-57.2444,-57.5873, -57.9304,-58.2747,-58.7904,-59.1354, -59.4799,-59.8219,-60.1701,-60.5174, -60.8625,-61.2096,-61.564,-61.9198, -62.4607,-62.8227,-63.3641,-63.9043, -64.2647,-64.6235,-64.9843,-65.3432, -65.7083,-66.0822,-66.6448,-67.0192, -67.392,-67.766,-68.1393,-68.5228, -68.9093,-69.2917,-69.6817,-70.2634, -70.6587,-70.8586,-71.0583,-71.1717)
FOOTPRINT_POINT_LONGITUDE = (51.997,51.0823,50.2043,49.5237,49.0466 ,49.281,49.5008,49.7051,49.9048,50.1915 ,50.4543,50.615,50.8528,51.0718,51.2791 ,51.4112,51.5363,51.6516,51.7662, 51.8775,51.9857,52.0898,52.1906,52.2884 ,52.3824,52.4752,52.5642,52.6502, 52.7319,52.8099,52.8852,52.9572,53.0253 ,53.0979,53.1631,53.2556,53.347,53.4064 ,53.4633,53.5185,53.5963,53.6465, 53.6949,53.7427,53.8109,53.8549,53.8978 ,53.9602,53.9996,54.257,54.5936,55.0993 ,55.7643,55.719,55.6879,55.6566,55.624, 55.5908,55.5392,55.504,55.4496,55.4123, 55.374,55.3351,55.2953,55.2549,55.1918, 55.1488,55.1044,55.0575,55.0122,54.9651 ,54.9157,54.8657,54.8158,54.7586,54.673 ,54.6144,54.5223,54.4252,54.3581,54.288 ,54.2166,54.142,54.0645,53.9828,53.8533 ,53.7645,53.6717,53.5762,53.4769, 53.3712,53.2603,53.1428,53.0248,52.8368 ,52.701,52.6302,52.5578,51.997)
ORBIT_NUMBER = 4397
ORBITAL_ECCENTRICITY = 0.571
ORBITAL_INCLINATION = 86.69
ORBITAL_SEMIMAJOR_AXIS = 8560.55
PERIAPSIS_ALTITUDE = 291.9
PERIAPSIS_ARGUMENT_ANGLE = 303.7
PERIAPSIS_TIME = 2007-06-07T21:30:33.000Z
SPACECRAFT_ORIENTATION = (0.0,1.0,0.0)
^MEX_ORIENTATION_DESC = "MEX_ORIENTATION_DESC.TXT"
SPACECRAFT_POINTING_MODE = NADIR
^MEX_POINTING_DESC = "MEX_POINTING_DESC.TXT"
RIGHT_ASCENSION = -1e+32
DECLINATION = -1e+32
OFFSET_ANGLE = -1e+32
SPACECRAFT_SOLAR_DISTANCE = 2.06679e+08
TARGET_NAME = MARS
/* CAMERA DATA ELEMENTS */
DETECTOR_TEMPERATURE = 17.9627
FOCAL_PLANE_TEMPERATURE = 8.5833
INST_CMPRS_NAME = "DISCRETE COSINE TRANSFORMATION (DCT)"
INST_CMPRS_RATIO = 9.4959
INST_CMPRS_QUALITY = 0
INST_CMPRS_QUANTZ_TBL_ID = 0
INSTRUMENT_TEMPERATURE = 11.234
LENS_TEMPERATURE = 8.7872
MACROPIXEL_SIZE = 2
MISSING_FRAMES = 1
PIXEL_SUBSAMPLING_FLAG = N
SIGNAL_CHAIN_ID = 1
/* RADIOMETRIC DATA ELEMENTS */
BANDWIDTH = 180.0
CENTER_FILTER_WAVELENGTH = 677.0
RADIANCE_OFFSET = 6.82459
RADIANCE_SCALING_FACTOR = 0.0273038
REFLECTANCE_SCALING_FACTOR = 0.000608495
MEX:REFLECTANCE_OFFSET = 0.152094
/* IMAGE OBJECT DEFINITIONS */
OBJECT = IMAGE
  INTERCHANGE_FORMAT = BINARY
  LINES = 42765
  LINE_SAMPLES = 6414
  SAMPLE_TYPE = UNSIGNED_INTEGER
  SAMPLE_BITS = 8
  BANDS = 1
  BAND_STORAGE_TYPE = BAND_SEQUENTIAL
  MAXIMUM = 255
  MEAN = 105.389
  MINIMUM = 1
  STANDARD_DEVIATION = 32.3782
END_OBJECT = IMAGE
/* MAP OBJECT DEFINITIONS */
OBJECT = IMAGE_MAP_PROJECTION
  ^DATA_SET_MAP_PROJECTION_CATALOG= "DSMAP.CAT"
  A_AXIS_RADIUS = 3396.0
  B_AXIS_RADIUS = 3396.0
  C_AXIS_RADIUS = 3396.0
  CENTER_LATITUDE = 0.0
  CENTER_LONGITUDE = 54.0
  COORDINATE_SYSTEM_NAME = PLANETOGRAPHIC
  COORDINATE_SYSTEM_TYPE = "BODY-FIXED ROTATING"
  EASTERNMOST_LONGITUDE = 55.7643
  FIRST_STANDARD_PARALLEL = "N/A"
  LINE_FIRST_PIXEL = 1
  LINE_LAST_PIXEL = 42765
  LINE_PROJECTION_OFFSET = -126273.25
  MAP_PROJECTION_ROTATION = 0.0
  MAP_PROJECTION_TYPE = SINUSOIDAL
  MAP_RESOLUTION = 2370.85521546667
  MAP_SCALE = 0.025
  MAXIMUM_LATITUDE = -53.2794
  MINIMUM_LATITUDE = -71.1717
  POSITIVE_LONGITUDE_DIRECTION = EAST
  REFERENCE_LATITUDE = "N/A"
  REFERENCE_LONGITUDE = "N/A"
  SAMPLE_FIRST_PIXEL = 1
  SAMPLE_LAST_PIXEL = 6414
  SAMPLE_PROJECTION_OFFSET = 3941.75
  SECOND_STANDARD_PARALLEL = "N/A"
  WESTERNMOST_LONGITUDE = 49.0466
END_OBJECT = IMAGE_MAP_PROJECTION
/* The JPEG2000 image data file associated with this label. */
OBJECT = COMPRESSED_FILE
  FILE_NAME = "H4397_0000_S13.JP2"
  RECORD_TYPE = UNDEFINED
  FILE_RECORDS = UNK
  ENCODING_TYPE = "JP2"
  INTERCHANGE_FORMAT = BINARY
  UNCOMPRESSED_FILE_NAME = "H4397_0000_S13.IMG"
  REQUIRED_STORAGE_BYTES = "274326780"
  ^DESCRIPTION = "JP2INFO.TXT"
END_OBJECT = COMPRESSED_FILE
END
