PDS_VERSION_ID = PDS3
/* FILE DATA ELEMENTS */
RECORD_TYPE = STREAM
/* POINTERS TO DATA OBJECTS */
^COMPRESSED_FILE = "H4399_0000_GR3.JP2"
/* IDENTIFICATION DATA ELEMENTS */
DATA_SET_ID = "MEX-M-HRSC-5-REFDR-MAPPROJECTED-V3.0"
DATA_SET_NAME = "MARS EXPRESS HRSC MAP PROJECTED REFDR V3.0"
DETECTOR_ID = MEX_HRSC_GREEN
EVENT_TYPE = "MARS-REGIONAL-MAPPING-Gl-Pf-La"
INSTRUMENT_HOST_ID = MEX
INSTRUMENT_HOST_NAME = "MARS EXPRESS"
INSTRUMENT_ID = HRSC
INSTRUMENT_NAME = "HIGH RESOLUTION STEREO CAMERA"
MISSION_NAME = "MARS EXPRESS"
MISSION_PHASE_NAME = ME_Phase_7
PROCESSING_LEVEL_ID = 3
PRODUCT_CREATION_TIME = 2016-04-21T11:52:47.000Z
PRODUCT_ID = "H4399_0000_GR3.JP2"
RELEASE_ID = 0049
REVISION_ID = 0000
/* QUALITY DATA ELEMENTS */
DATA_QUALITY_ID = 1
DATA_QUALITY_DESC = "Data calculated based on original SPICE kernels"
/* TIME DATA ELEMENTS */
SPACECRAFT_CLOCK_START_COUNT = "1/0129379776.08266"
SPACECRAFT_CLOCK_STOP_COUNT = "1/0129380082.17027"
START_TIME = 2007-06-08T10:50:31.621Z
STOP_TIME = 2007-06-08T10:54:21.575Z
/* ORBITAL DATA ELEMENTS */
ASCENDING_NODE_LONGITUDE = 136.22
MAXIMUM_RESOLUTION = 49.9
FOOTPRINT_POINT_LATITUDE = (-81.4326,-81.3401,-81.1676,-80.8697, -80.565,-80.1054,-79.8016,-79.4956, -79.1904,-78.8883,-78.5844,-78.2787, -77.9714,-77.5075,-77.1967,-76.8843, -76.5706,-76.2558,-75.9397,-75.6225, -75.3043,-74.9898,-74.7216,-74.4527, -74.1832,-73.913,-73.6423,-73.3709, -73.0991,-72.8267,-72.4169,-72.0061, -71.7317,-71.4566,-71.1812,-70.9054, -70.4996,-70.2316,-69.8293,-69.5606, -69.2914,-68.8907,-68.6298,-68.3687, -68.1072,-67.8457,-67.5837,-67.3214, -66.9275,-66.8329,-66.8819,-66.9144, -67.1744,-67.4399,-67.7044,-67.9692, -68.2338,-68.4982,-68.7622,-69.1584, -69.5677,-69.8401,-70.1133,-70.3842, -70.6573,-71.0687,-71.3473,-71.6272, -71.9067,-72.1859,-72.4648,-72.7433, -73.0214,-73.2991,-73.5766,-73.8536, -74.1304,-74.4067,-74.6826,-74.9581, -75.2332,-75.552,-75.8793,-76.2061, -76.5319,-76.857,-77.1814,-77.5051, -77.8281,-78.15,-78.6318,-78.9518, -79.4307,-79.9114,-80.2362,-80.5589, -80.8855,-81.2148,-81.5424,-81.4326)
FOOTPRINT_POINT_LONGITUDE = (204.639,202.987,200.265,198.522, 199.452,200.731,201.505,202.234,202.915 ,203.546,204.145,204.712,205.25,206.007 ,206.475,206.927,207.357,207.765, 208.157,208.53,208.886,209.222,209.497, 209.761,210.016,210.262,210.5,210.73, 210.952,211.166,211.477,211.772,211.96, 212.144,212.322,212.493,212.735,212.89, 213.111,213.253,213.392,213.591,213.716 ,213.837,213.955,214.068,214.18,214.29, 214.449,215.475,216.499,217.252,217.19, 217.126,217.058,216.989,216.919,216.846 ,216.772,216.657,216.535,216.45,216.366 ,216.272,216.185,216.042,215.932, 215.826,215.717,215.604,215.487,215.366 ,215.241,215.112,214.979,214.84,214.698 ,214.549,214.396,214.236,214.071,213.87 ,213.656,213.432,213.196,212.947, 212.686,212.413,212.124,211.818,211.331 ,210.981,210.422,209.8,209.346,208.854, 208.325,207.751,207.132,204.639)
ORBIT_NUMBER = 4399
ORBITAL_ECCENTRICITY = 0.571
ORBITAL_INCLINATION = 86.7
ORBITAL_SEMIMAJOR_AXIS = 8556.91
PERIAPSIS_ALTITUDE = 291.62
PERIAPSIS_ARGUMENT_ANGLE = 303.33
PERIAPSIS_TIME = 2007-06-08T10:56:54.000Z
SPACECRAFT_ORIENTATION = (0.0,1.0,0.0)
^MEX_ORIENTATION_DESC = "MEX_ORIENTATION_DESC.TXT"
SPACECRAFT_POINTING_MODE = NADIR
^MEX_POINTING_DESC = "MEX_POINTING_DESC.TXT"
RIGHT_ASCENSION = -1e+32
DECLINATION = -1e+32
OFFSET_ANGLE = -1e+32
SPACECRAFT_SOLAR_DISTANCE = 2.06683e+08
TARGET_NAME = MARS
/* CAMERA DATA ELEMENTS */
DETECTOR_TEMPERATURE = 18.5744
FOCAL_PLANE_TEMPERATURE = 9.3989
INST_CMPRS_NAME = "DISCRETE COSINE TRANSFORMATION (DCT)"
INST_CMPRS_RATIO = 10.1073
INST_CMPRS_QUALITY = 0
INST_CMPRS_QUANTZ_TBL_ID = 0
INSTRUMENT_TEMPERATURE = 11.4379
LENS_TEMPERATURE = 8.5833
MACROPIXEL_SIZE = 4
MISSING_FRAMES = 0
PIXEL_SUBSAMPLING_FLAG = N
SIGNAL_CHAIN_ID = 2
/* RADIOMETRIC DATA ELEMENTS */
BANDWIDTH = 88.0
CENTER_FILTER_WAVELENGTH = 538.0
RADIANCE_OFFSET = 1.90794
RADIANCE_SCALING_FACTOR = 0.0100241
REFLECTANCE_SCALING_FACTOR = 0.000368677
MEX:REFLECTANCE_OFFSET = 0.0701721
/* IMAGE OBJECT DEFINITIONS */
OBJECT = IMAGE
  INTERCHANGE_FORMAT = BINARY
  LINES = 17519
  LINE_SAMPLES = 4774
  SAMPLE_TYPE = UNSIGNED_INTEGER
  SAMPLE_BITS = 8
  BANDS = 1
  BAND_STORAGE_TYPE = BAND_SEQUENTIAL
  MAXIMUM = 255
  MEAN = 49.8651
  MINIMUM = 1
  STANDARD_DEVIATION = 32.2875
END_OBJECT = IMAGE
/* MAP OBJECT DEFINITIONS */
OBJECT = IMAGE_MAP_PROJECTION
  ^DATA_SET_MAP_PROJECTION_CATALOG= "DSMAP.CAT"
  A_AXIS_RADIUS = 3396.0
  B_AXIS_RADIUS = 3396.0
  C_AXIS_RADIUS = 3396.0
  CENTER_LATITUDE = 0.0
  CENTER_LONGITUDE = 213.0
  COORDINATE_SYSTEM_NAME = PLANETOGRAPHIC
  COORDINATE_SYSTEM_TYPE = "BODY-FIXED ROTATING"
  EASTERNMOST_LONGITUDE = 217.252
  FIRST_STANDARD_PARALLEL = "N/A"
  LINE_FIRST_PIXEL = 1
  LINE_LAST_PIXEL = 17519
  LINE_PROJECTION_OFFSET = -79180.875
  MAP_PROJECTION_ROTATION = 0.0
  MAP_PROJECTION_TYPE = SINUSOIDAL
  MAP_RESOLUTION = 1185.42760773333
  MAP_SCALE = 0.05
  MAXIMUM_LATITUDE = -66.8329
  MINIMUM_LATITUDE = -81.5424
  POSITIVE_LONGITUDE_DIRECTION = EAST
  REFERENCE_LATITUDE = "N/A"
  REFERENCE_LONGITUDE = "N/A"
  SAMPLE_FIRST_PIXEL = 1
  SAMPLE_LAST_PIXEL = 4774
  SAMPLE_PROJECTION_OFFSET = 2795.625
  SECOND_STANDARD_PARALLEL = "N/A"
  WESTERNMOST_LONGITUDE = 198.522
END_OBJECT = IMAGE_MAP_PROJECTION
/* The JPEG2000 image data file associated with this label. */
OBJECT = COMPRESSED_FILE
  FILE_NAME = "H4399_0000_GR3.JP2"
  RECORD_TYPE = UNDEFINED
  FILE_RECORDS = UNK
  ENCODING_TYPE = "JP2"
  INTERCHANGE_FORMAT = BINARY
  UNCOMPRESSED_FILE_NAME = "H4399_0000_GR3.IMG"
  REQUIRED_STORAGE_BYTES = "83659576"
  ^DESCRIPTION = "JP2INFO.TXT"
END_OBJECT = COMPRESSED_FILE
END
