PDS_VERSION_ID = PDS3
/* FILE DATA ELEMENTS */
RECORD_TYPE = STREAM
/* POINTERS TO DATA OBJECTS */
^COMPRESSED_FILE = "H4399_0000_RE3.JP2"
/* IDENTIFICATION DATA ELEMENTS */
DATA_SET_ID = "MEX-M-HRSC-5-REFDR-MAPPROJECTED-V3.0"
DATA_SET_NAME = "MARS EXPRESS HRSC MAP PROJECTED REFDR V3.0"
DETECTOR_ID = MEX_HRSC_RED
EVENT_TYPE = "MARS-REGIONAL-MAPPING-Gl-Pf-La"
INSTRUMENT_HOST_ID = MEX
INSTRUMENT_HOST_NAME = "MARS EXPRESS"
INSTRUMENT_ID = HRSC
INSTRUMENT_NAME = "HIGH RESOLUTION STEREO CAMERA"
MISSION_NAME = "MARS EXPRESS"
MISSION_PHASE_NAME = ME_Phase_7
PROCESSING_LEVEL_ID = 3
PRODUCT_CREATION_TIME = 2016-04-21T11:52:47.000Z
PRODUCT_ID = "H4399_0000_RE3.JP2"
RELEASE_ID = 0049
REVISION_ID = 0000
/* QUALITY DATA ELEMENTS */
DATA_QUALITY_ID = 1
DATA_QUALITY_DESC = "Data calculated based on original SPICE kernels"
/* TIME DATA ELEMENTS */
SPACECRAFT_CLOCK_START_COUNT = "1/0129379776.08266"
SPACECRAFT_CLOCK_STOP_COUNT = "1/0129380082.17027"
START_TIME = 2007-06-08T10:49:48.570Z
STOP_TIME = 2007-06-08T10:53:52.750Z
/* ORBITAL DATA ELEMENTS */
ASCENDING_NODE_LONGITUDE = 136.22
MAXIMUM_RESOLUTION = 53.7
FOOTPRINT_POINT_LATITUDE = (-81.6409,-81.5659,-81.4642,-81.371, -81.1981,-80.8696,-80.5678,-80.2636, -79.9626,-79.5071,-79.2055,-78.7517, -78.4529,-78.1523,-77.8521,-77.5561, -77.2552,-76.8101,-76.517,-76.2205, -75.9239,-75.6253,-75.3254,-75.0242, -74.5695,-74.2661,-73.9604,-73.6541, -73.3469,-72.893,-72.6337,-72.2447, -71.9839,-71.722,-71.46,-71.0658, -70.8021,-70.4048,-70.1399,-69.7383, -69.4705,-69.2037,-68.8024,-68.541, -68.1489,-67.8851,-67.6218,-67.3593, -67.098,-66.843,-66.8299,-66.8706, -66.9207,-67.2019,-67.4654,-67.7316, -67.9972,-68.262,-68.5267,-68.9219, -69.1922,-69.4634,-69.7349,-70.0016, -70.2738,-70.6752,-70.9428,-71.2123, -71.4858,-71.7527,-72.02,-72.2866, -72.5527,-72.951,-73.2235,-73.5391, -73.8541,-74.1676,-74.4807,-74.7933, -75.1049,-75.4162,-75.7254,-76.1876, -76.4951,-76.802,-77.2614,-77.5689, -77.8819,-78.3464,-78.6631,-79.1352, -79.4538,-79.7747,-80.0937,-80.4207, -80.9086,-81.2374,-81.5643,-81.6409)
FOOTPRINT_POINT_LONGITUDE = (206.013,204.535,202.725,201.223,198.74 ,198.126,199.071,199.956,200.771, 201.904,202.593,203.555,204.141,204.698 ,205.223,205.714,206.183,206.836, 207.244,207.633,208.007,208.365,208.708 ,209.038,209.507,209.806,210.092, 210.368,210.633,211.004,211.208,211.502 ,211.69,211.873,212.051,212.308,212.473 ,212.711,212.865,213.086,213.229, 213.369,213.569,213.695,213.877,213.994 ,214.108,214.22,214.329,214.432,214.975 ,215.689,216.752,217.233,217.169, 217.104,217.036,216.968,216.898,216.79, 216.712,216.634,216.552,216.475,216.387 ,216.258,216.169,216.074,215.968,215.87 ,215.767,215.661,215.552,215.382,215.26 ,215.114,214.962,214.806,214.643, 214.472,214.295,214.11,213.919,213.617, 213.403,213.18,212.822,212.569,212.294, 211.865,211.55,211.047,210.682,210.287, 209.873,209.411,208.66,208.108,207.514, 206.013)
ORBIT_NUMBER = 4399
ORBITAL_ECCENTRICITY = 0.571
ORBITAL_INCLINATION = 86.7
ORBITAL_SEMIMAJOR_AXIS = 8556.91
PERIAPSIS_ALTITUDE = 291.62
PERIAPSIS_ARGUMENT_ANGLE = 303.33
PERIAPSIS_TIME = 2007-06-08T10:56:54.000Z
SPACECRAFT_ORIENTATION = (0.0,1.0,0.0)
^MEX_ORIENTATION_DESC = "MEX_ORIENTATION_DESC.TXT"
SPACECRAFT_POINTING_MODE = NADIR
^MEX_POINTING_DESC = "MEX_POINTING_DESC.TXT"
RIGHT_ASCENSION = -1e+32
DECLINATION = -1e+32
OFFSET_ANGLE = -1e+32
SPACECRAFT_SOLAR_DISTANCE = 2.06683e+08
TARGET_NAME = MARS
/* CAMERA DATA ELEMENTS */
DETECTOR_TEMPERATURE = 18.9822
FOCAL_PLANE_TEMPERATURE = 9.3989
INST_CMPRS_NAME = "DISCRETE COSINE TRANSFORMATION (DCT)"
INST_CMPRS_RATIO = 15.8344
INST_CMPRS_QUALITY = 0
INST_CMPRS_QUANTZ_TBL_ID = 0
INSTRUMENT_TEMPERATURE = 11.4379
LENS_TEMPERATURE = 8.5833
MACROPIXEL_SIZE = 4
MISSING_FRAMES = 0
PIXEL_SUBSAMPLING_FLAG = N
SIGNAL_CHAIN_ID = 2
/* RADIOMETRIC DATA ELEMENTS */
BANDWIDTH = 48.0
CENTER_FILTER_WAVELENGTH = 748.0
RADIANCE_OFFSET = 1.4556
RADIANCE_SCALING_FACTOR = 0.00740288
REFLECTANCE_SCALING_FACTOR = 0.00072167
MEX:REFLECTANCE_OFFSET = 0.1419
/* IMAGE OBJECT DEFINITIONS */
OBJECT = IMAGE
  INTERCHANGE_FORMAT = BINARY
  LINES = 17519
  LINE_SAMPLES = 4774
  SAMPLE_TYPE = UNSIGNED_INTEGER
  SAMPLE_BITS = 8
  BANDS = 1
  BAND_STORAGE_TYPE = BAND_SEQUENTIAL
  MAXIMUM = 255
  MEAN = 68.5337
  MINIMUM = 1
  STANDARD_DEVIATION = 27.5226
END_OBJECT = IMAGE
/* MAP OBJECT DEFINITIONS */
OBJECT = IMAGE_MAP_PROJECTION
  ^DATA_SET_MAP_PROJECTION_CATALOG= "DSMAP.CAT"
  A_AXIS_RADIUS = 3396.0
  B_AXIS_RADIUS = 3396.0
  C_AXIS_RADIUS = 3396.0
  CENTER_LATITUDE = 0.0
  CENTER_LONGITUDE = 213.0
  COORDINATE_SYSTEM_NAME = PLANETOGRAPHIC
  COORDINATE_SYSTEM_TYPE = "BODY-FIXED ROTATING"
  EASTERNMOST_LONGITUDE = 217.233
  FIRST_STANDARD_PARALLEL = "N/A"
  LINE_FIRST_PIXEL = 1
  LINE_LAST_PIXEL = 17519
  LINE_PROJECTION_OFFSET = -79180.875
  MAP_PROJECTION_ROTATION = 0.0
  MAP_PROJECTION_TYPE = SINUSOIDAL
  MAP_RESOLUTION = 1185.42760773333
  MAP_SCALE = 0.05
  MAXIMUM_LATITUDE = -66.82989999999999
  MINIMUM_LATITUDE = -81.6409
  POSITIVE_LONGITUDE_DIRECTION = EAST
  REFERENCE_LATITUDE = "N/A"
  REFERENCE_LONGITUDE = "N/A"
  SAMPLE_FIRST_PIXEL = 1
  SAMPLE_LAST_PIXEL = 4774
  SAMPLE_PROJECTION_OFFSET = 2795.625
  SECOND_STANDARD_PARALLEL = "N/A"
  WESTERNMOST_LONGITUDE = 198.126
END_OBJECT = IMAGE_MAP_PROJECTION
/* The JPEG2000 image data file associated with this label. */
OBJECT = COMPRESSED_FILE
  FILE_NAME = "H4399_0000_RE3.JP2"
  RECORD_TYPE = UNDEFINED
  FILE_RECORDS = UNK
  ENCODING_TYPE = "JP2"
  INTERCHANGE_FORMAT = BINARY
  UNCOMPRESSED_FILE_NAME = "H4399_0000_RE3.IMG"
  REQUIRED_STORAGE_BYTES = "83659576"
  ^DESCRIPTION = "JP2INFO.TXT"
END_OBJECT = COMPRESSED_FILE
END
