PDS_VERSION_ID = PDS3
/* FILE DATA ELEMENTS */
RECORD_TYPE = STREAM
/* POINTERS TO DATA OBJECTS */
^COMPRESSED_FILE = "H4401_0000_GR3.JP2"
/* IDENTIFICATION DATA ELEMENTS */
DATA_SET_ID = "MEX-M-HRSC-5-REFDR-MAPPROJECTED-V3.0"
DATA_SET_NAME = "MARS EXPRESS HRSC MAP PROJECTED REFDR V3.0"
DETECTOR_ID = MEX_HRSC_GREEN
EVENT_TYPE = "MARS-REGIONAL-MAPPING-Te-Fl-Eo"
INSTRUMENT_HOST_ID = MEX
INSTRUMENT_HOST_NAME = "MARS EXPRESS"
INSTRUMENT_ID = HRSC
INSTRUMENT_NAME = "HIGH RESOLUTION STEREO CAMERA"
MISSION_NAME = "MARS EXPRESS"
MISSION_PHASE_NAME = ME_Phase_7
PROCESSING_LEVEL_ID = 3
PRODUCT_CREATION_TIME = 2016-04-25T07:40:35.000Z
PRODUCT_ID = "H4401_0000_GR3.JP2"
RELEASE_ID = 0050
REVISION_ID = 0000
/* QUALITY DATA ELEMENTS */
DATA_QUALITY_ID = 2
DATA_QUALITY_DESC = "Data calculated based on photogrammetrically improved orbit and attitude data"
/* TIME DATA ELEMENTS */
SPACECRAFT_CLOCK_START_COUNT = "1/0129428922.09071"
SPACECRAFT_CLOCK_STOP_COUNT = "1/0129429141.47460"
START_TIME = 2007-06-09T00:29:27.696Z
STOP_TIME = 2007-06-09T00:31:39.447Z
/* ORBITAL DATA ELEMENTS */
ASCENDING_NODE_LONGITUDE = 136.18
MAXIMUM_RESOLUTION = 128.2
FOOTPRINT_POINT_LATITUDE = (-33.3683,-33.3662,-33.3636,-33.3604, -33.3573,-33.3534,-33.3493,-33.06, -32.8442,-32.4032,-32.108,-31.8134, -31.6635,-31.5128,-31.3615,-31.2103, -31.0599,-30.9097,-30.6794,-30.5258, -30.3723,-30.219,-30.0659,-29.9105, -29.7537,-29.5971,-29.4407,-29.2844, -29.047,-28.8874,-28.7278,-28.5685, -28.4093,-28.2474,-28.0849,-27.9225, -27.7602,-27.5153,-27.3498,-27.1848, -27.0194,-26.8545,-26.6866,-26.5183, -26.3503,-26.1825,-25.9272,-25.7562, -25.5854,-25.4149,-25.4052,-25.4065, -25.4076,-25.4084,-25.4088,-25.4088, -25.4958,-25.6669,-25.8381,-26.0097, -26.1798,-26.3481,-26.5165,-26.685, -26.8531,-27.0184,-27.184,-27.3497, -27.5151,-27.7606,-27.9234,-28.0864, -28.2495,-28.4121,-28.5717,-28.7313, -28.8911,-29.0512,-29.2109,-29.3674, -29.5241,-29.681,-29.8382,-30.0728, -30.2264,-30.3802,-30.534,-30.688, -30.8421,-30.9943,-31.1449,-31.2956, -31.4465,-31.6722,-32.0454,-32.3406, -32.6365,-32.7846,-33.0737,-33.3683)
FOOTPRINT_POINT_LONGITUDE = (23.416,23.1848,22.938,22.6914,22.4758, 22.2292,21.9524,21.955,21.9548,21.9563, 21.9576,21.9582,21.957,21.9569,21.9585, 21.9601,21.9602,21.9601,21.9596,21.9593 ,21.9587,21.9579,21.9573,21.9564, 21.9558,21.9552,21.9544,21.9535,21.9524 ,21.9514,21.9503,21.9493,21.9481,21.947 ,21.9455,21.9441,21.9428,21.9405, 21.9388,21.9365,21.9352,21.9332,21.9314 ,21.9294,21.9271,21.9248,21.9216, 21.9191,21.9165,21.9138,22.1602,22.4633 ,22.7119,22.925,23.1742,23.441,23.8072, 23.8033,23.7996,23.7959,23.7922,23.7886 ,23.7848,23.7807,23.7761,23.7723, 23.7689,23.7651,23.7602,23.7545,23.7512 ,23.7478,23.7444,23.7409,23.7373, 23.7333,23.7295,23.7256,23.7217,23.7177 ,23.7137,23.71,23.7062,23.7003,23.6965, 23.6926,23.6884,23.6844,23.6801,23.6764 ,23.6724,23.6683,23.664,23.6559,23.6475 ,23.6384,23.6298,23.6257,23.6175, 23.416)
ORBIT_NUMBER = 4401
ORBITAL_ECCENTRICITY = 0.571
ORBITAL_INCLINATION = 86.68
ORBITAL_SEMIMAJOR_AXIS = 8559.18
PERIAPSIS_ALTITUDE = 292.34
PERIAPSIS_ARGUMENT_ANGLE = 302.99
PERIAPSIS_TIME = 2007-06-09T00:23:21.000Z
SPACECRAFT_ORIENTATION = (0.0,1.0,0.0)
^MEX_ORIENTATION_DESC = "MEX_ORIENTATION_DESC.TXT"
SPACECRAFT_POINTING_MODE = NADIR
^MEX_POINTING_DESC = "MEX_POINTING_DESC.TXT"
RIGHT_ASCENSION = -1e+32
DECLINATION = -1e+32
OFFSET_ANGLE = -1e+32
SPACECRAFT_SOLAR_DISTANCE = 2.06688e+08
TARGET_NAME = MARS
/* CAMERA DATA ELEMENTS */
DETECTOR_TEMPERATURE = 17.5549
FOCAL_PLANE_TEMPERATURE = 10.0106
INST_CMPRS_NAME = "DISCRETE COSINE TRANSFORMATION (DCT)"
INST_CMPRS_RATIO = 18.6167
INST_CMPRS_QUALITY = 0
INST_CMPRS_QUANTZ_TBL_ID = 0
INSTRUMENT_TEMPERATURE = 11.8457
LENS_TEMPERATURE = 10.2145
MACROPIXEL_SIZE = 8
MISSING_FRAMES = 0
PIXEL_SUBSAMPLING_FLAG = N
SIGNAL_CHAIN_ID = 2
/* RADIOMETRIC DATA ELEMENTS */
BANDWIDTH = 88.0
CENTER_FILTER_WAVELENGTH = 538.0
RADIANCE_OFFSET = 2.66904
RADIANCE_SCALING_FACTOR = 0.00302557
REFLECTANCE_SCALING_FACTOR = 0.000111283
MEX:REFLECTANCE_OFFSET = 0.0981697
/* IMAGE OBJECT DEFINITIONS */
OBJECT = IMAGE
  INTERCHANGE_FORMAT = BINARY
  LINES = 4729
  LINE_SAMPLES = 1055
  SAMPLE_TYPE = UNSIGNED_INTEGER
  SAMPLE_BITS = 8
  BANDS = 1
  BAND_STORAGE_TYPE = BAND_SEQUENTIAL
  MAXIMUM = 255
  MEAN = 116.407
  MINIMUM = 1
  STANDARD_DEVIATION = 39.0255
END_OBJECT = IMAGE
/* MAP OBJECT DEFINITIONS */
OBJECT = IMAGE_MAP_PROJECTION
  ^DATA_SET_MAP_PROJECTION_CATALOG= "DSMAP.CAT"
  A_AXIS_RADIUS = 3396.0
  B_AXIS_RADIUS = 3396.0
  C_AXIS_RADIUS = 3396.0
  CENTER_LATITUDE = 0.0
  CENTER_LONGITUDE = 23.0
  COORDINATE_SYSTEM_NAME = PLANETOGRAPHIC
  COORDINATE_SYSTEM_TYPE = "BODY-FIXED ROTATING"
  EASTERNMOST_LONGITUDE = 23.8072
  FIRST_STANDARD_PARALLEL = "N/A"
  LINE_FIRST_PIXEL = 1
  LINE_LAST_PIXEL = 4729
  LINE_PROJECTION_OFFSET = -15057.5625
  MAP_PROJECTION_ROTATION = 0.0
  MAP_PROJECTION_TYPE = SINUSOIDAL
  MAP_RESOLUTION = 592.713803866667
  MAP_SCALE = 0.1
  MAXIMUM_LATITUDE = -25.4052
  MINIMUM_LATITUDE = -33.3683
  POSITIVE_LONGITUDE_DIRECTION = EAST
  REFERENCE_LATITUDE = "N/A"
  REFERENCE_LONGITUDE = "N/A"
  SAMPLE_FIRST_PIXEL = 1
  SAMPLE_LAST_PIXEL = 1055
  SAMPLE_PROJECTION_OFFSET = 606.1875
  SECOND_STANDARD_PARALLEL = "N/A"
  WESTERNMOST_LONGITUDE = 21.9138
END_OBJECT = IMAGE_MAP_PROJECTION
/* The JPEG2000 image data file associated with this label. */
OBJECT = COMPRESSED_FILE
  FILE_NAME = "H4401_0000_GR3.JP2"
  RECORD_TYPE = UNDEFINED
  FILE_RECORDS = UNK
  ENCODING_TYPE = "JP2"
  INTERCHANGE_FORMAT = BINARY
  UNCOMPRESSED_FILE_NAME = "H4401_0000_GR3.IMG"
  REQUIRED_STORAGE_BYTES = "5008085"
  ^DESCRIPTION = "JP2INFO.TXT"
END_OBJECT = COMPRESSED_FILE
END
