PDS_VERSION_ID = PDS3
/* FILE DATA ELEMENTS */
RECORD_TYPE = STREAM
/* POINTERS TO DATA OBJECTS */
^COMPRESSED_FILE = "H4401_0000_ND3.JP2"
/* IDENTIFICATION DATA ELEMENTS */
DATA_SET_ID = "MEX-M-HRSC-5-REFDR-MAPPROJECTED-V3.0"
DATA_SET_NAME = "MARS EXPRESS HRSC MAP PROJECTED REFDR V3.0"
DETECTOR_ID = MEX_HRSC_NADIR
EVENT_TYPE = "MARS-REGIONAL-MAPPING-Te-Fl-Eo"
INSTRUMENT_HOST_ID = MEX
INSTRUMENT_HOST_NAME = "MARS EXPRESS"
INSTRUMENT_ID = HRSC
INSTRUMENT_NAME = "HIGH RESOLUTION STEREO CAMERA"
MISSION_NAME = "MARS EXPRESS"
MISSION_PHASE_NAME = ME_Phase_7
PROCESSING_LEVEL_ID = 3
PRODUCT_CREATION_TIME = 2016-04-25T07:40:35.000Z
PRODUCT_ID = "H4401_0000_ND3.JP2"
RELEASE_ID = 0050
REVISION_ID = 0000
/* QUALITY DATA ELEMENTS */
DATA_QUALITY_ID = 2
DATA_QUALITY_DESC = "Data calculated based on photogrammetrically improved orbit and attitude data"
/* TIME DATA ELEMENTS */
SPACECRAFT_CLOCK_START_COUNT = "1/0129428922.09071"
SPACECRAFT_CLOCK_STOP_COUNT = "1/0129429141.47460"
START_TIME = 2007-06-09T00:29:21.237Z
STOP_TIME = 2007-06-09T00:31:31.255Z
/* ORBITAL DATA ELEMENTS */
ASCENDING_NODE_LONGITUDE = 136.18
MAXIMUM_RESOLUTION = 15.9
FOOTPRINT_POINT_LATITUDE = (-33.3809,-33.3776,-33.3748,-33.3707, -33.3631,-32.9913,-32.6963,-32.4019, -32.1767,-32.0259,-31.8753,-31.7247, -31.5742,-31.4239,-31.2708,-31.1168, -30.963,-30.8092,-30.6556,-30.5022, -30.2672,-30.1101,-29.9532,-29.7965, -29.6399,-29.4009,-29.2408,-29.0809, -28.921,-28.7614,-28.5986,-28.4353, -28.2723,-28.1094,-27.9467,-27.6978, -27.5317,-27.3657,-27.1999,-27.0319, -26.8626,-26.6936,-26.5247,-26.3559, -26.1836,-26.0114,-25.8395,-25.6678, -25.4039,-25.4058,-25.4072,-25.4083, -25.4086,-25.4085,-25.4079,-25.4954, -25.6703,-25.8424,-26.0147,-26.1872, -26.4446,-26.6138,-26.7832,-26.9528, -27.206,-27.3722,-27.5386,-27.7051, -27.9546,-28.1176,-28.2808,-28.4442, -28.6077,-28.771,-28.931,-29.0911, -29.2514,-29.4119,-29.6513,-29.8082, -29.9653,-30.1225,-30.2798,-30.5153, -30.6691,-30.823,-30.977,-31.1312, -31.2854,-31.439,-31.6651,-31.8158, -31.9667,-32.1177,-32.2689,-32.419, -32.7139,-33.0093,-33.3051,-33.3809)
FOOTPRINT_POINT_LONGITUDE = (23.4309,23.0579,22.8145,22.5067, 22.0523,21.9435,21.9433,21.9447,21.9457 ,21.9462,21.9467,21.947,21.9459,21.947, 21.9487,21.9489,21.949,21.9487,21.9485, 21.9481,21.947,21.9463,21.9456,21.945, 21.9444,21.9432,21.9426,21.9418,21.9408 ,21.9398,21.9388,21.9377,21.9363, 21.9351,21.9337,21.9317,21.9302,21.9286 ,21.9262,21.925,21.923,21.9211,21.9192, 21.917,21.9147,21.9124,21.9103,21.9076, 22.0153,22.2771,22.5384,22.8735,23.1345 ,23.3584,23.6382,23.7949,23.7911, 23.7875,23.7839,23.7802,23.7748,23.7709 ,23.7667,23.7624,23.7573,23.7528, 23.7485,23.7448,23.74,23.737,23.7335, 23.7299,23.7262,23.7222,23.7184,23.7147 ,23.7108,23.7069,23.7011,23.6975, 23.6936,23.6897,23.6859,23.6798,23.6759 ,23.6718,23.668,23.664,23.6598,23.6556, 23.6476,23.6453,23.6412,23.6372,23.6328 ,23.6277,23.6197,23.6115,23.6031, 23.4309)
ORBIT_NUMBER = 4401
ORBITAL_ECCENTRICITY = 0.571
ORBITAL_INCLINATION = 86.68
ORBITAL_SEMIMAJOR_AXIS = 8559.18
PERIAPSIS_ALTITUDE = 292.34
PERIAPSIS_ARGUMENT_ANGLE = 302.99
PERIAPSIS_TIME = 2007-06-09T00:23:21.000Z
SPACECRAFT_ORIENTATION = (0.0,1.0,0.0)
^MEX_ORIENTATION_DESC = "MEX_ORIENTATION_DESC.TXT"
SPACECRAFT_POINTING_MODE = NADIR
^MEX_POINTING_DESC = "MEX_POINTING_DESC.TXT"
RIGHT_ASCENSION = -1e+32
DECLINATION = -1e+32
OFFSET_ANGLE = -1e+32
SPACECRAFT_SOLAR_DISTANCE = 2.06688e+08
TARGET_NAME = MARS
/* CAMERA DATA ELEMENTS */
DETECTOR_TEMPERATURE = 17.5549
FOCAL_PLANE_TEMPERATURE = 10.0106
INST_CMPRS_NAME = "DISCRETE COSINE TRANSFORMATION (DCT)"
INST_CMPRS_RATIO = 7.54754
INST_CMPRS_QUALITY = 0
INST_CMPRS_QUANTZ_TBL_ID = 0
INSTRUMENT_TEMPERATURE = 11.8457
LENS_TEMPERATURE = 10.2145
MACROPIXEL_SIZE = 1
MISSING_FRAMES = 0
PIXEL_SUBSAMPLING_FLAG = N
SIGNAL_CHAIN_ID = 0
/* RADIOMETRIC DATA ELEMENTS */
BANDWIDTH = 177.0
CENTER_FILTER_WAVELENGTH = 677.5
RADIANCE_OFFSET = 6.55551
RADIANCE_SCALING_FACTOR = 0.0134128
REFLECTANCE_SCALING_FACTOR = 0.000304393
MEX:REFLECTANCE_OFFSET = 0.148772
/* IMAGE OBJECT DEFINITIONS */
OBJECT = IMAGE
  INTERCHANGE_FORMAT = BINARY
  LINES = 37832
  LINE_SAMPLES = 8439
  SAMPLE_TYPE = UNSIGNED_INTEGER
  SAMPLE_BITS = 8
  BANDS = 1
  BAND_STORAGE_TYPE = BAND_SEQUENTIAL
  MAXIMUM = 255
  MEAN = 108.095
  MINIMUM = 1
  STANDARD_DEVIATION = 39.0736
END_OBJECT = IMAGE
/* MAP OBJECT DEFINITIONS */
OBJECT = IMAGE_MAP_PROJECTION
  ^DATA_SET_MAP_PROJECTION_CATALOG= "DSMAP.CAT"
  A_AXIS_RADIUS = 3396.0
  B_AXIS_RADIUS = 3396.0
  C_AXIS_RADIUS = 3396.0
  CENTER_LATITUDE = 0.0
  CENTER_LONGITUDE = 23.0
  COORDINATE_SYSTEM_NAME = PLANETOGRAPHIC
  COORDINATE_SYSTEM_TYPE = "BODY-FIXED ROTATING"
  EASTERNMOST_LONGITUDE = 23.7949
  FIRST_STANDARD_PARALLEL = "N/A"
  LINE_FIRST_PIXEL = 1
  LINE_LAST_PIXEL = 37832
  LINE_PROJECTION_OFFSET = -120457.0
  MAP_PROJECTION_ROTATION = 0.0
  MAP_PROJECTION_TYPE = SINUSOIDAL
  MAP_RESOLUTION = 4741.71043093333
  MAP_SCALE = 0.0125
  MAXIMUM_LATITUDE = -25.4039
  MINIMUM_LATITUDE = -33.3809
  POSITIVE_LONGITUDE_DIRECTION = EAST
  REFERENCE_LATITUDE = "N/A"
  REFERENCE_LONGITUDE = "N/A"
  SAMPLE_FIRST_PIXEL = 1
  SAMPLE_LAST_PIXEL = 8439
  SAMPLE_PROJECTION_OFFSET = 4853.0
  SECOND_STANDARD_PARALLEL = "N/A"
  WESTERNMOST_LONGITUDE = 21.9076
END_OBJECT = IMAGE_MAP_PROJECTION
/* The JPEG2000 image data file associated with this label. */
OBJECT = COMPRESSED_FILE
  FILE_NAME = "H4401_0000_ND3.JP2"
  RECORD_TYPE = UNDEFINED
  FILE_RECORDS = UNK
  ENCODING_TYPE = "JP2"
  INTERCHANGE_FORMAT = BINARY
  UNCOMPRESSED_FILE_NAME = "H4401_0000_ND3.IMG"
  REQUIRED_STORAGE_BYTES = "319298004"
  ^DESCRIPTION = "JP2INFO.TXT"
END_OBJECT = COMPRESSED_FILE
END
