PDS_VERSION_ID = PDS3
/* FILE DATA ELEMENTS */
RECORD_TYPE = STREAM
/* POINTERS TO DATA OBJECTS */
^COMPRESSED_FILE = "H4408_0000_ND3.JP2"
/* IDENTIFICATION DATA ELEMENTS */
DATA_SET_ID = "MEX-M-HRSC-5-REFDR-MAPPROJECTED-V3.0"
DATA_SET_NAME = "MARS EXPRESS HRSC MAP PROJECTED REFDR V3.0"
DETECTOR_ID = MEX_HRSC_NADIR
EVENT_TYPE = "MARS-REGIONAL-MAPPING-Vo-Te-Gl"
INSTRUMENT_HOST_ID = MEX
INSTRUMENT_HOST_NAME = "MARS EXPRESS"
INSTRUMENT_ID = HRSC
INSTRUMENT_NAME = "HIGH RESOLUTION STEREO CAMERA"
MISSION_NAME = "MARS EXPRESS"
MISSION_PHASE_NAME = ME_Phase_7
PROCESSING_LEVEL_ID = 3
PRODUCT_CREATION_TIME = 2016-04-25T07:40:35.000Z
PRODUCT_ID = "H4408_0000_ND3.JP2"
RELEASE_ID = 0050
REVISION_ID = 0000
/* QUALITY DATA ELEMENTS */
DATA_QUALITY_ID = 1
DATA_QUALITY_DESC = "Data calculated based on original SPICE kernels"
/* TIME DATA ELEMENTS */
SPACECRAFT_CLOCK_START_COUNT = "1/0129597712.08246"
SPACECRAFT_CLOCK_STOP_COUNT = "1/0129598041.23648"
START_TIME = 2007-06-10T23:22:27.361Z
STOP_TIME = 2007-06-10T23:26:57.360Z
/* ORBITAL DATA ELEMENTS */
ASCENDING_NODE_LONGITUDE = 136.03
MAXIMUM_RESOLUTION = 11.6
FOOTPRINT_POINT_LATITUDE = (-71.128,-70.8259,-70.4438,-70.0635, -69.6926,-69.3208,-68.9484,-68.5756, -68.017,-67.6554,-67.293,-66.9306, -66.5673,-66.2036,-65.8394,-65.2982, -64.9459,-64.5933,-64.2405,-63.8873, -63.5338,-63.1801,-62.826,-62.4717, -62.1172,-61.7625,-61.2364,-60.8942, -60.5522,-60.2096,-59.8669,-59.5241, -59.1812,-58.8381,-58.4948,-58.1515, -57.8081,-57.4647,-56.9495,-56.4339, -56.0902,-55.7465,-55.4028,-55.0592, -54.7155,-54.3719,-54.0283,-53.6848, -53.3414,-53.3732,-53.4041,-53.7486, -54.0932,-54.4379,-54.7826,-55.1274, -55.4722,-55.8171,-56.162,-56.5069, -56.8519,-57.1968,-57.5417,-57.8866, -58.2314,-58.5763,-58.921,-59.2658, -59.7826,-60.1271,-60.4716,-60.8159, -61.1601,-61.5042,-61.8609,-62.2179, -62.5748,-62.9314,-63.2879,-63.6441, -64.0002,-64.356,-64.7115,-65.0669, -65.4219,-65.9673,-66.3348,-66.7019, -67.0687,-67.4351,-67.8011,-68.1667, -68.7314,-69.109,-69.4862,-69.8628, -70.239,-70.8185,-71.2062,-71.128)
FOOTPRINT_POINT_LONGITUDE = (49.0078,47.3219,47.5618,47.787,47.9998 ,48.202,48.3979,48.5892,48.8561,49.0228 ,49.1798,49.3371,49.4843,49.628,49.766, 49.9603,50.0798,50.1976,50.3132,50.4246 ,50.5326,50.6376,50.7389,50.837,50.9334 ,51.0274,51.1571,51.2391,51.3241, 51.4005,51.4765,51.5502,51.622,51.6909, 51.7561,51.821,51.8845,51.9461,52.0356, 52.118,52.1718,52.224,52.275,52.3251, 52.3726,52.4192,52.465,52.5097,52.5531, 53.4283,54.2912,54.2578,54.2237,54.1889 ,54.1533,54.1166,54.079,54.041,54.0017, 53.9615,53.9203,53.8782,53.8357,53.7924 ,53.7476,53.7019,53.6541,53.6056, 53.5341,53.4835,53.4284,53.3745,53.3199 ,53.2634,53.2034,53.1416,53.0788, 53.0131,52.9459,52.8765,52.8047,52.7311 ,52.6553,52.5766,52.4943,52.3653, 52.2744,52.1808,52.0841,51.9839,51.8803 ,51.7731,51.5995,51.4777,51.354,51.2246 ,51.0885,50.8681,50.7132,49.0078)
ORBIT_NUMBER = 4408
ORBITAL_ECCENTRICITY = 0.571
ORBITAL_INCLINATION = 86.69
ORBITAL_SEMIMAJOR_AXIS = 8557.67
PERIAPSIS_ALTITUDE = 291.87
PERIAPSIS_ARGUMENT_ANGLE = 301.78
PERIAPSIS_TIME = 2007-06-10T23:25:47.000Z
SPACECRAFT_ORIENTATION = (0.0,1.0,0.0)
^MEX_ORIENTATION_DESC = "MEX_ORIENTATION_DESC.TXT"
SPACECRAFT_POINTING_MODE = ACROSSTRACK
^MEX_POINTING_DESC = "MEX_POINTING_DESC.TXT"
RIGHT_ASCENSION = -1e+32
DECLINATION = -1e+32
OFFSET_ANGLE = 0.2
SPACECRAFT_SOLAR_DISTANCE = 2.06711e+08
TARGET_NAME = MARS
/* CAMERA DATA ELEMENTS */
DETECTOR_TEMPERATURE = 18.3705
FOCAL_PLANE_TEMPERATURE = 8.5833
INST_CMPRS_NAME = "DISCRETE COSINE TRANSFORMATION (DCT)"
INST_CMPRS_RATIO = 7.95712
INST_CMPRS_QUALITY = 0
INST_CMPRS_QUANTZ_TBL_ID = 0
INSTRUMENT_TEMPERATURE = 11.234
LENS_TEMPERATURE = 9.195
MACROPIXEL_SIZE = 1
MISSING_FRAMES = 0
PIXEL_SUBSAMPLING_FLAG = N
SIGNAL_CHAIN_ID = 0
/* RADIOMETRIC DATA ELEMENTS */
BANDWIDTH = 177.0
CENTER_FILTER_WAVELENGTH = 677.5
RADIANCE_OFFSET = 5.4266
RADIANCE_SCALING_FACTOR = 0.0201458
REFLECTANCE_SCALING_FACTOR = 0.000457296
MEX:REFLECTANCE_OFFSET = 0.12318
/* IMAGE OBJECT DEFINITIONS */
OBJECT = IMAGE
  INTERCHANGE_FORMAT = BINARY
  LINES = 84742
  LINE_SAMPLES = 13924
  SAMPLE_TYPE = UNSIGNED_INTEGER
  SAMPLE_BITS = 8
  BANDS = 1
  BAND_STORAGE_TYPE = BAND_SEQUENTIAL
  MAXIMUM = 255
  MEAN = 130.863
  MINIMUM = 1
  STANDARD_DEVIATION = 35.2539
END_OBJECT = IMAGE
/* MAP OBJECT DEFINITIONS */
OBJECT = IMAGE_MAP_PROJECTION
  ^DATA_SET_MAP_PROJECTION_CATALOG= "DSMAP.CAT"
  A_AXIS_RADIUS = 3396.0
  B_AXIS_RADIUS = 3396.0
  C_AXIS_RADIUS = 3396.0
  CENTER_LATITUDE = 0.0
  CENTER_LONGITUDE = 52.0
  COORDINATE_SYSTEM_NAME = PLANETOGRAPHIC
  COORDINATE_SYSTEM_TYPE = "BODY-FIXED ROTATING"
  EASTERNMOST_LONGITUDE = 54.2912
  FIRST_STANDARD_PARALLEL = "N/A"
  LINE_FIRST_PIXEL = 1
  LINE_LAST_PIXEL = 84742
  LINE_PROJECTION_OFFSET = -252925.0
  MAP_PROJECTION_ROTATION = 0.0
  MAP_PROJECTION_TYPE = SINUSOIDAL
  MAP_RESOLUTION = 4741.71043093333
  MAP_SCALE = 0.0125
  MAXIMUM_LATITUDE = -53.3414
  MINIMUM_LATITUDE = -71.2062
  POSITIVE_LONGITUDE_DIRECTION = EAST
  REFERENCE_LATITUDE = "N/A"
  REFERENCE_LONGITUDE = "N/A"
  SAMPLE_FIRST_PIXEL = 1
  SAMPLE_LAST_PIXEL = 13924
  SAMPLE_PROJECTION_OFFSET = 7457.0
  SECOND_STANDARD_PARALLEL = "N/A"
  WESTERNMOST_LONGITUDE = 47.3219
END_OBJECT = IMAGE_MAP_PROJECTION
/* The JPEG2000 image data file associated with this label. */
OBJECT = COMPRESSED_FILE
  FILE_NAME = "H4408_0000_ND3.JP2"
  RECORD_TYPE = UNDEFINED
  FILE_RECORDS = UNK
  ENCODING_TYPE = "JP2"
  INTERCHANGE_FORMAT = BINARY
  UNCOMPRESSED_FILE_NAME = "H4408_0000_ND3.IMG"
  REQUIRED_STORAGE_BYTES = "1179989380"
  ^DESCRIPTION = "JP2INFO.TXT"
END_OBJECT = COMPRESSED_FILE
END
