PDS_VERSION_ID = PDS3
/* FILE DATA ELEMENTS */
RECORD_TYPE = STREAM
/* POINTERS TO DATA OBJECTS */
^COMPRESSED_FILE = "H4411_0000_BL3.JP2"
/* IDENTIFICATION DATA ELEMENTS */
DATA_SET_ID = "MEX-M-HRSC-5-REFDR-MAPPROJECTED-V3.0"
DATA_SET_NAME = "MARS EXPRESS HRSC MAP PROJECTED REFDR V3.0"
DETECTOR_ID = MEX_HRSC_BLUE
EVENT_TYPE = "MARS-REGIONAL-MAPPING-Te-Gl-La"
INSTRUMENT_HOST_ID = MEX
INSTRUMENT_HOST_NAME = "MARS EXPRESS"
INSTRUMENT_ID = HRSC
INSTRUMENT_NAME = "HIGH RESOLUTION STEREO CAMERA"
MISSION_NAME = "MARS EXPRESS"
MISSION_PHASE_NAME = ME_Phase_7
PROCESSING_LEVEL_ID = 3
PRODUCT_CREATION_TIME = 2016-04-25T07:40:35.000Z
PRODUCT_ID = "H4411_0000_BL3.JP2"
RELEASE_ID = 0050
REVISION_ID = 0000
/* QUALITY DATA ELEMENTS */
DATA_QUALITY_ID = 1
DATA_QUALITY_DESC = "Data calculated based on original SPICE kernels"
/* TIME DATA ELEMENTS */
SPACECRAFT_CLOCK_START_COUNT = "1/0129670140.08217"
SPACECRAFT_CLOCK_STOP_COUNT = "1/0129670407.14986"
START_TIME = 2007-06-11T19:29:37.919Z
STOP_TIME = 2007-06-11T19:32:57.653Z
/* ORBITAL DATA ELEMENTS */
ASCENDING_NODE_LONGITUDE = 135.97
MAXIMUM_RESOLUTION = 49.7
FOOTPRINT_POINT_LATITUDE = (-80.6045,-80.5082,-80.4274,-80.3184, -80.2439,-80.0155,-79.7531,-79.4878, -79.088,-78.8199,-78.5505,-78.2797, -78.0077,-77.7342,-77.4594,-77.1841, -76.7701,-76.4922,-76.2333,-75.9973, -75.6435,-75.4071,-75.1702,-74.9326, -74.6966,-74.4572,-74.0981,-73.8581, -73.6177,-73.3765,-73.1344,-72.7708, -72.5284,-72.2853,-72.0455,-71.8093, -71.5728,-71.2174,-70.8612,-70.6236, -70.3864,-70.1564,-69.9261,-69.6948, -69.4628,-69.1148,-68.8826,-68.6504, -68.418,-68.1907,-67.8715,-67.9061, -67.9456,-67.9743,-68.219,-68.4463, -68.7976,-69.0327,-69.2669,-69.502, -69.8533,-70.0875,-70.3214,-70.555, -70.7956,-71.037,-71.278,-71.5192, -71.7584,-71.9984,-72.3582,-72.7291, -72.9769,-73.348,-73.7169,-73.9628, -74.3311,-74.5764,-74.8211,-75.0655, -75.3081,-75.5514,-75.9159,-76.1596, -76.4018,-76.6434,-76.931,-77.3617, -77.6482,-77.9339,-78.219,-78.5033, -78.7869,-79.0702,-79.3521,-79.6327, -79.9129,-80.1929,-80.4713,-80.6045)
FOOTPRINT_POINT_LONGITUDE = (108.482,106.599,105.177,103.436, 102.342,101.613,102.268,102.886,103.76, 104.309,104.833,105.333,105.81,106.266, 106.7,107.119,107.717,108.093,108.421, 108.707,109.122,109.389,109.647,109.896 ,110.145,110.377,110.714,110.93,111.14, 111.342,111.537,111.82,112.004,112.181, 112.351,112.512,112.67,112.899,113.118, 113.261,113.399,113.531,113.66,113.783, 113.902,114.076,114.19,114.301,114.41, 114.514,115.06,115.696,116.495,117.138, 117.459,117.395,117.295,117.225,117.158 ,117.082,116.971,116.894,116.815, 116.734,116.649,116.559,116.469,116.373 ,116.287,116.19,116.04,115.877,115.759, 115.575,115.394,115.267,115.066,114.926 ,114.783,114.635,114.495,114.341, 114.096,113.914,113.737,113.559,113.335 ,112.976,112.722,112.455,112.177, 111.883,111.576,111.246,110.908,110.558 ,110.182,109.772,109.349,108.482)
ORBIT_NUMBER = 4411
ORBITAL_ECCENTRICITY = 0.571
ORBITAL_INCLINATION = 86.68
ORBITAL_SEMIMAJOR_AXIS = 8557.89
PERIAPSIS_ALTITUDE = 291.9
PERIAPSIS_ARGUMENT_ANGLE = 301.24
PERIAPSIS_TIME = 2007-06-11T19:35:24.000Z
SPACECRAFT_ORIENTATION = (0.0,1.0,0.0)
^MEX_ORIENTATION_DESC = "MEX_ORIENTATION_DESC.TXT"
SPACECRAFT_POINTING_MODE = NADIR
^MEX_POINTING_DESC = "MEX_POINTING_DESC.TXT"
RIGHT_ASCENSION = -1e+32
DECLINATION = -1e+32
OFFSET_ANGLE = -1e+32
SPACECRAFT_SOLAR_DISTANCE = 2.06724e+08
TARGET_NAME = MARS
/* CAMERA DATA ELEMENTS */
DETECTOR_TEMPERATURE = 17.7588
FOCAL_PLANE_TEMPERATURE = 8.7872
INST_CMPRS_NAME = "DISCRETE COSINE TRANSFORMATION (DCT)"
INST_CMPRS_RATIO = 7.66058
INST_CMPRS_QUALITY = 0
INST_CMPRS_QUANTZ_TBL_ID = 0
INSTRUMENT_TEMPERATURE = 12.2535
LENS_TEMPERATURE = 8.9911
MACROPIXEL_SIZE = 4
MISSING_FRAMES = 0
PIXEL_SUBSAMPLING_FLAG = N
SIGNAL_CHAIN_ID = 2
/* RADIOMETRIC DATA ELEMENTS */
BANDWIDTH = 76.0
CENTER_FILTER_WAVELENGTH = 444.0
RADIANCE_OFFSET = 0.811801
RADIANCE_SCALING_FACTOR = 0.00276924
REFLECTANCE_SCALING_FACTOR = 0.00012159
MEX:REFLECTANCE_OFFSET = 0.035644
/* IMAGE OBJECT DEFINITIONS */
OBJECT = IMAGE
  INTERCHANGE_FORMAT = BINARY
  LINES = 15110
  LINE_SAMPLES = 4362
  SAMPLE_TYPE = UNSIGNED_INTEGER
  SAMPLE_BITS = 8
  BANDS = 1
  BAND_STORAGE_TYPE = BAND_SEQUENTIAL
  MAXIMUM = 255
  MEAN = 62.6441
  MINIMUM = 1
  STANDARD_DEVIATION = 17.1354
END_OBJECT = IMAGE
/* MAP OBJECT DEFINITIONS */
OBJECT = IMAGE_MAP_PROJECTION
  ^DATA_SET_MAP_PROJECTION_CATALOG= "DSMAP.CAT"
  A_AXIS_RADIUS = 3396.0
  B_AXIS_RADIUS = 3396.0
  C_AXIS_RADIUS = 3396.0
  CENTER_LATITUDE = 0.0
  CENTER_LONGITUDE = 113.0
  COORDINATE_SYSTEM_NAME = PLANETOGRAPHIC
  COORDINATE_SYSTEM_TYPE = "BODY-FIXED ROTATING"
  EASTERNMOST_LONGITUDE = 117.459
  FIRST_STANDARD_PARALLEL = "N/A"
  LINE_FIRST_PIXEL = 1
  LINE_LAST_PIXEL = 15110
  LINE_PROJECTION_OFFSET = -80434.125
  MAP_PROJECTION_ROTATION = 0.0
  MAP_PROJECTION_TYPE = SINUSOIDAL
  MAP_RESOLUTION = 1185.42760773333
  MAP_SCALE = 0.05
  MAXIMUM_LATITUDE = -67.8715
  MINIMUM_LATITUDE = -80.6045
  POSITIVE_LONGITUDE_DIRECTION = EAST
  REFERENCE_LATITUDE = "N/A"
  REFERENCE_LONGITUDE = "N/A"
  SAMPLE_FIRST_PIXEL = 1
  SAMPLE_LAST_PIXEL = 4362
  SAMPLE_PROJECTION_OFFSET = 2347.125
  SECOND_STANDARD_PARALLEL = "N/A"
  WESTERNMOST_LONGITUDE = 101.613
END_OBJECT = IMAGE_MAP_PROJECTION
/* The JPEG2000 image data file associated with this label. */
OBJECT = COMPRESSED_FILE
  FILE_NAME = "H4411_0000_BL3.JP2"
  RECORD_TYPE = UNDEFINED
  FILE_RECORDS = UNK
  ENCODING_TYPE = "JP2"
  INTERCHANGE_FORMAT = BINARY
  UNCOMPRESSED_FILE_NAME = "H4411_0000_BL3.IMG"
  REQUIRED_STORAGE_BYTES = "65935992"
  ^DESCRIPTION = "JP2INFO.TXT"
END_OBJECT = COMPRESSED_FILE
END
