PDS_VERSION_ID = PDS3
/* FILE DATA ELEMENTS */
RECORD_TYPE = STREAM
/* POINTERS TO DATA OBJECTS */
^COMPRESSED_FILE = "H4411_0000_P23.JP2"
/* IDENTIFICATION DATA ELEMENTS */
DATA_SET_ID = "MEX-M-HRSC-5-REFDR-MAPPROJECTED-V3.0"
DATA_SET_NAME = "MARS EXPRESS HRSC MAP PROJECTED REFDR V3.0"
DETECTOR_ID = MEX_HRSC_P2
EVENT_TYPE = "MARS-REGIONAL-MAPPING-Te-Gl-La"
INSTRUMENT_HOST_ID = MEX
INSTRUMENT_HOST_NAME = "MARS EXPRESS"
INSTRUMENT_ID = HRSC
INSTRUMENT_NAME = "HIGH RESOLUTION STEREO CAMERA"
MISSION_NAME = "MARS EXPRESS"
MISSION_PHASE_NAME = ME_Phase_7
PROCESSING_LEVEL_ID = 3
PRODUCT_CREATION_TIME = 2016-04-25T07:40:35.000Z
PRODUCT_ID = "H4411_0000_P23.JP2"
RELEASE_ID = 0050
REVISION_ID = 0000
/* QUALITY DATA ELEMENTS */
DATA_QUALITY_ID = 1
DATA_QUALITY_DESC = "Data calculated based on original SPICE kernels"
/* TIME DATA ELEMENTS */
SPACECRAFT_CLOCK_START_COUNT = "1/0129670140.08217"
SPACECRAFT_CLOCK_STOP_COUNT = "1/0129670407.14986"
START_TIME = 2007-06-11T19:29:18.762Z
STOP_TIME = 2007-06-11T19:32:43.769Z
/* ORBITAL DATA ELEMENTS */
ASCENDING_NODE_LONGITUDE = 135.97
MAXIMUM_RESOLUTION = 51.9
FOOTPRINT_POINT_LATITUDE = (-80.6874,-80.503,-80.3227,-80.1418, -79.8831,-79.6205,-79.358,-79.1012, -78.8426,-78.5829,-78.3218,-77.9274, -77.6632,-77.3961,-77.1305,-76.8662, -76.5985,-76.3261,-76.0512,-75.7776, -75.5035,-75.2465,-75.0163,-74.6748, -74.4407,-74.0913,-73.8581,-73.6238, -73.3883,-73.1514,-72.7958,-72.5595, -72.3221,-72.0837,-71.8446,-71.6059, -71.3665,-71.1294,-70.8969,-70.5484, -70.3159,-70.0837,-69.8508,-69.6145, -69.3817,-69.1538,-68.9256,-68.6976, -68.2417,-68.0128,-67.8893,-67.9559, -67.9892,-68.3493,-68.5807,-68.812, -69.0433,-69.3883,-69.6184,-69.8547, -70.0925,-70.4483,-70.8037,-71.0408, -71.2775,-71.5175,-71.7557,-71.9978, -72.24,-72.482,-72.7235,-72.968, -73.3348,-73.5721,-73.8129,-74.0525, -74.2926,-74.5332,-74.7722,-75.1291, -75.3607,-75.5969,-76.0197,-76.3031, -76.5824,-76.8597,-77.1383,-77.4167, -77.6949,-77.972,-78.2482,-78.5239, -78.7991,-79.0747,-79.3475,-79.6164, -79.8872,-80.1679,-80.4444,-80.6874)
FOOTPRINT_POINT_LONGITUDE = (108.971,105.431,102.608,101.116, 101.788,102.427,103.029,103.593,104.131 ,104.645,105.136,105.832,106.272, 106.693,107.097,107.486,107.859,108.215 ,108.556,108.885,109.201,109.487, 109.735,110.096,110.324,110.655,110.867 ,111.073,111.273,111.466,111.746, 111.927,112.103,112.274,112.439,112.601 ,112.758,112.909,113.053,113.264,113.4, 113.533,113.663,113.787,113.906,114.022 ,114.135,114.245,114.459,114.562, 115.196,116.496,117.26,117.448,117.384, 117.318,117.25,117.148,117.077,117.002, 116.924,116.805,116.681,116.595,116.506 ,116.414,116.329,116.233,116.134, 116.031,115.926,115.811,115.631,115.521 ,115.399,115.275,115.146,115.01,114.873 ,114.662,114.53,114.381,114.092,113.887 ,113.684,113.477,113.255,113.021, 112.775,112.52,112.252,111.972,111.676, 111.361,111.039,110.712,110.357,109.955 ,109.544,108.971)
ORBIT_NUMBER = 4411
ORBITAL_ECCENTRICITY = 0.571
ORBITAL_INCLINATION = 86.68
ORBITAL_SEMIMAJOR_AXIS = 8557.89
PERIAPSIS_ALTITUDE = 291.9
PERIAPSIS_ARGUMENT_ANGLE = 301.24
PERIAPSIS_TIME = 2007-06-11T19:35:24.000Z
SPACECRAFT_ORIENTATION = (0.0,1.0,0.0)
^MEX_ORIENTATION_DESC = "MEX_ORIENTATION_DESC.TXT"
SPACECRAFT_POINTING_MODE = NADIR
^MEX_POINTING_DESC = "MEX_POINTING_DESC.TXT"
RIGHT_ASCENSION = -1e+32
DECLINATION = -1e+32
OFFSET_ANGLE = -1e+32
SPACECRAFT_SOLAR_DISTANCE = 2.06724e+08
TARGET_NAME = MARS
/* CAMERA DATA ELEMENTS */
DETECTOR_TEMPERATURE = 18.7783
FOCAL_PLANE_TEMPERATURE = 8.7872
INST_CMPRS_NAME = "DISCRETE COSINE TRANSFORMATION (DCT)"
INST_CMPRS_RATIO = 11.7508
INST_CMPRS_QUALITY = 0
INST_CMPRS_QUANTZ_TBL_ID = 0
INSTRUMENT_TEMPERATURE = 12.2535
LENS_TEMPERATURE = 8.9911
MACROPIXEL_SIZE = 4
MISSING_FRAMES = 0
PIXEL_SUBSAMPLING_FLAG = N
SIGNAL_CHAIN_ID = 3
/* RADIOMETRIC DATA ELEMENTS */
BANDWIDTH = 177.0
CENTER_FILTER_WAVELENGTH = 676.5
RADIANCE_OFFSET = 6.05845
RADIANCE_SCALING_FACTOR = 0.0135384
REFLECTANCE_SCALING_FACTOR = 0.000306765
MEX:REFLECTANCE_OFFSET = 0.137277
/* IMAGE OBJECT DEFINITIONS */
OBJECT = IMAGE
  INTERCHANGE_FORMAT = BINARY
  LINES = 15110
  LINE_SAMPLES = 4362
  SAMPLE_TYPE = UNSIGNED_INTEGER
  SAMPLE_BITS = 8
  BANDS = 1
  BAND_STORAGE_TYPE = BAND_SEQUENTIAL
  MAXIMUM = 255
  MEAN = 108.859
  MINIMUM = 1
  STANDARD_DEVIATION = 30.9323
END_OBJECT = IMAGE
/* MAP OBJECT DEFINITIONS */
OBJECT = IMAGE_MAP_PROJECTION
  ^DATA_SET_MAP_PROJECTION_CATALOG= "DSMAP.CAT"
  A_AXIS_RADIUS = 3396.0
  B_AXIS_RADIUS = 3396.0
  C_AXIS_RADIUS = 3396.0
  CENTER_LATITUDE = 0.0
  CENTER_LONGITUDE = 113.0
  COORDINATE_SYSTEM_NAME = PLANETOGRAPHIC
  COORDINATE_SYSTEM_TYPE = "BODY-FIXED ROTATING"
  EASTERNMOST_LONGITUDE = 117.448
  FIRST_STANDARD_PARALLEL = "N/A"
  LINE_FIRST_PIXEL = 1
  LINE_LAST_PIXEL = 15110
  LINE_PROJECTION_OFFSET = -80434.125
  MAP_PROJECTION_ROTATION = 0.0
  MAP_PROJECTION_TYPE = SINUSOIDAL
  MAP_RESOLUTION = 1185.42760773333
  MAP_SCALE = 0.05
  MAXIMUM_LATITUDE = -67.88930000000001
  MINIMUM_LATITUDE = -80.6874
  POSITIVE_LONGITUDE_DIRECTION = EAST
  REFERENCE_LATITUDE = "N/A"
  REFERENCE_LONGITUDE = "N/A"
  SAMPLE_FIRST_PIXEL = 1
  SAMPLE_LAST_PIXEL = 4362
  SAMPLE_PROJECTION_OFFSET = 2347.125
  SECOND_STANDARD_PARALLEL = "N/A"
  WESTERNMOST_LONGITUDE = 101.116
END_OBJECT = IMAGE_MAP_PROJECTION
/* The JPEG2000 image data file associated with this label. */
OBJECT = COMPRESSED_FILE
  FILE_NAME = "H4411_0000_P23.JP2"
  RECORD_TYPE = UNDEFINED
  FILE_RECORDS = UNK
  ENCODING_TYPE = "JP2"
  INTERCHANGE_FORMAT = BINARY
  UNCOMPRESSED_FILE_NAME = "H4411_0000_P23.IMG"
  REQUIRED_STORAGE_BYTES = "65935992"
  ^DESCRIPTION = "JP2INFO.TXT"
END_OBJECT = COMPRESSED_FILE
END
