PDS_VERSION_ID = PDS3
/* FILE DATA ELEMENTS */
RECORD_TYPE = STREAM
/* POINTERS TO DATA OBJECTS */
^COMPRESSED_FILE = "H4412_0000_P13.JP2"
/* IDENTIFICATION DATA ELEMENTS */
DATA_SET_ID = "MEX-M-HRSC-5-REFDR-MAPPROJECTED-V3.0"
DATA_SET_NAME = "MARS EXPRESS HRSC MAP PROJECTED REFDR V3.0"
DETECTOR_ID = MEX_HRSC_P1
EVENT_TYPE = "MARS-REGIONAL-MAPPING-Vo-Gl-La"
INSTRUMENT_HOST_ID = MEX
INSTRUMENT_HOST_NAME = "MARS EXPRESS"
INSTRUMENT_ID = HRSC
INSTRUMENT_NAME = "HIGH RESOLUTION STEREO CAMERA"
MISSION_NAME = "MARS EXPRESS"
MISSION_PHASE_NAME = ME_Phase_7
PROCESSING_LEVEL_ID = 3
PRODUCT_CREATION_TIME = 2016-04-25T07:40:35.000Z
PRODUCT_ID = "H4412_0000_P13.JP2"
RELEASE_ID = 0050
REVISION_ID = 0000
/* QUALITY DATA ELEMENTS */
DATA_QUALITY_ID = 1
DATA_QUALITY_DESC = "Data calculated based on original SPICE kernels"
/* TIME DATA ELEMENTS */
SPACECRAFT_CLOCK_START_COUNT = "1/0129694475.08424"
SPACECRAFT_CLOCK_STOP_COUNT = "1/0129694709.07032"
START_TIME = 2007-06-12T02:15:30.134Z
STOP_TIME = 2007-06-12T02:18:22.605Z
/* ORBITAL DATA ELEMENTS */
ASCENDING_NODE_LONGITUDE = 135.95
MAXIMUM_RESOLUTION = 47.7
FOOTPRINT_POINT_LATITUDE = (-72.1212,-72.0978,-72.0666,-72.0283, -72.0007,-72.0231,-71.7845,-71.4288, -71.1909,-70.8331,-70.5966,-70.36, -70.1216,-69.8831,-69.6523,-69.4219, -69.1913,-68.9604,-68.7293,-68.4982, -68.2668,-68.0355,-67.8039,-67.4564, -67.1115,-66.7766,-66.5531,-66.3293, -65.9938,-65.6576,-65.3215,-64.985, -64.7603,-64.5365,-64.3124,-63.9734, -63.7472,-63.5234,-63.3011,-63.0776, -62.8599,-62.5375,-62.3216,-62.1055, -61.889,-61.6729,-61.4567,-61.2406, -61.0249,-60.8088,-60.6594,-60.6836, -60.7003,-60.7127,-60.7238,-60.7326, -60.9565,-61.1739,-61.3911,-61.6086, -61.9345,-62.1516,-62.3689,-62.6948, -62.9123,-63.1299,-63.3542,-63.6928, -63.9185,-64.1449,-64.3707,-64.7089, -64.9348,-65.1599,-65.3856,-65.7246, -65.9505,-66.289,-66.515,-66.8536, -67.1919,-67.4205,-67.6553,-67.8896, -68.2402,-68.5906,-68.8243,-69.1745, -69.4081,-69.7582,-69.9916,-70.2315, -70.4729,-70.8347,-71.0758,-71.3167, -71.5576,-71.9187,-72.1594,-72.1212)
FOOTPRINT_POINT_LONGITUDE = (16.6951,16.2121,15.6009,14.895,14.4141 ,13.7807,13.9481,14.1877,14.3435, 14.5702,14.7104,14.8469,14.9836,15.1168 ,15.2422,15.3638,15.4826,15.5987, 15.7122,15.8226,15.9308,16.036,16.1391, 16.2889,16.4337,16.5674,16.6544,16.7398 ,16.864,16.9851,17.1019,17.2156,17.29, 17.361,17.4311,17.5383,17.6082,17.6727, 17.7334,17.7946,17.855,17.939,17.9951, 18.0505,18.1054,18.1586,18.211,18.2623, 18.3119,18.3614,18.5498,19.0703,19.4555 ,19.7637,20.0523,20.3022,20.4289, 20.3948,20.36,20.3248,20.2706,20.2335, 20.1959,20.1382,20.099,20.0591,20.0165, 19.9515,19.9071,19.8623,19.8162,19.7451 ,19.6968,19.647,19.5967,19.5195,19.4668 ,19.3854,19.3299,19.2444,19.156,19.0948 ,19.0313,18.9661,18.8649,18.7602, 18.6884,18.5775,18.5014,18.3838,18.3031 ,18.2178,18.1298,17.9933,17.8993, 17.8028,17.7037,17.5499,17.4439, 16.6951)
ORBIT_NUMBER = 4412
ORBITAL_ECCENTRICITY = 0.571
ORBITAL_INCLINATION = 86.68
ORBITAL_SEMIMAJOR_AXIS = 8556.19
PERIAPSIS_ALTITUDE = 292.32
PERIAPSIS_ARGUMENT_ANGLE = 301.07
PERIAPSIS_TIME = 2007-06-12T02:18:36.000Z
SPACECRAFT_ORIENTATION = (0.0,1.0,0.0)
^MEX_ORIENTATION_DESC = "MEX_ORIENTATION_DESC.TXT"
SPACECRAFT_POINTING_MODE = ACROSSTRACK
^MEX_POINTING_DESC = "MEX_POINTING_DESC.TXT"
RIGHT_ASCENSION = -1e+32
DECLINATION = -1e+32
OFFSET_ANGLE = 0.1
SPACECRAFT_SOLAR_DISTANCE = 2.06728e+08
TARGET_NAME = MARS
/* CAMERA DATA ELEMENTS */
DETECTOR_TEMPERATURE = 17.9627
FOCAL_PLANE_TEMPERATURE = 8.9911
INST_CMPRS_NAME = "DISCRETE COSINE TRANSFORMATION (DCT)"
INST_CMPRS_RATIO = 28.9841
INST_CMPRS_QUALITY = 0
INST_CMPRS_QUANTZ_TBL_ID = 0
INSTRUMENT_TEMPERATURE = 11.4379
LENS_TEMPERATURE = 9.195
MACROPIXEL_SIZE = 4
MISSING_FRAMES = 0
PIXEL_SUBSAMPLING_FLAG = N
SIGNAL_CHAIN_ID = 3
/* RADIOMETRIC DATA ELEMENTS */
BANDWIDTH = 174.0
CENTER_FILTER_WAVELENGTH = 675.0
RADIANCE_OFFSET = 6.69317
RADIANCE_SCALING_FACTOR = 0.0111139
REFLECTANCE_SCALING_FACTOR = 0.000255477
MEX:REFLECTANCE_OFFSET = 0.153857
/* IMAGE OBJECT DEFINITIONS */
OBJECT = IMAGE
  INTERCHANGE_FORMAT = BINARY
  LINES = 13726
  LINE_SAMPLES = 2978
  SAMPLE_TYPE = UNSIGNED_INTEGER
  SAMPLE_BITS = 8
  BANDS = 1
  BAND_STORAGE_TYPE = BAND_SEQUENTIAL
  MAXIMUM = 255
  MEAN = 131.373
  MINIMUM = 1
  STANDARD_DEVIATION = 38.3377
END_OBJECT = IMAGE
/* MAP OBJECT DEFINITIONS */
OBJECT = IMAGE_MAP_PROJECTION
  ^DATA_SET_MAP_PROJECTION_CATALOG= "DSMAP.CAT"
  A_AXIS_RADIUS = 3396.0
  B_AXIS_RADIUS = 3396.0
  C_AXIS_RADIUS = 3396.0
  CENTER_LATITUDE = 0.0
  CENTER_LONGITUDE = 18.0
  COORDINATE_SYSTEM_NAME = PLANETOGRAPHIC
  COORDINATE_SYSTEM_TYPE = "BODY-FIXED ROTATING"
  EASTERNMOST_LONGITUDE = 20.4289
  FIRST_STANDARD_PARALLEL = "N/A"
  LINE_FIRST_PIXEL = 1
  LINE_LAST_PIXEL = 13726
  LINE_PROJECTION_OFFSET = -71909.625
  MAP_PROJECTION_ROTATION = 0.0
  MAP_PROJECTION_TYPE = SINUSOIDAL
  MAP_RESOLUTION = 1185.42760773333
  MAP_SCALE = 0.05
  MAXIMUM_LATITUDE = -60.6594
  MINIMUM_LATITUDE = -72.15940000000001
  POSITIVE_LONGITUDE_DIRECTION = EAST
  REFERENCE_LATITUDE = "N/A"
  REFERENCE_LONGITUDE = "N/A"
  SAMPLE_FIRST_PIXEL = 1
  SAMPLE_LAST_PIXEL = 2978
  SAMPLE_PROJECTION_OFFSET = 1573.375
  SECOND_STANDARD_PARALLEL = "N/A"
  WESTERNMOST_LONGITUDE = 13.7807
END_OBJECT = IMAGE_MAP_PROJECTION
/* The JPEG2000 image data file associated with this label. */
OBJECT = COMPRESSED_FILE
  FILE_NAME = "H4412_0000_P13.JP2"
  RECORD_TYPE = UNDEFINED
  FILE_RECORDS = UNK
  ENCODING_TYPE = "JP2"
  INTERCHANGE_FORMAT = BINARY
  UNCOMPRESSED_FILE_NAME = "H4412_0000_P13.IMG"
  REQUIRED_STORAGE_BYTES = "40899852"
  ^DESCRIPTION = "JP2INFO.TXT"
END_OBJECT = COMPRESSED_FILE
END
