PDS_VERSION_ID = PDS3
/* FILE DATA ELEMENTS */
RECORD_TYPE = STREAM
/* POINTERS TO DATA OBJECTS */
^COMPRESSED_FILE = "H4413_0000_BL3.JP2"
/* IDENTIFICATION DATA ELEMENTS */
DATA_SET_ID = "MEX-M-HRSC-5-REFDR-MAPPROJECTED-V3.0"
DATA_SET_NAME = "MARS EXPRESS HRSC MAP PROJECTED REFDR V3.0"
DETECTOR_ID = MEX_HRSC_BLUE
EVENT_TYPE = "MARS-REGIONAL-MAPPING-Im-Gl-La"
INSTRUMENT_HOST_ID = MEX
INSTRUMENT_HOST_NAME = "MARS EXPRESS"
INSTRUMENT_ID = HRSC
INSTRUMENT_NAME = "HIGH RESOLUTION STEREO CAMERA"
MISSION_NAME = "MARS EXPRESS"
MISSION_PHASE_NAME = ME_Phase_8
PROCESSING_LEVEL_ID = 3
PRODUCT_CREATION_TIME = 2016-04-25T07:40:35.000Z
PRODUCT_ID = "H4413_0000_BL3.JP2"
RELEASE_ID = 0050
REVISION_ID = 0000
/* QUALITY DATA ELEMENTS */
DATA_QUALITY_ID = 2
DATA_QUALITY_DESC = "Data calculated based on photogrammetrically improved orbit and attitude data"
/* TIME DATA ELEMENTS */
SPACECRAFT_CLOCK_START_COUNT = "1/0129718560.08274"
SPACECRAFT_CLOCK_STOP_COUNT = "1/0129718868.64330"
START_TIME = 2007-06-12T08:56:36.140Z
STOP_TIME = 2007-06-12T09:00:40.761Z
/* ORBITAL DATA ELEMENTS */
ASCENDING_NODE_LONGITUDE = 135.93
MAXIMUM_RESOLUTION = 47.2
FOOTPRINT_POINT_LATITUDE = (-79.1738,-79.0849,-78.9844,-78.8681, -78.5112,-78.1523,-77.7916,-77.4292, -77.0652,-76.5337,-76.2254,-75.9161, -75.4497,-75.1379,-74.8253,-74.5118, -74.1976,-73.8825,-73.5668,-73.2505, -72.7732,-72.4551,-72.1437,-71.6795, -71.3697,-71.0602,-70.7495,-70.4424, -70.1402,-69.838,-69.5351,-69.2321, -68.9286,-68.6247,-68.1787,-67.7369, -67.4419,-67.1467,-66.8511,-66.5552, -66.259,-65.9624,-65.6702,-65.3835, -65.0973,-64.8104,-64.5234,-64.2361, -63.8052,-63.3645,-63.3936,-63.4122, -63.5811,-63.8704,-64.3044,-64.5935, -64.8823,-65.1711,-65.4596,-65.7479, -66.1909,-66.4895,-66.7878,-67.0859, -67.3837,-67.6812,-67.9786,-68.2757, -68.5725,-69.0322,-69.3389,-69.7987, -70.104,-70.41,-70.7147,-71.0291, -71.5006,-71.8154,-72.1295,-72.4434, -72.7628,-73.0858,-73.4082,-73.731, -74.2139,-74.5342,-74.8549,-75.1748, -75.494,-75.8128,-76.1309,-76.4485, -76.7651,-77.1185,-77.495,-77.8704, -78.2445,-78.6178,-78.9898,-79.1738)
FOOTPRINT_POINT_LONGITUDE = (275.521,273.537,271.606,269.981, 270.594,271.17,271.711,272.221,272.701, 273.35,273.702,274.038,274.514,274.814, 275.101,275.377,275.641,275.895,276.138 ,276.371,276.704,276.916,277.113, 277.396,277.576,277.75,277.917,278.076, 278.227,278.373,278.514,278.651,278.783 ,278.912,279.092,279.263,279.372, 279.479,279.582,279.682,279.779,279.874 ,279.964,280.05,280.134,280.216,280.295 ,280.372,280.484,280.912,281.636, 282.154,282.883,282.841,282.774,282.729 ,282.682,282.634,282.585,282.535, 282.455,282.399,282.341,282.282,282.221 ,282.159,282.094,282.028,281.96,281.851 ,281.774,281.652,281.576,281.484, 281.403,281.313,281.176,281.068,280.961 ,280.847,280.734,280.612,280.489, 280.347,280.127,279.989,279.83,279.668, 279.501,279.323,279.139,278.945,278.749 ,278.516,278.247,277.964,277.672, 277.352,277.017,275.521)
ORBIT_NUMBER = 4413
ORBITAL_ECCENTRICITY = 0.571
ORBITAL_INCLINATION = 86.68
ORBITAL_SEMIMAJOR_AXIS = 8554.49
PERIAPSIS_ALTITUDE = 291.99
PERIAPSIS_ARGUMENT_ANGLE = 300.91
PERIAPSIS_TIME = 2007-06-12T09:01:53.000Z
SPACECRAFT_ORIENTATION = (0.0,1.0,0.0)
^MEX_ORIENTATION_DESC = "MEX_ORIENTATION_DESC.TXT"
SPACECRAFT_POINTING_MODE = ACROSSTRACK
^MEX_POINTING_DESC = "MEX_POINTING_DESC.TXT"
RIGHT_ASCENSION = -1e+32
DECLINATION = -1e+32
OFFSET_ANGLE = -0.4
SPACECRAFT_SOLAR_DISTANCE = 2.06733e+08
TARGET_NAME = MARS
/* CAMERA DATA ELEMENTS */
DETECTOR_TEMPERATURE = 18.5744
FOCAL_PLANE_TEMPERATURE = 8.9911
INST_CMPRS_NAME = "DISCRETE COSINE TRANSFORMATION (DCT)"
INST_CMPRS_RATIO = 8.74012
INST_CMPRS_QUALITY = 0
INST_CMPRS_QUANTZ_TBL_ID = 0
INSTRUMENT_TEMPERATURE = 11.6418
LENS_TEMPERATURE = 9.195
MACROPIXEL_SIZE = 4
MISSING_FRAMES = 0
PIXEL_SUBSAMPLING_FLAG = N
SIGNAL_CHAIN_ID = 2
/* RADIOMETRIC DATA ELEMENTS */
BANDWIDTH = 76.0
CENTER_FILTER_WAVELENGTH = 444.0
RADIANCE_OFFSET = 0.968229
RADIANCE_SCALING_FACTOR = 0.00934354
REFLECTANCE_SCALING_FACTOR = 0.000410287
MEX:REFLECTANCE_OFFSET = 0.0425161
/* IMAGE OBJECT DEFINITIONS */
OBJECT = IMAGE
  INTERCHANGE_FORMAT = BINARY
  LINES = 18783
  LINE_SAMPLES = 3841
  SAMPLE_TYPE = UNSIGNED_INTEGER
  SAMPLE_BITS = 8
  BANDS = 1
  BAND_STORAGE_TYPE = BAND_SEQUENTIAL
  MAXIMUM = 255
  MEAN = 69.4905
  MINIMUM = 1
  STANDARD_DEVIATION = 89.2592
END_OBJECT = IMAGE
/* MAP OBJECT DEFINITIONS */
OBJECT = IMAGE_MAP_PROJECTION
  ^DATA_SET_MAP_PROJECTION_CATALOG= "DSMAP.CAT"
  A_AXIS_RADIUS = 3396.0
  B_AXIS_RADIUS = 3396.0
  C_AXIS_RADIUS = 3396.0
  CENTER_LATITUDE = 0.0
  CENTER_LONGITUDE = 280.0
  COORDINATE_SYSTEM_NAME = PLANETOGRAPHIC
  COORDINATE_SYSTEM_TYPE = "BODY-FIXED ROTATING"
  EASTERNMOST_LONGITUDE = 282.883
  FIRST_STANDARD_PARALLEL = "N/A"
  LINE_FIRST_PIXEL = 1
  LINE_LAST_PIXEL = 18783
  LINE_PROJECTION_OFFSET = -75099.625
  MAP_PROJECTION_ROTATION = 0.0
  MAP_PROJECTION_TYPE = SINUSOIDAL
  MAP_RESOLUTION = 1185.42760773333
  MAP_SCALE = 0.05
  MAXIMUM_LATITUDE = -63.3645
  MINIMUM_LATITUDE = -79.1738
  POSITIVE_LONGITUDE_DIRECTION = EAST
  REFERENCE_LATITUDE = "N/A"
  REFERENCE_LONGITUDE = "N/A"
  SAMPLE_FIRST_PIXEL = 1
  SAMPLE_LAST_PIXEL = 3841
  SAMPLE_PROJECTION_OFFSET = 2281.375
  SECOND_STANDARD_PARALLEL = "N/A"
  WESTERNMOST_LONGITUDE = 269.981
END_OBJECT = IMAGE_MAP_PROJECTION
/* The JPEG2000 image data file associated with this label. */
OBJECT = COMPRESSED_FILE
  FILE_NAME = "H4413_0000_BL3.JP2"
  RECORD_TYPE = UNDEFINED
  FILE_RECORDS = UNK
  ENCODING_TYPE = "JP2"
  INTERCHANGE_FORMAT = BINARY
  UNCOMPRESSED_FILE_NAME = "H4413_0000_BL3.IMG"
  REQUIRED_STORAGE_BYTES = "72168549"
  ^DESCRIPTION = "JP2INFO.TXT"
END_OBJECT = COMPRESSED_FILE
END
