PDS_VERSION_ID = PDS3
/* FILE DATA ELEMENTS */
RECORD_TYPE = STREAM
/* POINTERS TO DATA OBJECTS */
^COMPRESSED_FILE = "H4418_0000_RE3.JP2"
/* IDENTIFICATION DATA ELEMENTS */
DATA_SET_ID = "MEX-M-HRSC-5-REFDR-MAPPROJECTED-V3.0"
DATA_SET_NAME = "MARS EXPRESS HRSC MAP PROJECTED REFDR V3.0"
DETECTOR_ID = MEX_HRSC_RED
EVENT_TYPE = "MARS-REGIONAL-MAPPING-Gl-Pf-La"
INSTRUMENT_HOST_ID = MEX
INSTRUMENT_HOST_NAME = "MARS EXPRESS"
INSTRUMENT_ID = HRSC
INSTRUMENT_NAME = "HIGH RESOLUTION STEREO CAMERA"
MISSION_NAME = "MARS EXPRESS"
MISSION_PHASE_NAME = ME_Phase_8
PROCESSING_LEVEL_ID = 3
PRODUCT_CREATION_TIME = 2016-04-25T07:40:35.000Z
PRODUCT_ID = "H4418_0000_RE3.JP2"
RELEASE_ID = 0050
REVISION_ID = 0000
/* QUALITY DATA ELEMENTS */
DATA_QUALITY_ID = 1
DATA_QUALITY_DESC = "Data calculated based on original SPICE kernels"
/* TIME DATA ELEMENTS */
SPACECRAFT_CLOCK_START_COUNT = "1/0129839493.07286"
SPACECRAFT_CLOCK_STOP_COUNT = "1/0129839730.48740"
START_TIME = 2007-06-13T18:31:44.615Z
STOP_TIME = 2007-06-13T18:34:40.767Z
/* ORBITAL DATA ELEMENTS */
ASCENDING_NODE_LONGITUDE = 135.83
MAXIMUM_RESOLUTION = 54.6
FOOTPRINT_POINT_LATITUDE = (-81.5081,-81.4481,-81.3835,-81.3143, -81.2407,-81.1172,-80.8809,-80.67, -80.4517,-80.2374,-80.0251,-79.8153, -79.6025,-79.3883,-79.1725,-78.9555, -78.7377,-78.5189,-78.2988,-78.0778, -77.856,-77.6337,-77.4101,-77.1848, -76.962,-76.7368,-76.5106,-76.2837, -76.0624,-75.8708,-75.6789,-75.3895, -75.1961,-75.0025,-74.8084,-74.6146, -74.4198,-74.1267,-73.9307,-73.7345, -73.5367,-73.2408,-73.0433,-72.8439, -72.5435,-72.3425,-72.1379,-71.745, -71.365,-71.1689,-70.8751,-70.6258, -70.6639,-70.7154,-70.7599,-70.9576, -71.3519,-71.5504,-71.8476,-72.0452, -72.3474,-72.5496,-72.7536,-72.9574, -73.1586,-73.3595,-73.56,-73.7617, -73.9632,-74.1632,-74.3629,-74.7547, -74.9566,-75.2573,-75.5553,-75.7539, -75.951,-76.1482,-76.345,-76.6949, -76.9282,-77.1606,-77.508,-77.7396, -78.0867,-78.3142,-78.5466,-78.7787, -79.0081,-79.2365,-79.4642,-79.691, -79.9172,-80.143,-80.3676,-80.5882, -80.8167,-81.0471,-81.3927,-81.5081)
FOOTPRINT_POINT_LONGITUDE = (140.314,138.962,137.634,136.331, 135.054,133.107,132.912,133.52,134.108, 134.664,135.187,135.683,136.161,136.62, 137.061,137.485,137.893,138.285,138.663 ,139.027,139.377,139.715,140.041, 140.356,140.659,140.952,141.236,141.509 ,141.767,141.983,142.192,142.496, 142.692,142.883,143.069,143.25,143.427, 143.683,143.848,144.01,144.167,144.396, 144.544,144.689,144.899,145.035,145.168 ,145.421,145.659,145.773,145.941, 146.369,147.13,148.316,149.528,149.465, 149.336,149.266,149.158,149.084,148.971 ,148.894,148.81,148.724,148.642,148.558 ,148.471,148.38,148.285,148.192,148.096 ,147.915,147.803,147.635,147.465, 147.347,147.229,147.107,146.982,146.751 ,146.59,146.424,146.166,145.984,145.695 ,145.505,145.287,145.059,144.83,144.594 ,144.348,144.093,143.827,143.548, 143.259,142.973,142.651,142.3,141.729, 140.314)
ORBIT_NUMBER = 4418
ORBITAL_ECCENTRICITY = 0.571
ORBITAL_INCLINATION = 86.68
ORBITAL_SEMIMAJOR_AXIS = 8554.69
PERIAPSIS_ALTITUDE = 292.68
PERIAPSIS_ARGUMENT_ANGLE = 300.04
PERIAPSIS_TIME = 2007-06-13T18:37:51.000Z
SPACECRAFT_ORIENTATION = (0.0,1.0,0.0)
^MEX_ORIENTATION_DESC = "MEX_ORIENTATION_DESC.TXT"
SPACECRAFT_POINTING_MODE = ACROSSTRACK
^MEX_POINTING_DESC = "MEX_POINTING_DESC.TXT"
RIGHT_ASCENSION = -1e+32
DECLINATION = -1e+32
OFFSET_ANGLE = -0.25
SPACECRAFT_SOLAR_DISTANCE = 2.06759e+08
TARGET_NAME = MARS
/* CAMERA DATA ELEMENTS */
DETECTOR_TEMPERATURE = 18.5744
FOCAL_PLANE_TEMPERATURE = 8.7872
INST_CMPRS_NAME = "DISCRETE COSINE TRANSFORMATION (DCT)"
INST_CMPRS_RATIO = 28.9758
INST_CMPRS_QUALITY = 0
INST_CMPRS_QUANTZ_TBL_ID = 0
INSTRUMENT_TEMPERATURE = 11.4379
LENS_TEMPERATURE = 8.9911
MACROPIXEL_SIZE = 4
MISSING_FRAMES = 0
PIXEL_SUBSAMPLING_FLAG = N
SIGNAL_CHAIN_ID = 2
/* RADIOMETRIC DATA ELEMENTS */
BANDWIDTH = 48.0
CENTER_FILTER_WAVELENGTH = 748.0
RADIANCE_OFFSET = 1.8968
RADIANCE_SCALING_FACTOR = 0.00425962
REFLECTANCE_SCALING_FACTOR = 0.000415552
MEX:REFLECTANCE_OFFSET = 0.185045
/* IMAGE OBJECT DEFINITIONS */
OBJECT = IMAGE
  INTERCHANGE_FORMAT = BINARY
  LINES = 12835
  LINE_SAMPLES = 3964
  SAMPLE_TYPE = UNSIGNED_INTEGER
  SAMPLE_BITS = 8
  BANDS = 1
  BAND_STORAGE_TYPE = BAND_SEQUENTIAL
  MAXIMUM = 255
  MEAN = 135.461
  MINIMUM = 1
  STANDARD_DEVIATION = 42.4108
END_OBJECT = IMAGE
/* MAP OBJECT DEFINITIONS */
OBJECT = IMAGE_MAP_PROJECTION
  ^DATA_SET_MAP_PROJECTION_CATALOG= "DSMAP.CAT"
  A_AXIS_RADIUS = 3396.0
  B_AXIS_RADIUS = 3396.0
  C_AXIS_RADIUS = 3396.0
  CENTER_LATITUDE = 0.0
  CENTER_LONGITUDE = 145.0
  COORDINATE_SYSTEM_NAME = PLANETOGRAPHIC
  COORDINATE_SYSTEM_TYPE = "BODY-FIXED ROTATING"
  EASTERNMOST_LONGITUDE = 149.528
  FIRST_STANDARD_PARALLEL = "N/A"
  LINE_FIRST_PIXEL = 1
  LINE_LAST_PIXEL = 12835
  LINE_PROJECTION_OFFSET = -83703.375
  MAP_PROJECTION_ROTATION = 0.0
  MAP_PROJECTION_TYPE = SINUSOIDAL
  MAP_RESOLUTION = 1185.42760773333
  MAP_SCALE = 0.05
  MAXIMUM_LATITUDE = -70.6258
  MINIMUM_LATITUDE = -81.5081
  POSITIVE_LONGITUDE_DIRECTION = EAST
  REFERENCE_LATITUDE = "N/A"
  REFERENCE_LONGITUDE = "N/A"
  SAMPLE_FIRST_PIXEL = 1
  SAMPLE_LAST_PIXEL = 3964
  SAMPLE_PROJECTION_OFFSET = 2254.875
  SECOND_STANDARD_PARALLEL = "N/A"
  WESTERNMOST_LONGITUDE = 132.912
END_OBJECT = IMAGE_MAP_PROJECTION
/* The JPEG2000 image data file associated with this label. */
OBJECT = COMPRESSED_FILE
  FILE_NAME = "H4418_0000_RE3.JP2"
  RECORD_TYPE = UNDEFINED
  FILE_RECORDS = UNK
  ENCODING_TYPE = "JP2"
  INTERCHANGE_FORMAT = BINARY
  UNCOMPRESSED_FILE_NAME = "H4418_0000_RE3.IMG"
  REQUIRED_STORAGE_BYTES = "50901724"
  ^DESCRIPTION = "JP2INFO.TXT"
END_OBJECT = COMPRESSED_FILE
END
