PDS_VERSION_ID = PDS3
/* FILE DATA ELEMENTS */
RECORD_TYPE = STREAM
/* POINTERS TO DATA OBJECTS */
^COMPRESSED_FILE = "H4418_0001_GR3.JP2"
/* IDENTIFICATION DATA ELEMENTS */
DATA_SET_ID = "MEX-M-HRSC-5-REFDR-MAPPROJECTED-V3.0"
DATA_SET_NAME = "MARS EXPRESS HRSC MAP PROJECTED REFDR V3.0"
DETECTOR_ID = MEX_HRSC_GREEN
EVENT_TYPE = "MARS-REGIONAL-MAPPING-Vo-Te-Im"
INSTRUMENT_HOST_ID = MEX
INSTRUMENT_HOST_NAME = "MARS EXPRESS"
INSTRUMENT_ID = HRSC
INSTRUMENT_NAME = "HIGH RESOLUTION STEREO CAMERA"
MISSION_NAME = "MARS EXPRESS"
MISSION_PHASE_NAME = ME_Phase_8
PROCESSING_LEVEL_ID = 3
PRODUCT_CREATION_TIME = 2016-04-25T07:40:35.000Z
PRODUCT_ID = "H4418_0001_GR3.JP2"
RELEASE_ID = 0050
REVISION_ID = 0000
/* QUALITY DATA ELEMENTS */
DATA_QUALITY_ID = 2
DATA_QUALITY_DESC = "Data calculated based on photogrammetrically improved orbit and attitude data"
/* TIME DATA ELEMENTS */
SPACECRAFT_CLOCK_START_COUNT = "1/0129839864.08279"
SPACECRAFT_CLOCK_STOP_COUNT = "1/0129840087.23706"
START_TIME = 2007-06-13T18:38:18.505Z
STOP_TIME = 2007-06-13T18:41:04.885Z
/* ORBITAL DATA ELEMENTS */
ASCENDING_NODE_LONGITUDE = 135.83
MAXIMUM_RESOLUTION = 46.4
FOOTPRINT_POINT_LATITUDE = (-58.2265,-58.2039,-58.1811,-58.1767, -57.9666,-57.7565,-57.5464,-57.3364, -57.0212,-56.7062,-56.3912,-56.1812, -55.9712,-55.7613,-55.5496,-55.2234, -55.0059,-54.6794,-54.3532,-54.1355, -53.9182,-53.7008,-53.4835,-53.1577, -52.9407,-52.7236,-52.5068,-52.29, -52.0734,-51.8567,-51.6401,-51.4236, -51.2072,-50.9832,-50.7589,-50.4226, -50.0868,-49.8628,-49.6391,-49.4158, -49.1926,-48.9696,-48.7467,-48.5239, -48.2937,-48.063,-47.8326,-47.6022, -47.2397,-47.2516,-47.2654,-47.2737, -47.2831,-47.5137,-47.7444,-47.9754, -48.2065,-48.4376,-48.6652,-48.8886, -49.1122,-49.336,-49.5598,-49.8959, -50.12,-50.4564,-50.6807,-50.9046, -51.1291,-51.3507,-51.5681,-51.7852, -52.0024,-52.2196,-52.4369,-52.7632, -52.9809,-53.1983,-53.4159,-53.7426, -53.9605,-54.1788,-54.3965,-54.6144, -54.8324,-55.0508,-55.2691,-55.4876, -55.8098,-56.0201,-56.2308,-56.4413, -56.652,-56.9681,-57.1792,-57.3895, -57.6003,-57.8112,-58.022,-58.2265)
FOOTPRINT_POINT_LONGITUDE = (151.361,150.759,150.214,149.901, 149.934,149.967,149.998,150.03,150.076, 150.12,150.164,150.192,150.22,150.247, 150.274,150.314,150.34,150.379,150.416, 150.441,150.464,150.488,150.511,150.545 ,150.566,150.588,150.609,150.629, 150.649,150.669,150.689,150.708,150.726 ,150.745,150.764,150.791,150.818, 150.835,150.852,150.868,150.884,150.899 ,150.914,150.928,150.943,150.958, 150.972,150.987,151.114,151.48,151.956, 152.28,152.658,152.646,152.634,152.622, 152.609,152.596,152.583,152.57,152.557, 152.543,152.53,152.509,152.494,152.473, 152.457,152.439,152.423,152.41,152.397, 152.382,152.367,152.351,152.336,152.312 ,152.296,152.279,152.262,152.236, 152.219,152.202,152.183,152.163,152.144 ,152.126,152.107,152.088,152.059,152.04 ,152.021,152.001,151.981,151.951, 151.932,151.909,151.888,151.866,151.844 ,151.361)
ORBIT_NUMBER = 4418
ORBITAL_ECCENTRICITY = 0.571
ORBITAL_INCLINATION = 86.68
ORBITAL_SEMIMAJOR_AXIS = 8554.69
PERIAPSIS_ALTITUDE = 292.68
PERIAPSIS_ARGUMENT_ANGLE = 300.04
PERIAPSIS_TIME = 2007-06-13T18:37:51.000Z
SPACECRAFT_ORIENTATION = (0.0,1.0,0.0)
^MEX_ORIENTATION_DESC = "MEX_ORIENTATION_DESC.TXT"
SPACECRAFT_POINTING_MODE = ACROSSTRACK
^MEX_POINTING_DESC = "MEX_POINTING_DESC.TXT"
RIGHT_ASCENSION = -1e+32
DECLINATION = -1e+32
OFFSET_ANGLE = -0.25
SPACECRAFT_SOLAR_DISTANCE = 2.06759e+08
TARGET_NAME = MARS
/* CAMERA DATA ELEMENTS */
DETECTOR_TEMPERATURE = 19.7978
FOCAL_PLANE_TEMPERATURE = 8.7872
INST_CMPRS_NAME = "DISCRETE COSINE TRANSFORMATION (DCT)"
INST_CMPRS_RATIO = 16.8612
INST_CMPRS_QUALITY = 0
INST_CMPRS_QUANTZ_TBL_ID = 0
INSTRUMENT_TEMPERATURE = 13.0691
LENS_TEMPERATURE = 9.195
MACROPIXEL_SIZE = 4
MISSING_FRAMES = 0
PIXEL_SUBSAMPLING_FLAG = N
SIGNAL_CHAIN_ID = 2
/* RADIOMETRIC DATA ELEMENTS */
BANDWIDTH = 88.0
CENTER_FILTER_WAVELENGTH = 538.0
RADIANCE_OFFSET = 2.38023
RADIANCE_SCALING_FACTOR = 0.0036639
REFLECTANCE_SCALING_FACTOR = 0.000134853
MEX:REFLECTANCE_OFFSET = 0.0876063
/* IMAGE OBJECT DEFINITIONS */
OBJECT = IMAGE
  INTERCHANGE_FORMAT = BINARY
  LINES = 13064
  LINE_SAMPLES = 2040
  SAMPLE_TYPE = UNSIGNED_INTEGER
  SAMPLE_BITS = 8
  BANDS = 1
  BAND_STORAGE_TYPE = BAND_SEQUENTIAL
  MAXIMUM = 255
  MEAN = 131.392
  MINIMUM = 1
  STANDARD_DEVIATION = 41.6629
END_OBJECT = IMAGE
/* MAP OBJECT DEFINITIONS */
OBJECT = IMAGE_MAP_PROJECTION
  ^DATA_SET_MAP_PROJECTION_CATALOG= "DSMAP.CAT"
  A_AXIS_RADIUS = 3396.0
  B_AXIS_RADIUS = 3396.0
  C_AXIS_RADIUS = 3396.0
  CENTER_LATITUDE = 0.0
  CENTER_LONGITUDE = 151.0
  COORDINATE_SYSTEM_NAME = PLANETOGRAPHIC
  COORDINATE_SYSTEM_TYPE = "BODY-FIXED ROTATING"
  EASTERNMOST_LONGITUDE = 152.658
  FIRST_STANDARD_PARALLEL = "N/A"
  LINE_FIRST_PIXEL = 1
  LINE_LAST_PIXEL = 13064
  LINE_PROJECTION_OFFSET = -56001.625
  MAP_PROJECTION_ROTATION = 0.0
  MAP_PROJECTION_TYPE = SINUSOIDAL
  MAP_RESOLUTION = 1185.42760773333
  MAP_SCALE = 0.05
  MAXIMUM_LATITUDE = -47.2397
  MINIMUM_LATITUDE = -58.2265
  POSITIVE_LONGITUDE_DIRECTION = EAST
  REFERENCE_LATITUDE = "N/A"
  REFERENCE_LONGITUDE = "N/A"
  SAMPLE_FIRST_PIXEL = 1
  SAMPLE_LAST_PIXEL = 2040
  SAMPLE_PROJECTION_OFFSET = 685.375
  SECOND_STANDARD_PARALLEL = "N/A"
  WESTERNMOST_LONGITUDE = 149.901
END_OBJECT = IMAGE_MAP_PROJECTION
/* The JPEG2000 image data file associated with this label. */
OBJECT = COMPRESSED_FILE
  FILE_NAME = "H4418_0001_GR3.JP2"
  RECORD_TYPE = UNDEFINED
  FILE_RECORDS = UNK
  ENCODING_TYPE = "JP2"
  INTERCHANGE_FORMAT = BINARY
  UNCOMPRESSED_FILE_NAME = "H4418_0001_GR3.IMG"
  REQUIRED_STORAGE_BYTES = "26670960"
  ^DESCRIPTION = "JP2INFO.TXT"
END_OBJECT = COMPRESSED_FILE
END
