PDS_VERSION_ID = PDS3
/* FILE DATA ELEMENTS */
RECORD_TYPE = STREAM
/* POINTERS TO DATA OBJECTS */
^COMPRESSED_FILE = "H4422_0000_GR3.JP2"
/* IDENTIFICATION DATA ELEMENTS */
DATA_SET_ID = "MEX-M-HRSC-5-REFDR-MAPPROJECTED-V3.0"
DATA_SET_NAME = "MARS EXPRESS HRSC MAP PROJECTED REFDR V3.0"
DETECTOR_ID = MEX_HRSC_GREEN
EVENT_TYPE = "MARS-REGIONAL-MAPPING-Te-Gl-La"
INSTRUMENT_HOST_ID = MEX
INSTRUMENT_HOST_NAME = "MARS EXPRESS"
INSTRUMENT_ID = HRSC
INSTRUMENT_NAME = "HIGH RESOLUTION STEREO CAMERA"
MISSION_NAME = "MARS EXPRESS"
MISSION_PHASE_NAME = ME_Phase_8
PROCESSING_LEVEL_ID = 3
PRODUCT_CREATION_TIME = 2016-04-25T07:40:35.000Z
PRODUCT_ID = "H4422_0000_GR3.JP2"
RELEASE_ID = 0050
REVISION_ID = 0000
/* QUALITY DATA ELEMENTS */
DATA_QUALITY_ID = 1
DATA_QUALITY_DESC = "Data calculated based on original SPICE kernels"
/* TIME DATA ELEMENTS */
SPACECRAFT_CLOCK_START_COUNT = "1/0129936257.07287"
SPACECRAFT_CLOCK_STOP_COUNT = "1/0129936550.46426"
START_TIME = 2007-06-14T21:25:07.338Z
STOP_TIME = 2007-06-14T21:28:50.733Z
/* ORBITAL DATA ELEMENTS */
ASCENDING_NODE_LONGITUDE = 135.75
MAXIMUM_RESOLUTION = 48.1
FOOTPRINT_POINT_LATITUDE = (-81.9856,-81.8113,-81.6303,-81.434, -81.0032,-80.711,-80.4149,-80.1151, -79.8132,-79.508,-79.2003,-78.8903, -78.4344,-78.1703,-77.9048,-77.6381, -77.3702,-77.1012,-76.831,-76.5596, -76.1504,-75.8767,-75.602,-75.1885, -74.9117,-74.6342,-74.3561,-74.0847, -73.8141,-73.5429,-73.2711,-72.9987, -72.7258,-72.3225,-72.0576,-71.7921, -71.5262,-71.26,-70.9933,-70.7262, -70.3282,-69.9399,-69.6807,-69.4213, -69.1615,-68.9014,-68.6411,-68.3805, -68.1196,-67.7187,-67.8011,-67.8557, -68.1197,-68.3837,-68.7796,-69.0432, -69.3065,-69.5695,-69.8322,-70.0953, -70.3583,-70.7571,-71.0283,-71.2995, -71.5704,-71.841,-72.111,-72.3811, -72.6512,-72.9264,-73.2047,-73.4825, -73.7605,-74.0377,-74.3153,-74.5922, -74.8779,-75.3044,-75.5887,-76.0145, -76.2981,-76.5806,-76.8623,-77.1436, -77.4242,-77.7041,-77.9834,-78.2618, -78.5395,-78.8164,-79.2904,-79.6171, -79.9432,-80.268,-80.5912,-80.9128, -81.2325,-81.5503,-81.8659,-81.9856)
FOOTPRINT_POINT_LONGITUDE = (99.8926,97.2439,94.8298,92.3198, 94.0552,95.1222,96.1143,97.0307,97.9223 ,98.7463,99.5269,100.265,101.269, 101.811,102.328,102.826,103.302,103.767 ,104.206,104.622,105.196,105.571, 105.933,106.451,106.779,107.095,107.422 ,107.708,107.979,108.242,108.496, 108.742,108.98,109.315,109.524,109.734, 109.931,110.124,110.312,110.495,110.758 ,111.007,111.164,111.312,111.461, 111.606,111.748,111.886,112.02,112.546, 113.949,115.006,114.917,114.825,114.683 ,114.585,114.485,114.382,114.276, 114.167,114.055,113.879,113.755,113.627 ,113.496,113.36,113.22,113.076,112.927, 112.77,112.606,112.436,112.26,112.078, 111.89,111.694,111.485,111.155,110.925, 110.562,110.307,110.042,109.765,109.476 ,109.174,108.859,108.528,108.183,107.82 ,107.44,106.74,106.217,105.66,105.067, 104.433,103.754,103.026,102.244,101.401 ,99.8926)
ORBIT_NUMBER = 4422
ORBITAL_ECCENTRICITY = 0.571
ORBITAL_INCLINATION = 86.69
ORBITAL_SEMIMAJOR_AXIS = 8554.99
PERIAPSIS_ALTITUDE = 291.8
PERIAPSIS_ARGUMENT_ANGLE = 299.32
PERIAPSIS_TIME = 2007-06-14T21:30:38.000Z
SPACECRAFT_ORIENTATION = (0.0,1.0,0.0)
^MEX_ORIENTATION_DESC = "MEX_ORIENTATION_DESC.TXT"
SPACECRAFT_POINTING_MODE = ACROSSTRACK
^MEX_POINTING_DESC = "MEX_POINTING_DESC.TXT"
RIGHT_ASCENSION = -1e+32
DECLINATION = -1e+32
OFFSET_ANGLE = 0.5
SPACECRAFT_SOLAR_DISTANCE = 2.06783e+08
TARGET_NAME = MARS
/* CAMERA DATA ELEMENTS */
DETECTOR_TEMPERATURE = 17.9627
FOCAL_PLANE_TEMPERATURE = 7.9716
INST_CMPRS_NAME = "DISCRETE COSINE TRANSFORMATION (DCT)"
INST_CMPRS_RATIO = 15.9092
INST_CMPRS_QUALITY = 0
INST_CMPRS_QUANTZ_TBL_ID = 0
INSTRUMENT_TEMPERATURE = 11.234
LENS_TEMPERATURE = 8.1755
MACROPIXEL_SIZE = 4
MISSING_FRAMES = 0
PIXEL_SUBSAMPLING_FLAG = N
SIGNAL_CHAIN_ID = 2
/* RADIOMETRIC DATA ELEMENTS */
BANDWIDTH = 88.0
CENTER_FILTER_WAVELENGTH = 538.0
RADIANCE_OFFSET = 1.95686
RADIANCE_SCALING_FACTOR = 0.00983229
REFLECTANCE_SCALING_FACTOR = 0.000361969
MEX:REFLECTANCE_OFFSET = 0.0720406
/* IMAGE OBJECT DEFINITIONS */
OBJECT = IMAGE
  INTERCHANGE_FORMAT = BINARY
  LINES = 17022
  LINE_SAMPLES = 5319
  SAMPLE_TYPE = UNSIGNED_INTEGER
  SAMPLE_BITS = 8
  BANDS = 1
  BAND_STORAGE_TYPE = BAND_SEQUENTIAL
  MAXIMUM = 255
  MEAN = 49.161
  MINIMUM = 1
  STANDARD_DEVIATION = 26.8046
END_OBJECT = IMAGE
/* MAP OBJECT DEFINITIONS */
OBJECT = IMAGE_MAP_PROJECTION
  ^DATA_SET_MAP_PROJECTION_CATALOG= "DSMAP.CAT"
  A_AXIS_RADIUS = 3396.0
  B_AXIS_RADIUS = 3396.0
  C_AXIS_RADIUS = 3396.0
  CENTER_LATITUDE = 0.0
  CENTER_LONGITUDE = 110.0
  COORDINATE_SYSTEM_NAME = PLANETOGRAPHIC
  COORDINATE_SYSTEM_TYPE = "BODY-FIXED ROTATING"
  EASTERNMOST_LONGITUDE = 115.006
  FIRST_STANDARD_PARALLEL = "N/A"
  LINE_FIRST_PIXEL = 1
  LINE_LAST_PIXEL = 17022
  LINE_PROJECTION_OFFSET = -80259.125
  MAP_PROJECTION_ROTATION = 0.0
  MAP_PROJECTION_TYPE = SINUSOIDAL
  MAP_RESOLUTION = 1185.42760773333
  MAP_SCALE = 0.05
  MAXIMUM_LATITUDE = -67.7187
  MINIMUM_LATITUDE = -81.98560000000001
  POSITIVE_LONGITUDE_DIRECTION = EAST
  REFERENCE_LATITUDE = "N/A"
  REFERENCE_LONGITUDE = "N/A"
  SAMPLE_FIRST_PIXEL = 1
  SAMPLE_LAST_PIXEL = 5319
  SAMPLE_PROJECTION_OFFSET = 3080.375
  SECOND_STANDARD_PARALLEL = "N/A"
  WESTERNMOST_LONGITUDE = 92.3198
END_OBJECT = IMAGE_MAP_PROJECTION
/* The JPEG2000 image data file associated with this label. */
OBJECT = COMPRESSED_FILE
  FILE_NAME = "H4422_0000_GR3.JP2"
  RECORD_TYPE = UNDEFINED
  FILE_RECORDS = UNK
  ENCODING_TYPE = "JP2"
  INTERCHANGE_FORMAT = BINARY
  UNCOMPRESSED_FILE_NAME = "H4422_0000_GR3.IMG"
  REQUIRED_STORAGE_BYTES = "90566613"
  ^DESCRIPTION = "JP2INFO.TXT"
END_OBJECT = COMPRESSED_FILE
END
