PDS_VERSION_ID = PDS3
/* FILE DATA ELEMENTS */
RECORD_TYPE = STREAM
/* POINTERS TO DATA OBJECTS */
^COMPRESSED_FILE = "H4424_0000_ND3.JP2"
/* IDENTIFICATION DATA ELEMENTS */
DATA_SET_ID = "MEX-M-HRSC-5-REFDR-MAPPROJECTED-V3.0"
DATA_SET_NAME = "MARS EXPRESS HRSC MAP PROJECTED REFDR V3.0"
DETECTOR_ID = MEX_HRSC_NADIR
EVENT_TYPE = "MARS-REGIONAL-MAPPING-Im-Gl-La"
INSTRUMENT_HOST_ID = MEX
INSTRUMENT_HOST_NAME = "MARS EXPRESS"
INSTRUMENT_ID = HRSC
INSTRUMENT_NAME = "HIGH RESOLUTION STEREO CAMERA"
MISSION_NAME = "MARS EXPRESS"
MISSION_PHASE_NAME = ME_Phase_8
PROCESSING_LEVEL_ID = 3
PRODUCT_CREATION_TIME = 2016-04-25T07:40:35.000Z
PRODUCT_ID = "H4424_0000_ND3.JP2"
RELEASE_ID = 0050
REVISION_ID = 0000
/* QUALITY DATA ELEMENTS */
DATA_QUALITY_ID = 2
DATA_QUALITY_DESC = "Data calculated based on photogrammetrically improved orbit and attitude data"
/* TIME DATA ELEMENTS */
SPACECRAFT_CLOCK_START_COUNT = "1/0129984708.08240"
SPACECRAFT_CLOCK_STOP_COUNT = "1/0129985018.22782"
START_TIME = 2007-06-15T10:52:27.702Z
STOP_TIME = 2007-06-15T10:56:34.718Z
/* ORBITAL DATA ELEMENTS */
ASCENDING_NODE_LONGITUDE = 135.71
MAXIMUM_RESOLUTION = 11.6
FOOTPRINT_POINT_LATITUDE = (-78.8786,-78.7296,-78.4591,-78.137, -77.8136,-77.4892,-77.1627,-76.8349, -76.5059,-76.1751,-75.8439,-75.5112, -75.1773,-74.8426,-74.5101,-74.1843, -73.8577,-73.5302,-73.202,-72.8731, -72.5544,-72.2352,-71.9154,-71.5949, -71.2738,-70.9522,-70.4801,-70.1683, -69.8559,-69.5433,-69.2304,-68.917, -68.6033,-68.1346,-67.8312,-67.5274, -67.2235,-66.9192,-66.6146,-66.3099, -66.0049,-65.6996,-65.394,-65.0883, -64.7825,-64.4764,-64.171,-63.5775, -63.1346,-62.8615,-62.9011,-63.0748, -63.3721,-63.6694,-64.2665,-64.5734, -64.8816,-65.1897,-65.4977,-65.8055, -66.1131,-66.4206,-66.7279,-67.035, -67.342,-67.6487,-67.9552,-68.2616, -68.7346,-69.0517,-69.3685,-69.685, -70.0012,-70.3172,-70.6329,-70.9482, -71.4371,-71.7628,-72.0882,-72.4131, -72.7377,-73.0618,-73.396,-73.7303, -74.0642,-74.3976,-74.7304,-75.0699, -75.4126,-75.7546,-76.096,-76.4367, -76.7767,-77.116,-77.4546,-77.7921, -78.129,-78.4648,-78.7999,-78.8786)
FOOTPRINT_POINT_LONGITUDE = (271.315,268.788,267.484,268.052, 268.593,269.112,269.597,270.059,270.499 ,270.911,271.312,271.691,272.051, 272.396,272.722,273.027,273.319,273.599 ,273.867,274.125,274.365,274.596, 274.818,275.031,275.235,275.433,275.712 ,275.885,276.051,276.215,276.372, 276.525,276.673,276.886,277.017,277.143 ,277.267,277.387,277.503,277.616, 277.726,277.832,277.934,278.035,278.133 ,278.228,278.32,278.489,278.614,279.417 ,280.292,280.892,280.838,280.784, 280.669,280.608,280.545,280.479,280.414 ,280.344,280.274,280.202,280.127, 280.051,279.972,279.89,279.807,279.721, 279.584,279.488,279.39,279.287,279.179, 279.07,278.957,278.84,278.659,278.528, 278.391,278.248,278.102,277.949,277.776 ,277.602,277.423,277.236,277.04,276.833 ,276.612,276.38,276.136,275.88,275.61, 275.329,275.035,274.715,274.386,274.032 ,273.662,271.315)
ORBIT_NUMBER = 4424
ORBITAL_ECCENTRICITY = 0.571
ORBITAL_INCLINATION = 86.68
ORBITAL_SEMIMAJOR_AXIS = 8551.64
PERIAPSIS_ALTITUDE = 291.94
PERIAPSIS_ARGUMENT_ANGLE = 298.99
PERIAPSIS_TIME = 2007-06-15T10:57:06.000Z
SPACECRAFT_ORIENTATION = (0.0,1.0,0.0)
^MEX_ORIENTATION_DESC = "MEX_ORIENTATION_DESC.TXT"
SPACECRAFT_POINTING_MODE = NADIR
^MEX_POINTING_DESC = "MEX_POINTING_DESC.TXT"
RIGHT_ASCENSION = -1e+32
DECLINATION = -1e+32
OFFSET_ANGLE = -1e+32
SPACECRAFT_SOLAR_DISTANCE = 2.06795e+08
TARGET_NAME = MARS
/* CAMERA DATA ELEMENTS */
DETECTOR_TEMPERATURE = 18.1666
FOCAL_PLANE_TEMPERATURE = 8.7872
INST_CMPRS_NAME = "DISCRETE COSINE TRANSFORMATION (DCT)"
INST_CMPRS_RATIO = 7.00485
INST_CMPRS_QUALITY = 0
INST_CMPRS_QUANTZ_TBL_ID = 0
INSTRUMENT_TEMPERATURE = 11.4379
LENS_TEMPERATURE = 9.195
MACROPIXEL_SIZE = 1
MISSING_FRAMES = 2
PIXEL_SUBSAMPLING_FLAG = N
SIGNAL_CHAIN_ID = 0
/* RADIOMETRIC DATA ELEMENTS */
BANDWIDTH = 177.0
CENTER_FILTER_WAVELENGTH = 677.5
RADIANCE_OFFSET = 5.81173
RADIANCE_SCALING_FACTOR = 0.0497011
REFLECTANCE_SCALING_FACTOR = 0.0011291
MEX:REFLECTANCE_OFFSET = 0.13203
/* IMAGE OBJECT DEFINITIONS */
OBJECT = IMAGE
  INTERCHANGE_FORMAT = BINARY
  LINES = 76594
  LINE_SAMPLES = 17574
  SAMPLE_TYPE = UNSIGNED_INTEGER
  SAMPLE_BITS = 8
  BANDS = 1
  BAND_STORAGE_TYPE = BAND_SEQUENTIAL
  MAXIMUM = 255
  MEAN = 61.1616
  MINIMUM = 1
  STANDARD_DEVIATION = 59.1289
END_OBJECT = IMAGE
/* MAP OBJECT DEFINITIONS */
OBJECT = IMAGE_MAP_PROJECTION
  ^DATA_SET_MAP_PROJECTION_CATALOG= "DSMAP.CAT"
  A_AXIS_RADIUS = 3396.0
  B_AXIS_RADIUS = 3396.0
  C_AXIS_RADIUS = 3396.0
  CENTER_LATITUDE = 0.0
  CENTER_LONGITUDE = 277.0
  COORDINATE_SYSTEM_NAME = PLANETOGRAPHIC
  COORDINATE_SYSTEM_TYPE = "BODY-FIXED ROTATING"
  EASTERNMOST_LONGITUDE = 280.892
  FIRST_STANDARD_PARALLEL = "N/A"
  LINE_FIRST_PIXEL = 1
  LINE_LAST_PIXEL = 76594
  LINE_PROJECTION_OFFSET = -297912.0
  MAP_PROJECTION_ROTATION = 0.0
  MAP_PROJECTION_TYPE = SINUSOIDAL
  MAP_RESOLUTION = 4741.71043093333
  MAP_SCALE = 0.0125
  MAXIMUM_LATITUDE = -62.8615
  MINIMUM_LATITUDE = -78.87860000000001
  POSITIVE_LONGITUDE_DIRECTION = EAST
  REFERENCE_LATITUDE = "N/A"
  REFERENCE_LONGITUDE = "N/A"
  SAMPLE_FIRST_PIXEL = 1
  SAMPLE_LAST_PIXEL = 17574
  SAMPLE_PROJECTION_OFFSET = 9100.0
  SECOND_STANDARD_PARALLEL = "N/A"
  WESTERNMOST_LONGITUDE = 267.484
END_OBJECT = IMAGE_MAP_PROJECTION
/* The JPEG2000 image data file associated with this label. */
OBJECT = COMPRESSED_FILE
  FILE_NAME = "H4424_0000_ND3.JP2"
  RECORD_TYPE = UNDEFINED
  FILE_RECORDS = UNK
  ENCODING_TYPE = "JP2"
  INTERCHANGE_FORMAT = BINARY
  UNCOMPRESSED_FILE_NAME = "H4424_0000_ND3.IMG"
  REQUIRED_STORAGE_BYTES = "1346115678"
  ^DESCRIPTION = "JP2INFO.TXT"
END_OBJECT = COMPRESSED_FILE
END
