PDS_VERSION_ID = PDS3
/* FILE DATA ELEMENTS */
RECORD_TYPE = STREAM
/* POINTERS TO DATA OBJECTS */
^COMPRESSED_FILE = "H4425_0000_S13.JP2"
/* IDENTIFICATION DATA ELEMENTS */
DATA_SET_ID = "MEX-M-HRSC-5-REFDR-MAPPROJECTED-V3.0"
DATA_SET_NAME = "MARS EXPRESS HRSC MAP PROJECTED REFDR V3.0"
DETECTOR_ID = MEX_HRSC_S1
EVENT_TYPE = "MARS-REGIONAL-MAPPING-Im-Gl-Pf"
INSTRUMENT_HOST_ID = MEX
INSTRUMENT_HOST_NAME = "MARS EXPRESS"
INSTRUMENT_ID = HRSC
INSTRUMENT_NAME = "HIGH RESOLUTION STEREO CAMERA"
MISSION_NAME = "MARS EXPRESS"
MISSION_PHASE_NAME = ME_Phase_8
PROCESSING_LEVEL_ID = 3
PRODUCT_CREATION_TIME = 2016-04-25T07:40:35.000Z
PRODUCT_ID = "H4425_0000_S13.JP2"
RELEASE_ID = 0050
REVISION_ID = 0000
/* QUALITY DATA ELEMENTS */
DATA_QUALITY_ID = 1
DATA_QUALITY_DESC = "Data calculated based on original SPICE kernels"
/* TIME DATA ELEMENTS */
SPACECRAFT_CLOCK_START_COUNT = "1/0130008897.07299"
SPACECRAFT_CLOCK_STOP_COUNT = "1/0130009118.14685"
START_TIME = 2007-06-15T17:36:09.475Z
STOP_TIME = 2007-06-15T17:38:40.331Z
/* ORBITAL DATA ELEMENTS */
ASCENDING_NODE_LONGITUDE = 135.68
MAXIMUM_RESOLUTION = 25.5
FOOTPRINT_POINT_LATITUDE = (-79.2131,-79.1676,-79.1199,-79.0181, -78.9217,-78.7169,-78.5116,-78.3068, -78.1007,-77.8944,-77.688,-77.4813, -77.1732,-76.8599,-76.6517,-76.4435, -76.2348,-76.0293,-75.8269,-75.625, -75.4222,-75.2196,-75.0163,-74.8136, -74.6099,-74.3051,-74.104,-73.9069, -73.7098,-73.5134,-73.319,-73.1264, -72.9303,-72.73,-72.4299,-72.2319, -72.0348,-71.8354,-71.6433,-71.4566, -71.2664,-71.0723,-70.7839,-70.5939, -70.4023,-70.1146,-69.9235,-69.7368, -69.5459,-69.3526,-69.0613,-69.1238, -69.1603,-69.2161,-69.3348,-69.5281, -69.8183,-70.0119,-70.2052,-70.3993, -70.5924,-70.8819,-71.0753,-71.2681, -71.4609,-71.6536,-71.846,-72.039, -72.2377,-72.535,-72.8341,-73.1414, -73.3343,-73.5345,-73.7327,-73.932, -74.1326,-74.3332,-74.5373,-74.7442, -74.9506,-75.157,-75.363,-75.5698, -75.7762,-75.9817,-76.2899,-76.4984, -76.7104,-76.9233,-77.2421,-77.5638, -77.7764,-77.9841,-78.3008,-78.5127, -78.8302,-79.0428,-79.2516,-79.2131)
FOOTPRINT_POINT_LONGITUDE = (178.459,177.481,176.523,174.664, 173.394,173.693,173.981,174.259,174.526 ,174.785,175.034,175.274,175.619, 175.948,176.158,176.361,176.558,176.746 ,176.924,177.098,177.266,177.429, 177.588,177.742,177.892,178.108,178.246 ,178.377,178.505,178.63,178.751,178.869 ,178.985,179.097,179.259,179.365, 179.467,179.567,179.662,179.755,179.845 ,179.933,180.061,180.145,180.226, 180.345,180.422,180.498,180.572,180.643 ,180.747,181.738,182.35,183.367,183.759 ,183.721,183.663,183.624,183.583, 183.543,183.5,183.433,183.388,183.341, 183.293,183.243,183.192,183.139,183.083 ,182.993,182.905,182.831,182.753, 182.691,182.622,182.553,182.487,182.418 ,182.344,182.267,182.188,182.106, 182.021,181.935,181.847,181.753,181.607 ,181.504,181.395,181.286,181.114, 180.941,180.816,180.673,180.464,180.32, 180.095,179.94,179.768,178.459)
ORBIT_NUMBER = 4425
ORBITAL_ECCENTRICITY = 0.57
ORBITAL_INCLINATION = 86.69
ORBITAL_SEMIMAJOR_AXIS = 8550.95
PERIAPSIS_ALTITUDE = 292.25
PERIAPSIS_ARGUMENT_ANGLE = 298.82
PERIAPSIS_TIME = 2007-06-15T17:40:16.000Z
SPACECRAFT_ORIENTATION = (0.0,1.0,0.0)
^MEX_ORIENTATION_DESC = "MEX_ORIENTATION_DESC.TXT"
SPACECRAFT_POINTING_MODE = ACROSSTRACK
^MEX_POINTING_DESC = "MEX_POINTING_DESC.TXT"
RIGHT_ASCENSION = -1e+32
DECLINATION = -1e+32
OFFSET_ANGLE = -0.84
SPACECRAFT_SOLAR_DISTANCE = 2.06802e+08
TARGET_NAME = MARS
/* CAMERA DATA ELEMENTS */
DETECTOR_TEMPERATURE = 17.7588
FOCAL_PLANE_TEMPERATURE = 8.5833
INST_CMPRS_NAME = "DISCRETE COSINE TRANSFORMATION (DCT)"
INST_CMPRS_RATIO = 13.2569
INST_CMPRS_QUALITY = 0
INST_CMPRS_QUANTZ_TBL_ID = 0
INSTRUMENT_TEMPERATURE = 11.4379
LENS_TEMPERATURE = 8.9911
MACROPIXEL_SIZE = 2
MISSING_FRAMES = 0
PIXEL_SUBSAMPLING_FLAG = N
SIGNAL_CHAIN_ID = 1
/* RADIOMETRIC DATA ELEMENTS */
BANDWIDTH = 180.0
CENTER_FILTER_WAVELENGTH = 677.0
RADIANCE_OFFSET = 6.93804
RADIANCE_SCALING_FACTOR = 0.0138656
REFLECTANCE_SCALING_FACTOR = 0.000309379
MEX:REFLECTANCE_OFFSET = 0.154806
/* IMAGE OBJECT DEFINITIONS */
OBJECT = IMAGE
  INTERCHANGE_FORMAT = BINARY
  LINES = 24258
  LINE_SAMPLES = 6352
  SAMPLE_TYPE = UNSIGNED_INTEGER
  SAMPLE_BITS = 8
  BANDS = 1
  BAND_STORAGE_TYPE = BAND_SEQUENTIAL
  MAXIMUM = 255
  MEAN = 133.071
  MINIMUM = 1
  STANDARD_DEVIATION = 46.9605
END_OBJECT = IMAGE
/* MAP OBJECT DEFINITIONS */
OBJECT = IMAGE_MAP_PROJECTION
  ^DATA_SET_MAP_PROJECTION_CATALOG= "DSMAP.CAT"
  A_AXIS_RADIUS = 3396.0
  B_AXIS_RADIUS = 3396.0
  C_AXIS_RADIUS = 3396.0
  CENTER_LATITUDE = 0.0
  CENTER_LONGITUDE = 180.0
  COORDINATE_SYSTEM_NAME = PLANETOGRAPHIC
  COORDINATE_SYSTEM_TYPE = "BODY-FIXED ROTATING"
  EASTERNMOST_LONGITUDE = 183.759
  FIRST_STANDARD_PARALLEL = "N/A"
  LINE_FIRST_PIXEL = 1
  LINE_LAST_PIXEL = 24258
  LINE_PROJECTION_OFFSET = -163880.25
  MAP_PROJECTION_ROTATION = 0.0
  MAP_PROJECTION_TYPE = SINUSOIDAL
  MAP_RESOLUTION = 2370.85521546667
  MAP_SCALE = 0.025
  MAXIMUM_LATITUDE = -69.0613
  MINIMUM_LATITUDE = -79.2516
  POSITIVE_LONGITUDE_DIRECTION = EAST
  REFERENCE_LATITUDE = "N/A"
  REFERENCE_LONGITUDE = "N/A"
  SAMPLE_FIRST_PIXEL = 1
  SAMPLE_LAST_PIXEL = 6352
  SAMPLE_PROJECTION_OFFSET = 3186.25
  SECOND_STANDARD_PARALLEL = "N/A"
  WESTERNMOST_LONGITUDE = 173.394
END_OBJECT = IMAGE_MAP_PROJECTION
/* The JPEG2000 image data file associated with this label. */
OBJECT = COMPRESSED_FILE
  FILE_NAME = "H4425_0000_S13.JP2"
  RECORD_TYPE = UNDEFINED
  FILE_RECORDS = UNK
  ENCODING_TYPE = "JP2"
  INTERCHANGE_FORMAT = BINARY
  UNCOMPRESSED_FILE_NAME = "H4425_0000_S13.IMG"
  REQUIRED_STORAGE_BYTES = "154118576"
  ^DESCRIPTION = "JP2INFO.TXT"
END_OBJECT = COMPRESSED_FILE
END
