PDS_VERSION_ID = PDS3
/* FILE DATA ELEMENTS */
RECORD_TYPE = STREAM
/* POINTERS TO DATA OBJECTS */
^COMPRESSED_FILE = "H4427_0000_P23.JP2"
/* IDENTIFICATION DATA ELEMENTS */
DATA_SET_ID = "MEX-M-HRSC-5-REFDR-MAPPROJECTED-V3.0"
DATA_SET_NAME = "MARS EXPRESS HRSC MAP PROJECTED REFDR V3.0"
DETECTOR_ID = MEX_HRSC_P2
EVENT_TYPE = "MARS-REGIONAL-MAPPING-Im-Gl-Pf"
INSTRUMENT_HOST_ID = MEX
INSTRUMENT_HOST_NAME = "MARS EXPRESS"
INSTRUMENT_ID = HRSC
INSTRUMENT_NAME = "HIGH RESOLUTION STEREO CAMERA"
MISSION_NAME = "MARS EXPRESS"
MISSION_PHASE_NAME = ME_Phase_8
PROCESSING_LEVEL_ID = 3
PRODUCT_CREATION_TIME = 2016-04-25T07:40:35.000Z
PRODUCT_ID = "H4427_0000_P23.JP2"
RELEASE_ID = 0050
REVISION_ID = 0000
/* QUALITY DATA ELEMENTS */
DATA_QUALITY_ID = 2
DATA_QUALITY_DESC = "Data calculated based on photogrammetrically improved orbit and attitude data"
/* TIME DATA ELEMENTS */
SPACECRAFT_CLOCK_START_COUNT = "1/0130057349.07298"
SPACECRAFT_CLOCK_STOP_COUNT = "1/0130057634.07684"
START_TIME = 2007-06-16T07:02:44.439Z
STOP_TIME = 2007-06-16T07:06:33.088Z
/* ORBITAL DATA ELEMENTS */
ASCENDING_NODE_LONGITUDE = 135.65
MAXIMUM_RESOLUTION = 23.9
FOOTPRINT_POINT_LATITUDE = (-75.5443,-75.5291,-75.5108,-75.4902, -75.4676,-75.4428,-75.4161,-75.1862, -74.88,-74.7244,-74.4163,-73.9517, -73.6421,-73.3323,-73.0308,-72.7285, -72.2737,-71.9704,-71.666,-71.2189, -70.7707,-70.328,-70.0307,-69.7307, -69.2827,-68.9975,-68.5657,-68.1318, -67.8419,-67.4067,-66.9652,-66.6738, -66.3843,-65.9556,-65.6729,-65.3913, -64.9651,-64.543,-64.2597,-63.977, -63.693,-63.4065,-63.1219,-62.8363, -62.409,-62.1239,-61.695,-61.4074, -61.1914,-60.9068,-60.6215,-60.6032, -60.6093,-60.6132,-60.7583,-61.046, -61.4074,-61.837,-62.1236,-62.4094, -62.6964,-62.984,-63.2707,-63.5559, -63.8413,-64.2678,-64.5524,-64.9793, -65.264,-65.5481,-65.973,-66.4049, -66.6983,-66.992,-67.2851,-67.7246, -68.0174,-68.3096,-68.7476,-69.1837, -69.4797,-69.7787,-70.0772,-70.3792, -70.8294,-71.1284,-71.4262,-71.8834, -72.1916,-72.4989,-72.8051,-73.1121, -73.4173,-73.7315,-74.0467,-74.3616, -74.6754,-74.9879,-75.3014,-75.5443)
FOOTPRINT_POINT_LONGITUDE = (345.169,344.466,343.727,342.998,342.28 ,341.573,340.874,340.743,340.986, 341.107,341.335,341.662,341.867,342.065 ,342.25,342.427,342.682,342.844,343.0, 343.218,343.43,343.623,343.748,343.872, 344.047,344.15,344.303,344.451,344.546, 344.683,344.82,344.905,344.984,345.1, 345.174,345.245,345.351,345.448,345.512 ,345.573,345.634,345.695,345.752, 345.809,345.89,345.942,346.018,346.069, 346.105,346.15,346.195,346.661,347.153, 347.805,348.337,348.311,348.276,348.238 ,348.21,348.184,348.153,348.119,348.087 ,348.057,348.026,347.981,347.948, 347.896,347.859,347.823,347.768,347.703 ,347.662,347.617,347.572,347.501, 347.451,347.401,347.322,347.243,347.188 ,347.135,347.081,347.01,346.907,346.839 ,346.771,346.656,346.575,346.492,346.41 ,346.318,346.228,346.127,346.023, 345.914,345.803,345.692,345.566, 345.169)
ORBIT_NUMBER = 4427
ORBITAL_ECCENTRICITY = 0.57
ORBITAL_INCLINATION = 86.7
ORBITAL_SEMIMAJOR_AXIS = 8550.09
PERIAPSIS_ALTITUDE = 292.11
PERIAPSIS_ARGUMENT_ANGLE = 298.45
PERIAPSIS_TIME = 2007-06-16T07:06:38.000Z
SPACECRAFT_ORIENTATION = (0.0,1.0,0.0)
^MEX_ORIENTATION_DESC = "MEX_ORIENTATION_DESC.TXT"
SPACECRAFT_POINTING_MODE = ACROSSTRACK
^MEX_POINTING_DESC = "MEX_POINTING_DESC.TXT"
RIGHT_ASCENSION = -1e+32
DECLINATION = -1e+32
OFFSET_ANGLE = -0.83
SPACECRAFT_SOLAR_DISTANCE = 2.06816e+08
TARGET_NAME = MARS
/* CAMERA DATA ELEMENTS */
DETECTOR_TEMPERATURE = 18.7783
FOCAL_PLANE_TEMPERATURE = 8.9911
INST_CMPRS_NAME = "DISCRETE COSINE TRANSFORMATION (DCT)"
INST_CMPRS_RATIO = 8.67161
INST_CMPRS_QUALITY = 0
INST_CMPRS_QUANTZ_TBL_ID = 0
INSTRUMENT_TEMPERATURE = 11.4379
LENS_TEMPERATURE = 9.8067
MACROPIXEL_SIZE = 2
MISSING_FRAMES = 24
PIXEL_SUBSAMPLING_FLAG = N
SIGNAL_CHAIN_ID = 3
/* RADIOMETRIC DATA ELEMENTS */
BANDWIDTH = 177.0
CENTER_FILTER_WAVELENGTH = 676.5
RADIANCE_OFFSET = 4.92832
RADIANCE_SCALING_FACTOR = 0.0643169
REFLECTANCE_SCALING_FACTOR = 0.00145865
MEX:REFLECTANCE_OFFSET = 0.11177
/* IMAGE OBJECT DEFINITIONS */
OBJECT = IMAGE
  INTERCHANGE_FORMAT = BINARY
  LINES = 35377
  LINE_SAMPLES = 5964
  SAMPLE_TYPE = UNSIGNED_INTEGER
  SAMPLE_BITS = 8
  BANDS = 1
  BAND_STORAGE_TYPE = BAND_SEQUENTIAL
  MAXIMUM = 255
  MEAN = 75.0331
  MINIMUM = 1
  STANDARD_DEVIATION = 75.7202
END_OBJECT = IMAGE
/* MAP OBJECT DEFINITIONS */
OBJECT = IMAGE_MAP_PROJECTION
  ^DATA_SET_MAP_PROJECTION_CATALOG= "DSMAP.CAT"
  A_AXIS_RADIUS = 3396.0
  B_AXIS_RADIUS = 3396.0
  C_AXIS_RADIUS = 3396.0
  CENTER_LATITUDE = 0.0
  CENTER_LONGITUDE = 346.0
  COORDINATE_SYSTEM_NAME = PLANETOGRAPHIC
  COORDINATE_SYSTEM_TYPE = "BODY-FIXED ROTATING"
  EASTERNMOST_LONGITUDE = 348.337
  FIRST_STANDARD_PARALLEL = "N/A"
  LINE_FIRST_PIXEL = 1
  LINE_LAST_PIXEL = 35377
  LINE_PROJECTION_OFFSET = -143571.75
  MAP_PROJECTION_ROTATION = 0.0
  MAP_PROJECTION_TYPE = SINUSOIDAL
  MAP_RESOLUTION = 2370.85521546667
  MAP_SCALE = 0.025
  MAXIMUM_LATITUDE = -60.6032
  MINIMUM_LATITUDE = -75.54430000000001
  POSITIVE_LONGITUDE_DIRECTION = EAST
  REFERENCE_LATITUDE = "N/A"
  REFERENCE_LONGITUDE = "N/A"
  SAMPLE_FIRST_PIXEL = 1
  SAMPLE_LAST_PIXEL = 5964
  SAMPLE_PROJECTION_OFFSET = 3214.25
  SECOND_STANDARD_PARALLEL = "N/A"
  WESTERNMOST_LONGITUDE = 340.743
END_OBJECT = IMAGE_MAP_PROJECTION
/* The JPEG2000 image data file associated with this label. */
OBJECT = COMPRESSED_FILE
  FILE_NAME = "H4427_0000_P23.JP2"
  RECORD_TYPE = UNDEFINED
  FILE_RECORDS = UNK
  ENCODING_TYPE = "JP2"
  INTERCHANGE_FORMAT = BINARY
  UNCOMPRESSED_FILE_NAME = "H4427_0000_P23.IMG"
  REQUIRED_STORAGE_BYTES = "211018248"
  ^DESCRIPTION = "JP2INFO.TXT"
END_OBJECT = COMPRESSED_FILE
END
