PDS_VERSION_ID = PDS3
/* FILE DATA ELEMENTS */
RECORD_TYPE = STREAM
/* POINTERS TO DATA OBJECTS */
^COMPRESSED_FILE = "H4428_0000_GR3.JP2"
/* IDENTIFICATION DATA ELEMENTS */
DATA_SET_ID = "MEX-M-HRSC-5-REFDR-MAPPROJECTED-V3.0"
DATA_SET_NAME = "MARS EXPRESS HRSC MAP PROJECTED REFDR V3.0"
DETECTOR_ID = MEX_HRSC_GREEN
EVENT_TYPE = "MARS-REGIONAL-MAPPING-Im"
INSTRUMENT_HOST_ID = MEX
INSTRUMENT_HOST_NAME = "MARS EXPRESS"
INSTRUMENT_ID = HRSC
INSTRUMENT_NAME = "HIGH RESOLUTION STEREO CAMERA"
MISSION_NAME = "MARS EXPRESS"
MISSION_PHASE_NAME = ME_Phase_8
PROCESSING_LEVEL_ID = 3
PRODUCT_CREATION_TIME = 2016-04-25T07:40:35.000Z
PRODUCT_ID = "H4428_0000_GR3.JP2"
RELEASE_ID = 0050
REVISION_ID = 0000
/* QUALITY DATA ELEMENTS */
DATA_QUALITY_ID = 1
DATA_QUALITY_DESC = "Data calculated based on original SPICE kernels"
/* TIME DATA ELEMENTS */
SPACECRAFT_CLOCK_START_COUNT = "1/0130081560.08249"
SPACECRAFT_CLOCK_STOP_COUNT = "1/0130081846.55977"
START_TIME = 2007-06-16T13:46:40.079Z
STOP_TIME = 2007-06-16T13:50:27.321Z
/* ORBITAL DATA ELEMENTS */
ASCENDING_NODE_LONGITUDE = 135.63
MAXIMUM_RESOLUTION = 92.3
FOOTPRINT_POINT_LATITUDE = (-74.2856,-74.2477,-74.1786,-74.1415, -74.105,-73.946,-73.7875,-73.4792, -73.1702,-72.8605,-72.3949,-72.0838, -71.6205,-71.3189,-71.0167,-70.7142, -70.4112,-70.1078,-69.804,-69.4999, -69.0466,-68.7526,-68.458,-68.0164, -67.7215,-67.4262,-67.13,-66.6863, -66.2421,-65.9457,-65.6493,-65.353, -64.9153,-64.6292,-64.2002,-63.7703, -63.3405,-62.9105,-62.6238,-62.337, -62.0501,-61.6196,-61.3326,-61.0456, -60.7585,-60.4713,-60.0407,-59.7535, -59.4664,-59.2996,-59.3192,-59.3341, -59.3549,-59.3688,-59.6575,-59.9461, -60.3788,-60.8116,-61.1001,-61.5328, -61.9656,-62.2541,-62.687,-62.9755, -63.4081,-63.6965,-64.129,-64.4173, -64.7055,-64.9938,-65.2831,-65.5822, -65.8811,-66.1799,-66.4784,-66.7788, -67.0776,-67.5244,-67.8231,-68.1211, -68.4187,-68.7154,-69.013,-69.4646, -69.7728,-70.2342,-70.5416,-71.0024, -71.3092,-71.6158,-71.922,-72.397, -72.7132,-73.0284,-73.344,-73.6591, -73.9737,-74.134,-74.2965,-74.2856)
FOOTPRINT_POINT_LONGITUDE = (242.051,241.364,240.21,239.632,238.905 ,239.058,239.207,239.487,239.757, 240.017,240.39,240.626,240.962,241.169, 241.371,241.565,241.752,241.936,242.111 ,242.282,242.526,242.677,242.828, 243.028,243.161,243.294,243.434,243.621 ,243.797,243.911,244.02,244.121,244.282 ,244.379,244.514,244.653,244.782, 244.906,244.986,245.063,245.139,245.251 ,245.322,245.391,245.46,245.526,245.623 ,245.686,245.747,246.194,246.601, 246.933,247.428,247.75,247.706,247.66, 247.589,247.516,247.466,247.389,247.309 ,247.254,247.17,247.112,247.022,246.961 ,246.866,246.8,246.733,246.665,246.595, 246.52,246.443,246.364,246.283,246.202, 246.118,245.984,245.893,245.799,245.702 ,245.6,245.498,245.337,245.222,245.043, 244.919,244.725,244.59,244.451,244.307, 244.074,243.91,243.739,243.563,243.38, 243.19,243.09,242.986,242.051)
ORBIT_NUMBER = 4428
ORBITAL_ECCENTRICITY = 0.571
ORBITAL_INCLINATION = 86.69
ORBITAL_SEMIMAJOR_AXIS = 8550.39
PERIAPSIS_ALTITUDE = 291.36
PERIAPSIS_ARGUMENT_ANGLE = 298.27
PERIAPSIS_TIME = 2007-06-16T13:49:50.000Z
SPACECRAFT_ORIENTATION = (0.0,1.0,0.0)
^MEX_ORIENTATION_DESC = "MEX_ORIENTATION_DESC.TXT"
SPACECRAFT_POINTING_MODE = ACROSSTRACK
^MEX_POINTING_DESC = "MEX_POINTING_DESC.TXT"
RIGHT_ASCENSION = -1e+32
DECLINATION = -1e+32
OFFSET_ANGLE = 0.3
SPACECRAFT_SOLAR_DISTANCE = 2.06823e+08
TARGET_NAME = MARS
/* CAMERA DATA ELEMENTS */
DETECTOR_TEMPERATURE = 19.39
FOCAL_PLANE_TEMPERATURE = 8.7872
INST_CMPRS_NAME = "DISCRETE COSINE TRANSFORMATION (DCT)"
INST_CMPRS_RATIO = 33.4978
INST_CMPRS_QUALITY = 0
INST_CMPRS_QUANTZ_TBL_ID = 0
INSTRUMENT_TEMPERATURE = 11.6418
LENS_TEMPERATURE = 8.9911
MACROPIXEL_SIZE = 8
MISSING_FRAMES = 0
PIXEL_SUBSAMPLING_FLAG = N
SIGNAL_CHAIN_ID = 2
/* RADIOMETRIC DATA ELEMENTS */
BANDWIDTH = 88.0
CENTER_FILTER_WAVELENGTH = 538.0
RADIANCE_OFFSET = 2.09552
RADIANCE_SCALING_FACTOR = 0.0031346
REFLECTANCE_SCALING_FACTOR = 0.000115443
MEX:REFLECTANCE_OFFSET = 0.0771755
/* IMAGE OBJECT DEFINITIONS */
OBJECT = IMAGE
  INTERCHANGE_FORMAT = BINARY
  LINES = 8936
  LINE_SAMPLES = 1824
  SAMPLE_TYPE = UNSIGNED_INTEGER
  SAMPLE_BITS = 8
  BANDS = 1
  BAND_STORAGE_TYPE = BAND_SEQUENTIAL
  MAXIMUM = 255
  MEAN = 136.183
  MINIMUM = 1
  STANDARD_DEVIATION = 36.8329
END_OBJECT = IMAGE
/* MAP OBJECT DEFINITIONS */
OBJECT = IMAGE_MAP_PROJECTION
  ^DATA_SET_MAP_PROJECTION_CATALOG= "DSMAP.CAT"
  A_AXIS_RADIUS = 3396.0
  B_AXIS_RADIUS = 3396.0
  C_AXIS_RADIUS = 3396.0
  CENTER_LATITUDE = 0.0
  CENTER_LONGITUDE = 245.0
  COORDINATE_SYSTEM_NAME = PLANETOGRAPHIC
  COORDINATE_SYSTEM_TYPE = "BODY-FIXED ROTATING"
  EASTERNMOST_LONGITUDE = 247.75
  FIRST_STANDARD_PARALLEL = "N/A"
  LINE_FIRST_PIXEL = 1
  LINE_LAST_PIXEL = 8936
  LINE_PROJECTION_OFFSET = -35134.4375
  MAP_PROJECTION_ROTATION = 0.0
  MAP_PROJECTION_TYPE = SINUSOIDAL
  MAP_RESOLUTION = 592.713803866667
  MAP_SCALE = 0.1
  MAXIMUM_LATITUDE = -59.2996
  MINIMUM_LATITUDE = -74.29649999999999
  POSITIVE_LONGITUDE_DIRECTION = EAST
  REFERENCE_LATITUDE = "N/A"
  REFERENCE_LONGITUDE = "N/A"
  SAMPLE_FIRST_PIXEL = 1
  SAMPLE_LAST_PIXEL = 1824
  SAMPLE_PROJECTION_OFFSET = 997.3125
  SECOND_STANDARD_PARALLEL = "N/A"
  WESTERNMOST_LONGITUDE = 238.905
END_OBJECT = IMAGE_MAP_PROJECTION
/* The JPEG2000 image data file associated with this label. */
OBJECT = COMPRESSED_FILE
  FILE_NAME = "H4428_0000_GR3.JP2"
  RECORD_TYPE = UNDEFINED
  FILE_RECORDS = UNK
  ENCODING_TYPE = "JP2"
  INTERCHANGE_FORMAT = BINARY
  UNCOMPRESSED_FILE_NAME = "H4428_0000_GR3.IMG"
  REQUIRED_STORAGE_BYTES = "16319328"
  ^DESCRIPTION = "JP2INFO.TXT"
END_OBJECT = COMPRESSED_FILE
END
