PDS_VERSION_ID = PDS3
/* FILE DATA ELEMENTS */
RECORD_TYPE = STREAM
/* POINTERS TO DATA OBJECTS */
^COMPRESSED_FILE = "H4429_0000_P23.JP2"
/* IDENTIFICATION DATA ELEMENTS */
DATA_SET_ID = "MEX-M-HRSC-5-REFDR-MAPPROJECTED-V3.0"
DATA_SET_NAME = "MARS EXPRESS HRSC MAP PROJECTED REFDR V3.0"
DETECTOR_ID = MEX_HRSC_P2
EVENT_TYPE = "MARS-REGIONAL-MAPPING-Vo-Te-Fl"
INSTRUMENT_HOST_ID = MEX
INSTRUMENT_HOST_NAME = "MARS EXPRESS"
INSTRUMENT_ID = HRSC
INSTRUMENT_NAME = "HIGH RESOLUTION STEREO CAMERA"
MISSION_NAME = "MARS EXPRESS"
MISSION_PHASE_NAME = ME_Phase_8
PROCESSING_LEVEL_ID = 3
PRODUCT_CREATION_TIME = 2016-04-25T07:40:35.000Z
PRODUCT_ID = "H4429_0000_P23.JP2"
RELEASE_ID = 0050
REVISION_ID = 0000
/* QUALITY DATA ELEMENTS */
DATA_QUALITY_ID = 2
DATA_QUALITY_DESC = "Data calculated based on photogrammetrically improved orbit and attitude data"
/* TIME DATA ELEMENTS */
SPACECRAFT_CLOCK_START_COUNT = "1/0130105986.09069"
SPACECRAFT_CLOCK_STOP_COUNT = "1/0130106253.49612"
START_TIME = 2007-06-16T20:33:19.088Z
STOP_TIME = 2007-06-16T20:36:44.579Z
/* ORBITAL DATA ELEMENTS */
ASCENDING_NODE_LONGITUDE = 135.6
MAXIMUM_RESOLUTION = 47.7
FOOTPRINT_POINT_LATITUDE = (-59.6265,-59.6087,-59.5842,-59.5032, -59.2443,-58.856,-58.5963,-58.3382, -58.0791,-57.691,-57.3026,-57.0433, -56.7842,-56.526,-56.2667,-56.0078, -55.7461,-55.4772,-55.2075,-54.937, -54.5318,-54.2616,-53.9914,-53.7214, -53.4506,-53.1803,-52.7748,-52.5041, -52.2335,-51.9622,-51.6904,-51.421, -50.9996,-50.7191,-50.4383,-50.1582, -49.8789,-49.6002,-49.3203,-48.902, -48.6195,-48.3312,-48.0388,-47.6006, -47.3103,-46.8754,-46.5862,-46.2889, -45.9916,-45.842,-45.8579,-45.866, -45.872,-46.0264,-46.326,-46.6246, -46.9138,-47.349,-47.6392,-47.9298, -48.2202,-48.5111,-48.8012,-49.0834, -49.3651,-49.6463,-50.0669,-50.3476, -50.6287,-50.9092,-51.1899,-51.4709, -51.7422,-52.0139,-52.2851,-52.5565, -52.8275,-53.099,-53.3702,-53.6411, -53.9125,-54.1837,-54.5898,-54.8614, -55.133,-55.4036,-55.8107,-56.0708, -56.4609,-56.7211,-57.111,-57.5014, -57.7618,-58.0218,-58.2818,-58.5421, -58.932,-59.1919,-59.4514,-59.6265)
FOOTPRINT_POINT_LONGITUDE = (149.642,149.196,148.645,148.055, 148.105,148.177,148.223,148.269,148.314 ,148.38,148.444,148.485,148.526,148.566 ,148.605,148.643,148.679,148.716, 148.752,148.788,148.84,148.874,148.907, 148.939,148.97,149.001,149.046,149.075, 149.103,149.13,149.156,149.183,149.222, 149.248,149.273,149.298,149.322,149.346 ,149.369,149.403,149.425,149.447, 149.467,149.495,149.514,149.542,149.561 ,149.579,149.597,149.96,150.5,150.824, 151.087,151.254,151.237,151.22,151.203, 151.177,151.16,151.141,151.123,151.104, 151.084,151.064,151.044,151.025,150.995 ,150.975,150.954,150.934,150.913, 150.891,150.869,150.847,150.825,150.802 ,150.779,150.756,150.732,150.708, 150.683,150.658,150.62,150.593,150.566, 150.539,150.496,150.469,150.428,150.4, 150.357,150.312,150.281,150.25,150.219, 150.186,150.136,150.102,150.068, 149.642)
ORBIT_NUMBER = 4429
ORBITAL_ECCENTRICITY = 0.57
ORBITAL_INCLINATION = 86.68
ORBITAL_SEMIMAJOR_AXIS = 8552.09
PERIAPSIS_ALTITUDE = 292.71
PERIAPSIS_ARGUMENT_ANGLE = 298.13
PERIAPSIS_TIME = 2007-06-16T20:33:04.000Z
SPACECRAFT_ORIENTATION = (0.0,1.0,0.0)
^MEX_ORIENTATION_DESC = "MEX_ORIENTATION_DESC.TXT"
SPACECRAFT_POINTING_MODE = NADIR
^MEX_POINTING_DESC = "MEX_POINTING_DESC.TXT"
RIGHT_ASCENSION = -1e+32
DECLINATION = -1e+32
OFFSET_ANGLE = -1e+32
SPACECRAFT_SOLAR_DISTANCE = 2.06831e+08
TARGET_NAME = MARS
/* CAMERA DATA ELEMENTS */
DETECTOR_TEMPERATURE = 18.3705
FOCAL_PLANE_TEMPERATURE = 8.3794
INST_CMPRS_NAME = "DISCRETE COSINE TRANSFORMATION (DCT)"
INST_CMPRS_RATIO = 9.96994
INST_CMPRS_QUALITY = 0
INST_CMPRS_QUANTZ_TBL_ID = 0
INSTRUMENT_TEMPERATURE = 9.6028
LENS_TEMPERATURE = 8.5833
MACROPIXEL_SIZE = 4
MISSING_FRAMES = 0
PIXEL_SUBSAMPLING_FLAG = N
SIGNAL_CHAIN_ID = 3
/* RADIOMETRIC DATA ELEMENTS */
BANDWIDTH = 177.0
CENTER_FILTER_WAVELENGTH = 676.5
RADIANCE_OFFSET = 6.21142
RADIANCE_SCALING_FACTOR = 0.016935
REFLECTANCE_SCALING_FACTOR = 0.000384123
MEX:REFLECTANCE_OFFSET = 0.140889
/* IMAGE OBJECT DEFINITIONS */
OBJECT = IMAGE
  INTERCHANGE_FORMAT = BINARY
  LINES = 16289
  LINE_SAMPLES = 2254
  SAMPLE_TYPE = UNSIGNED_INTEGER
  SAMPLE_BITS = 8
  BANDS = 1
  BAND_STORAGE_TYPE = BAND_SEQUENTIAL
  MAXIMUM = 255
  MEAN = 121.51
  MINIMUM = 1
  STANDARD_DEVIATION = 35.133
END_OBJECT = IMAGE
/* MAP OBJECT DEFINITIONS */
OBJECT = IMAGE_MAP_PROJECTION
  ^DATA_SET_MAP_PROJECTION_CATALOG= "DSMAP.CAT"
  A_AXIS_RADIUS = 3396.0
  B_AXIS_RADIUS = 3396.0
  C_AXIS_RADIUS = 3396.0
  CENTER_LATITUDE = 0.0
  CENTER_LONGITUDE = 150.0
  COORDINATE_SYSTEM_NAME = PLANETOGRAPHIC
  COORDINATE_SYSTEM_TYPE = "BODY-FIXED ROTATING"
  EASTERNMOST_LONGITUDE = 151.254
  FIRST_STANDARD_PARALLEL = "N/A"
  LINE_FIRST_PIXEL = 1
  LINE_LAST_PIXEL = 16289
  LINE_PROJECTION_OFFSET = -54336.375
  MAP_PROJECTION_ROTATION = 0.0
  MAP_PROJECTION_TYPE = SINUSOIDAL
  MAP_RESOLUTION = 1185.42760773333
  MAP_SCALE = 0.05
  MAXIMUM_LATITUDE = -45.842
  MINIMUM_LATITUDE = -59.6265
  POSITIVE_LONGITUDE_DIRECTION = EAST
  REFERENCE_LATITUDE = "N/A"
  REFERENCE_LONGITUDE = "N/A"
  SAMPLE_FIRST_PIXEL = 1
  SAMPLE_LAST_PIXEL = 2254
  SAMPLE_PROJECTION_OFFSET = 1180.375
  SECOND_STANDARD_PARALLEL = "N/A"
  WESTERNMOST_LONGITUDE = 148.055
END_OBJECT = IMAGE_MAP_PROJECTION
/* The JPEG2000 image data file associated with this label. */
OBJECT = COMPRESSED_FILE
  FILE_NAME = "H4429_0000_P23.JP2"
  RECORD_TYPE = UNDEFINED
  FILE_RECORDS = UNK
  ENCODING_TYPE = "JP2"
  INTERCHANGE_FORMAT = BINARY
  UNCOMPRESSED_FILE_NAME = "H4429_0000_P23.IMG"
  REQUIRED_STORAGE_BYTES = "36737946"
  ^DESCRIPTION = "JP2INFO.TXT"
END_OBJECT = COMPRESSED_FILE
END
