PDS_VERSION_ID = PDS3
/* FILE DATA ELEMENTS */
RECORD_TYPE = STREAM
/* POINTERS TO DATA OBJECTS */
^COMPRESSED_FILE = "H4434_0000_S23.JP2"
/* IDENTIFICATION DATA ELEMENTS */
DATA_SET_ID = "MEX-M-HRSC-5-REFDR-MAPPROJECTED-V3.0"
DATA_SET_NAME = "MARS EXPRESS HRSC MAP PROJECTED REFDR V3.0"
DETECTOR_ID = MEX_HRSC_S2
EVENT_TYPE = "MARS-REGIONAL-MAPPING-Vo-Gl-La"
INSTRUMENT_HOST_ID = MEX
INSTRUMENT_HOST_NAME = "MARS EXPRESS"
INSTRUMENT_ID = HRSC
INSTRUMENT_NAME = "HIGH RESOLUTION STEREO CAMERA"
MISSION_NAME = "MARS EXPRESS"
MISSION_PHASE_NAME = ME_Phase_8
PROCESSING_LEVEL_ID = 3
PRODUCT_CREATION_TIME = 2016-04-25T07:40:35.000Z
PRODUCT_ID = "H4434_0000_S23.JP2"
RELEASE_ID = 0050
REVISION_ID = 0000
/* QUALITY DATA ELEMENTS */
DATA_QUALITY_ID = 1
DATA_QUALITY_DESC = "Data calculated based on original SPICE kernels"
/* TIME DATA ELEMENTS */
SPACECRAFT_CLOCK_START_COUNT = "1/0130226728.08250"
SPACECRAFT_CLOCK_STOP_COUNT = "1/0130226998.15554"
START_TIME = 2007-06-18T06:05:32.220Z
STOP_TIME = 2007-06-18T06:09:08.994Z
/* ORBITAL DATA ELEMENTS */
ASCENDING_NODE_LONGITUDE = 135.5
MAXIMUM_RESOLUTION = 24.6
FOOTPRINT_POINT_LATITUDE = (-74.5941,-74.5508,-74.5182,-74.4563, -74.3677,-74.1212,-73.8342,-73.5454, -73.2566,-72.9669,-72.5334,-72.1101, -71.8268,-71.4007,-71.1169,-70.8329, -70.5455,-70.2691,-69.992,-69.7146, -69.4362,-69.1574,-68.8783,-68.5984, -68.3179,-67.9013,-67.6297,-67.3585, -67.0877,-66.8146,-66.5413,-66.2674, -65.9939,-65.719,-65.4437,-65.1701, -64.8944,-64.4812,-64.2056,-63.7966, -63.5304,-63.1294,-62.8621,-62.5944, -62.1929,-61.9248,-61.656,-61.3897, -61.1215,-60.8486,-60.5798,-60.4379, -60.4746,-60.4893,-60.5059,-60.7777, -61.1826,-61.453,-61.7228,-61.9933, -62.3973,-62.8017,-63.2084,-63.4797, -63.7504,-64.0136,-64.2865,-64.5654, -64.8431,-65.1207,-65.5358,-65.8124, -66.0885,-66.3654,-66.7793,-67.0551, -67.3297,-67.7398,-68.0138,-68.2917, -68.5749,-68.9994,-69.2817,-69.5636, -69.9864,-70.2674,-70.5544,-70.841, -71.1225,-71.4089,-71.6976,-71.9856, -72.2731,-72.5601,-72.9958,-73.2911, -73.5861,-74.0279,-74.3215,-74.5941)
FOOTPRINT_POINT_LONGITUDE = (14.2586,13.3399,12.704,11.5988,10.1902 ,10.2913,10.547,10.7933,11.0311,11.2604 ,11.5877,11.8902,12.0836,12.3621, 12.5407,12.7139,12.8792,13.036,13.1882, 13.336,13.4794,13.6186,13.754,13.8854, 14.0131,14.1961,14.3109,14.423,14.5325, 14.6384,14.7416,14.8422,14.9403,15.0356 ,15.1285,15.2198,15.3081,15.4368, 15.5201,15.6387,15.7141,15.8235,15.8944 ,15.9636,16.0646,16.13,16.1936,16.2569, 16.318,16.3761,16.4345,16.9464,17.743, 18.1024,18.5289,18.4884,18.4281,18.3862 ,18.3439,18.3,18.2334,18.164,18.0898, 18.0388,17.9868,17.9403,17.8891,17.8329 ,17.7764,17.7183,17.6293,17.568,17.5054 ,17.4402,17.3403,17.2713,17.2015, 17.0948,17.0204,16.9426,16.8615,16.7351 ,16.6481,16.5588,16.4191,16.323,16.2157 ,16.1068,16.0092,15.9012,15.7857, 15.6667,15.5439,15.417,15.2158,15.0734, 14.9254,14.6927,14.5306,14.2586)
ORBIT_NUMBER = 4434
ORBITAL_ECCENTRICITY = 0.57
ORBITAL_INCLINATION = 86.69
ORBITAL_SEMIMAJOR_AXIS = 8550.5
PERIAPSIS_ALTITUDE = 292.3
PERIAPSIS_ARGUMENT_ANGLE = 297.23
PERIAPSIS_TIME = 2007-06-18T06:09:03.000Z
SPACECRAFT_ORIENTATION = (0.0,1.0,0.0)
^MEX_ORIENTATION_DESC = "MEX_ORIENTATION_DESC.TXT"
SPACECRAFT_POINTING_MODE = NADIR
^MEX_POINTING_DESC = "MEX_POINTING_DESC.TXT"
RIGHT_ASCENSION = -1e+32
DECLINATION = -1e+32
OFFSET_ANGLE = -1e+32
SPACECRAFT_SOLAR_DISTANCE = 2.0687e+08
TARGET_NAME = MARS
/* CAMERA DATA ELEMENTS */
DETECTOR_TEMPERATURE = 18.3705
FOCAL_PLANE_TEMPERATURE = 8.1755
INST_CMPRS_NAME = "DISCRETE COSINE TRANSFORMATION (DCT)"
INST_CMPRS_RATIO = 10.4395
INST_CMPRS_QUALITY = 0
INST_CMPRS_QUANTZ_TBL_ID = 0
INSTRUMENT_TEMPERATURE = 11.234
LENS_TEMPERATURE = 8.5833
MACROPIXEL_SIZE = 2
MISSING_FRAMES = 0
PIXEL_SUBSAMPLING_FLAG = N
SIGNAL_CHAIN_ID = 1
/* RADIOMETRIC DATA ELEMENTS */
BANDWIDTH = 178.0
CENTER_FILTER_WAVELENGTH = 679.0
RADIANCE_OFFSET = 5.8243
RADIANCE_SCALING_FACTOR = 0.0292469
REFLECTANCE_SCALING_FACTOR = 0.00066283
MEX:REFLECTANCE_OFFSET = 0.131998
/* IMAGE OBJECT DEFINITIONS */
OBJECT = IMAGE
  INTERCHANGE_FORMAT = BINARY
  LINES = 33318
  LINE_SAMPLES = 6616
  SAMPLE_TYPE = UNSIGNED_INTEGER
  SAMPLE_BITS = 8
  BANDS = 1
  BAND_STORAGE_TYPE = BAND_SEQUENTIAL
  MAXIMUM = 255
  MEAN = 75.0839
  MINIMUM = 1
  STANDARD_DEVIATION = 13.4795
END_OBJECT = IMAGE
/* MAP OBJECT DEFINITIONS */
OBJECT = IMAGE_MAP_PROJECTION
  ^DATA_SET_MAP_PROJECTION_CATALOG= "DSMAP.CAT"
  A_AXIS_RADIUS = 3396.0
  B_AXIS_RADIUS = 3396.0
  C_AXIS_RADIUS = 3396.0
  CENTER_LATITUDE = 0.0
  CENTER_LONGITUDE = 16.0
  COORDINATE_SYSTEM_NAME = PLANETOGRAPHIC
  COORDINATE_SYSTEM_TYPE = "BODY-FIXED ROTATING"
  EASTERNMOST_LONGITUDE = 18.5289
  FIRST_STANDARD_PARALLEL = "N/A"
  LINE_FIRST_PIXEL = 1
  LINE_LAST_PIXEL = 33318
  LINE_PROJECTION_OFFSET = -143215.75
  MAP_PROJECTION_ROTATION = 0.0
  MAP_PROJECTION_TYPE = SINUSOIDAL
  MAP_RESOLUTION = 2370.85521546667
  MAP_SCALE = 0.025
  MAXIMUM_LATITUDE = -60.4379
  MINIMUM_LATITUDE = -74.5941
  POSITIVE_LONGITUDE_DIRECTION = EAST
  REFERENCE_LATITUDE = "N/A"
  REFERENCE_LONGITUDE = "N/A"
  SAMPLE_FIRST_PIXEL = 1
  SAMPLE_LAST_PIXEL = 6616
  SAMPLE_PROJECTION_OFFSET = 3636.25
  SECOND_STANDARD_PARALLEL = "N/A"
  WESTERNMOST_LONGITUDE = 10.1902
END_OBJECT = IMAGE_MAP_PROJECTION
/* The JPEG2000 image data file associated with this label. */
OBJECT = COMPRESSED_FILE
  FILE_NAME = "H4434_0000_S23.JP2"
  RECORD_TYPE = UNDEFINED
  FILE_RECORDS = UNK
  ENCODING_TYPE = "JP2"
  INTERCHANGE_FORMAT = BINARY
  UNCOMPRESSED_FILE_NAME = "H4434_0000_S23.IMG"
  REQUIRED_STORAGE_BYTES = "220464968"
  ^DESCRIPTION = "JP2INFO.TXT"
END_OBJECT = COMPRESSED_FILE
END
