PDS_VERSION_ID = PDS3
/* FILE DATA ELEMENTS */
RECORD_TYPE = STREAM
/* POINTERS TO DATA OBJECTS */
^COMPRESSED_FILE = "H4436_0000_GR3.JP2"
/* IDENTIFICATION DATA ELEMENTS */
DATA_SET_ID = "MEX-M-HRSC-5-REFDR-MAPPROJECTED-V3.0"
DATA_SET_NAME = "MARS EXPRESS HRSC MAP PROJECTED REFDR V3.0"
DETECTOR_ID = MEX_HRSC_GREEN
EVENT_TYPE = "MARS-LOCAL-STEREO-Gl-La-At"
INSTRUMENT_HOST_ID = MEX
INSTRUMENT_HOST_NAME = "MARS EXPRESS"
INSTRUMENT_ID = HRSC
INSTRUMENT_NAME = "HIGH RESOLUTION STEREO CAMERA"
MISSION_NAME = "MARS EXPRESS"
MISSION_PHASE_NAME = ME_Phase_8
PROCESSING_LEVEL_ID = 3
PRODUCT_CREATION_TIME = 2016-04-25T07:40:35.000Z
PRODUCT_ID = "H4436_0000_GR3.JP2"
RELEASE_ID = 0050
REVISION_ID = 0000
/* QUALITY DATA ELEMENTS */
DATA_QUALITY_ID = 1
DATA_QUALITY_DESC = "Data calculated based on original SPICE kernels"
/* TIME DATA ELEMENTS */
SPACECRAFT_CLOCK_START_COUNT = "1/0130274966.09058"
SPACECRAFT_CLOCK_STOP_COUNT = "1/0130275140.07586"
START_TIME = 2007-06-18T19:30:15.517Z
STOP_TIME = 2007-06-18T19:31:57.529Z
/* ORBITAL DATA ELEMENTS */
ASCENDING_NODE_LONGITUDE = 135.46
MAXIMUM_RESOLUTION = 106.4
FOOTPRINT_POINT_LATITUDE = (-83.1234,-83.0288,-82.9296,-82.8258, -82.7177,-82.605,-82.4877,-82.4121, -82.2664,-82.1528,-82.0382,-81.9226, -81.7467,-81.5685,-81.3891,-81.2685, -81.1467,-81.0252,-80.8405,-80.7161, -80.5909,-80.4651,-80.3385,-80.1489, -79.9338,-79.7173,-79.4992,-79.2245, -79.114,-79.0031,-78.892,-78.7805, -78.6688,-78.5567,-78.4444,-78.3317, -78.2188,-78.1056,-77.9352,-77.8213, -77.7071,-77.5928,-77.4782,-77.3634, -77.2484,-77.0756,-76.96,-76.8442, -76.7282,-76.656,-76.7174,-76.7723, -76.8277,-76.898,-76.9438,-77.1445, -77.3247,-77.4448,-77.5647,-77.6845, -77.8041,-77.9834,-78.1027,-78.2815, -78.4595,-78.5782,-78.6967,-78.8151, -78.9332,-79.0513,-79.1691,-79.2867, -79.4042,-79.5215,-79.6385,-79.7554, -79.872,-79.9885,-80.1047,-80.2207, -80.3365,-80.5097,-80.6249,-80.8189, -80.9554,-81.1592,-81.2947,-81.4297, -81.5643,-81.6984,-81.832,-81.9652, -82.1646,-82.2963,-82.427,-82.557, -82.6867,-82.88,-83.0079,-83.1234)
FOOTPRINT_POINT_LONGITUDE = (158.066,156.718,155.397,154.099, 152.829,151.585,150.365,149.615,149.835 ,150.496,151.141,151.769,152.667, 153.528,154.366,154.908,155.428,155.955 ,156.704,157.179,157.642,158.092, 158.529,159.163,159.844,160.5,161.127, 161.876,162.163,162.445,162.722,162.993 ,163.26,163.521,163.777,164.028,164.273 ,164.514,164.863,165.092,165.317, 165.538,165.755,165.968,166.179,166.489 ,166.69,166.886,167.08,167.768,168.561, 169.303,170.089,171.151,171.885,171.978 ,171.762,171.613,171.462,171.309, 171.152,170.91,170.745,170.49,170.231, 170.052,169.87,169.683,169.493,169.299, 169.1,168.897,168.689,168.477,168.26, 168.038,167.811,167.579,167.341,167.098 ,166.849,166.464,166.198,165.736, 165.399,164.874,164.51,164.134,163.747, 163.347,162.934,162.505,161.83,161.366, 160.891,160.399,159.887,159.084,158.523 ,158.066)
ORBIT_NUMBER = 4436
ORBITAL_ECCENTRICITY = 0.57
ORBITAL_INCLINATION = 86.69
ORBITAL_SEMIMAJOR_AXIS = 8548.49
PERIAPSIS_ALTITUDE = 292.29
PERIAPSIS_ARGUMENT_ANGLE = 296.9
PERIAPSIS_TIME = 2007-06-18T19:35:30.000Z
SPACECRAFT_ORIENTATION = (0.0,1.0,0.0)
^MEX_ORIENTATION_DESC = "MEX_ORIENTATION_DESC.TXT"
SPACECRAFT_POINTING_MODE = ACROSSTRACK
^MEX_POINTING_DESC = "MEX_POINTING_DESC.TXT"
RIGHT_ASCENSION = -1e+32
DECLINATION = -1e+32
OFFSET_ANGLE = 0.8
SPACECRAFT_SOLAR_DISTANCE = 2.06887e+08
TARGET_NAME = MARS
/* CAMERA DATA ELEMENTS */
DETECTOR_TEMPERATURE = 18.1666
FOCAL_PLANE_TEMPERATURE = 8.9911
INST_CMPRS_NAME = "DISCRETE COSINE TRANSFORMATION (DCT)"
INST_CMPRS_RATIO = 20.0922
INST_CMPRS_QUALITY = 0
INST_CMPRS_QUANTZ_TBL_ID = 0
INSTRUMENT_TEMPERATURE = 11.234
LENS_TEMPERATURE = 9.195
MACROPIXEL_SIZE = 8
MISSING_FRAMES = 0
PIXEL_SUBSAMPLING_FLAG = N
SIGNAL_CHAIN_ID = 2
/* RADIOMETRIC DATA ELEMENTS */
BANDWIDTH = 88.0
CENTER_FILTER_WAVELENGTH = 538.0
RADIANCE_OFFSET = 2.06242
RADIANCE_SCALING_FACTOR = 0.00798869
REFLECTANCE_SCALING_FACTOR = 0.000294395
MEX:REFLECTANCE_OFFSET = 0.0760033
/* IMAGE OBJECT DEFINITIONS */
OBJECT = IMAGE
  INTERCHANGE_FORMAT = BINARY
  LINES = 3866
  LINE_SAMPLES = 2245
  SAMPLE_TYPE = UNSIGNED_INTEGER
  SAMPLE_BITS = 8
  BANDS = 1
  BAND_STORAGE_TYPE = BAND_SEQUENTIAL
  MAXIMUM = 254
  MEAN = 49.8831
  MINIMUM = 1
  STANDARD_DEVIATION = 26.7114
END_OBJECT = IMAGE
/* MAP OBJECT DEFINITIONS */
OBJECT = IMAGE_MAP_PROJECTION
  ^DATA_SET_MAP_PROJECTION_CATALOG= "DSMAP.CAT"
  A_AXIS_RADIUS = 3396.0
  B_AXIS_RADIUS = 3396.0
  C_AXIS_RADIUS = 3396.0
  CENTER_LATITUDE = 0.0
  CENTER_LONGITUDE = 164.0
  COORDINATE_SYSTEM_NAME = PLANETOGRAPHIC
  COORDINATE_SYSTEM_TYPE = "BODY-FIXED ROTATING"
  EASTERNMOST_LONGITUDE = 171.978
  FIRST_STANDARD_PARALLEL = "N/A"
  LINE_FIRST_PIXEL = 1
  LINE_LAST_PIXEL = 3866
  LINE_PROJECTION_OFFSET = -45421.5625
  MAP_PROJECTION_ROTATION = 0.0
  MAP_PROJECTION_TYPE = SINUSOIDAL
  MAP_RESOLUTION = 592.713803866667
  MAP_SCALE = 0.1
  MAXIMUM_LATITUDE = -76.65600000000001
  MINIMUM_LATITUDE = -83.1234
  POSITIVE_LONGITUDE_DIRECTION = EAST
  REFERENCE_LATITUDE = "N/A"
  REFERENCE_LONGITUDE = "N/A"
  SAMPLE_FIRST_PIXEL = 1
  SAMPLE_LAST_PIXEL = 2245
  SAMPLE_PROJECTION_OFFSET = 1146.4375
  SECOND_STANDARD_PARALLEL = "N/A"
  WESTERNMOST_LONGITUDE = 149.615
END_OBJECT = IMAGE_MAP_PROJECTION
/* The JPEG2000 image data file associated with this label. */
OBJECT = COMPRESSED_FILE
  FILE_NAME = "H4436_0000_GR3.JP2"
  RECORD_TYPE = UNDEFINED
  FILE_RECORDS = UNK
  ENCODING_TYPE = "JP2"
  INTERCHANGE_FORMAT = BINARY
  UNCOMPRESSED_FILE_NAME = "H4436_0000_GR3.IMG"
  REQUIRED_STORAGE_BYTES = "8701620"
  ^DESCRIPTION = "JP2INFO.TXT"
END_OBJECT = COMPRESSED_FILE
END
