PDS_VERSION_ID = PDS3
/* FILE DATA ELEMENTS */
RECORD_TYPE = STREAM
/* POINTERS TO DATA OBJECTS */
^COMPRESSED_FILE = "H4438_0000_S23.JP2"
/* IDENTIFICATION DATA ELEMENTS */
DATA_SET_ID = "MEX-M-HRSC-5-REFDR-MAPPROJECTED-V3.0"
DATA_SET_NAME = "MARS EXPRESS HRSC MAP PROJECTED REFDR V3.0"
DETECTOR_ID = MEX_HRSC_S2
EVENT_TYPE = "MARS-REGIONAL-MAPPING-Im-Gl-Pf"
INSTRUMENT_HOST_ID = MEX
INSTRUMENT_HOST_NAME = "MARS EXPRESS"
INSTRUMENT_ID = HRSC
INSTRUMENT_NAME = "HIGH RESOLUTION STEREO CAMERA"
MISSION_NAME = "MARS EXPRESS"
MISSION_PHASE_NAME = ME_Phase_8
PROCESSING_LEVEL_ID = 3
PRODUCT_CREATION_TIME = 2016-04-25T07:40:35.000Z
PRODUCT_ID = "H4438_0000_S23.JP2"
RELEASE_ID = 0050
REVISION_ID = 0000
/* QUALITY DATA ELEMENTS */
DATA_QUALITY_ID = 2
DATA_QUALITY_DESC = "Data calculated based on photogrammetrically improved orbit and attitude data"
/* TIME DATA ELEMENTS */
SPACECRAFT_CLOCK_START_COUNT = "1/0130323440.08268"
SPACECRAFT_CLOCK_STOP_COUNT = "1/0130323671.57883"
START_TIME = 2007-06-19T08:57:24.235Z
STOP_TIME = 2007-06-19T09:00:21.335Z
/* ORBITAL DATA ELEMENTS */
ASCENDING_NODE_LONGITUDE = 135.42
MAXIMUM_RESOLUTION = 25.3
FOOTPRINT_POINT_LATITUDE = (-78.7506,-78.6858,-78.6371,-78.5445, -78.4875,-78.4121,-78.1934,-77.9764, -77.7581,-77.5388,-77.3185,-77.0986, -76.8771,-76.656,-76.3218,-76.0983, -75.8725,-75.647,-75.3083,-75.0837, -74.8635,-74.6426,-74.4209,-74.197, -73.9749,-73.6417,-73.3096,-73.092, -72.8753,-72.6576,-72.4406,-72.1151, -71.8958,-71.676,-71.4568,-71.2444, -71.0321,-70.7113,-70.4968,-70.2807, -70.0649,-69.7416,-69.5266,-69.312, -69.097,-68.7758,-68.5676,-68.3588, -68.1497,-67.7307,-67.4151,-67.4376, -67.4604,-67.4834,-67.5009,-67.5326, -67.7545,-67.965,-68.1767,-68.494, -68.8104,-69.1281,-69.34,-69.5583, -69.7803,-69.9991,-70.2167,-70.4351, -70.6482,-70.8655,-71.0892,-71.305, -71.628,-71.851,-72.1839,-72.4064, -72.7397,-72.9612,-73.1826,-73.4032, -73.6239,-73.8502,-74.078,-74.4186, -74.7579,-75.0977,-75.3238,-75.6707, -75.9025,-76.1334,-76.3643,-76.5943, -76.825,-77.0541,-77.3964,-77.624, -77.9653,-78.3066,-78.5322,-78.7506)
FOOTPRINT_POINT_LONGITUDE = (337.73,336.405,335.494,333.919,333.031 ,331.933,332.132,332.502,332.859, 333.203,333.536,333.857,334.167,334.467 ,334.898,335.174,335.441,335.7,336.073, 336.309,336.534,336.751,336.963,337.168 ,337.367,337.656,337.929,338.101, 338.269,338.433,338.592,338.824,338.974 ,339.119,339.261,339.395,339.526, 339.716,339.839,339.958,340.076,340.246 ,340.357,340.466,340.573,340.725, 340.822,340.916,341.009,341.189,341.319 ,341.898,342.317,342.763,343.132, 343.844,343.98,343.924,343.865,343.775, 343.682,343.588,343.527,343.458,343.382 ,343.308,343.234,343.156,343.084, 343.004,342.913,342.83,342.703,342.611, 342.472,342.375,342.224,342.121,342.015 ,341.906,341.795,341.677,341.554, 341.365,341.168,340.959,340.814,340.584 ,340.424,340.259,340.089,339.914,339.73 ,339.542,339.249,339.045,338.722, 338.377,338.14,337.73)
ORBIT_NUMBER = 4438
ORBITAL_ECCENTRICITY = 0.57
ORBITAL_INCLINATION = 86.7
ORBITAL_SEMIMAJOR_AXIS = 8547.45
PERIAPSIS_ALTITUDE = 292.15
PERIAPSIS_ARGUMENT_ANGLE = 296.54
PERIAPSIS_TIME = 2007-06-19T09:01:52.000Z
SPACECRAFT_ORIENTATION = (0.0,1.0,0.0)
^MEX_ORIENTATION_DESC = "MEX_ORIENTATION_DESC.TXT"
SPACECRAFT_POINTING_MODE = NADIR
^MEX_POINTING_DESC = "MEX_POINTING_DESC.TXT"
RIGHT_ASCENSION = -1e+32
DECLINATION = -1e+32
OFFSET_ANGLE = -1e+32
SPACECRAFT_SOLAR_DISTANCE = 2.06904e+08
TARGET_NAME = MARS
/* CAMERA DATA ELEMENTS */
DETECTOR_TEMPERATURE = 19.7978
FOCAL_PLANE_TEMPERATURE = 8.5833
INST_CMPRS_NAME = "DISCRETE COSINE TRANSFORMATION (DCT)"
INST_CMPRS_RATIO = 8.54822
INST_CMPRS_QUALITY = 0
INST_CMPRS_QUANTZ_TBL_ID = 0
INSTRUMENT_TEMPERATURE = 11.4379
LENS_TEMPERATURE = 8.9911
MACROPIXEL_SIZE = 2
MISSING_FRAMES = 0
PIXEL_SUBSAMPLING_FLAG = N
SIGNAL_CHAIN_ID = 1
/* RADIOMETRIC DATA ELEMENTS */
BANDWIDTH = 178.0
CENTER_FILTER_WAVELENGTH = 679.0
RADIANCE_OFFSET = 6.03924
RADIANCE_SCALING_FACTOR = 0.0702859
REFLECTANCE_SCALING_FACTOR = 0.00159345
MEX:REFLECTANCE_OFFSET = 0.136915
/* IMAGE OBJECT DEFINITIONS */
OBJECT = IMAGE
  INTERCHANGE_FORMAT = BINARY
  LINES = 26646
  LINE_SAMPLES = 7396
  SAMPLE_TYPE = UNSIGNED_INTEGER
  SAMPLE_BITS = 8
  BANDS = 1
  BAND_STORAGE_TYPE = BAND_SEQUENTIAL
  MAXIMUM = 255
  MEAN = 134.116
  MINIMUM = 1
  STANDARD_DEVIATION = 87.0754
END_OBJECT = IMAGE
/* MAP OBJECT DEFINITIONS */
OBJECT = IMAGE_MAP_PROJECTION
  ^DATA_SET_MAP_PROJECTION_CATALOG= "DSMAP.CAT"
  A_AXIS_RADIUS = 3396.0
  B_AXIS_RADIUS = 3396.0
  C_AXIS_RADIUS = 3396.0
  CENTER_LATITUDE = 0.0
  CENTER_LONGITUDE = 340.0
  COORDINATE_SYSTEM_NAME = PLANETOGRAPHIC
  COORDINATE_SYSTEM_TYPE = "BODY-FIXED ROTATING"
  EASTERNMOST_LONGITUDE = 343.98
  FIRST_STANDARD_PARALLEL = "N/A"
  LINE_FIRST_PIXEL = 1
  LINE_LAST_PIXEL = 26646
  LINE_PROJECTION_OFFSET = -159763.25
  MAP_PROJECTION_ROTATION = 0.0
  MAP_PROJECTION_TYPE = SINUSOIDAL
  MAP_RESOLUTION = 2370.85521546667
  MAP_SCALE = 0.025
  MAXIMUM_LATITUDE = -67.4151
  MINIMUM_LATITUDE = -78.75060000000001
  POSITIVE_LONGITUDE_DIRECTION = EAST
  REFERENCE_LATITUDE = "N/A"
  REFERENCE_LONGITUDE = "N/A"
  SAMPLE_FIRST_PIXEL = 1
  SAMPLE_LAST_PIXEL = 7396
  SAMPLE_PROJECTION_OFFSET = 3730.75
  SECOND_STANDARD_PARALLEL = "N/A"
  WESTERNMOST_LONGITUDE = 331.933
END_OBJECT = IMAGE_MAP_PROJECTION
/* The JPEG2000 image data file associated with this label. */
OBJECT = COMPRESSED_FILE
  FILE_NAME = "H4438_0000_S23.JP2"
  RECORD_TYPE = UNDEFINED
  FILE_RECORDS = UNK
  ENCODING_TYPE = "JP2"
  INTERCHANGE_FORMAT = BINARY
  UNCOMPRESSED_FILE_NAME = "H4438_0000_S23.IMG"
  REQUIRED_STORAGE_BYTES = "197103400"
  ^DESCRIPTION = "JP2INFO.TXT"
END_OBJECT = COMPRESSED_FILE
END
