PDS_VERSION_ID = PDS3
/* FILE DATA ELEMENTS */
RECORD_TYPE = STREAM
/* POINTERS TO DATA OBJECTS */
^COMPRESSED_FILE = "H4443_0000_BL3.JP2"
/* IDENTIFICATION DATA ELEMENTS */
DATA_SET_ID = "MEX-M-HRSC-5-REFDR-MAPPROJECTED-V3.0"
DATA_SET_NAME = "MARS EXPRESS HRSC MAP PROJECTED REFDR V3.0"
DETECTOR_ID = MEX_HRSC_BLUE
EVENT_TYPE = "MARS-REGIONAL-MAPPING-Gl-Pf-La"
INSTRUMENT_HOST_ID = MEX
INSTRUMENT_HOST_NAME = "MARS EXPRESS"
INSTRUMENT_ID = HRSC
INSTRUMENT_NAME = "HIGH RESOLUTION STEREO CAMERA"
MISSION_NAME = "MARS EXPRESS"
MISSION_PHASE_NAME = ME_Phase_8
PROCESSING_LEVEL_ID = 3
PRODUCT_CREATION_TIME = 2016-04-25T07:40:35.000Z
PRODUCT_ID = "H4443_0000_BL3.JP2"
RELEASE_ID = 0050
REVISION_ID = 0000
/* QUALITY DATA ELEMENTS */
DATA_QUALITY_ID = 1
DATA_QUALITY_DESC = "Data calculated based on original SPICE kernels"
/* TIME DATA ELEMENTS */
SPACECRAFT_CLOCK_START_COUNT = "1/0130444555.08426"
SPACECRAFT_CLOCK_STOP_COUNT = "1/0130444857.42050"
START_TIME = 2007-06-20T18:36:21.721Z
STOP_TIME = 2007-06-20T18:40:26.741Z
/* ORBITAL DATA ELEMENTS */
ASCENDING_NODE_LONGITUDE = 135.32
MAXIMUM_RESOLUTION = 46.3
FOOTPRINT_POINT_LATITUDE = (-69.7229,-69.6905,-69.6652,-69.6224, -69.4178,-69.0918,-68.7671,-68.2796, -67.7923,-67.4672,-67.1531,-66.8389, -66.5245,-66.2088,-65.8947,-65.579, -65.2632,-64.9474,-64.6317,-64.3157, -63.8416,-63.5251,-63.0502,-62.5756, -62.2591,-61.9418,-61.4671,-61.15, -60.833,-60.3575,-60.0401,-59.5642, -59.2471,-58.9297,-58.6124,-58.2881, -57.9586,-57.6295,-57.2996,-56.8066, -56.3128,-55.9835,-55.6546,-55.3259, -54.9959,-54.6672,-54.3321,-53.9925, -53.6523,-53.4389,-53.4537,-53.4729, -53.4836,-53.4929,-53.8342,-54.005, -54.3462,-54.6841,-55.0135,-55.3432, -55.673,-56.0033,-56.3318,-56.6622, -57.1583,-57.4886,-57.9844,-58.3149, -58.6425,-58.961,-59.2794,-59.5981, -59.9166,-60.2351,-60.713,-61.0315, -61.5093,-61.9868,-62.3051,-62.7826, -63.1009,-63.4191,-63.7374,-64.0555, -64.5327,-64.8505,-65.1683,-65.6448, -65.9624,-66.4385,-66.7559,-67.0727, -67.3894,-67.7098,-68.0384,-68.3671, -68.8592,-69.1871,-69.5145,-69.7229)
FOOTPRINT_POINT_LONGITUDE = (211.389,210.709,210.213,209.433,209.08 ,209.232,209.383,209.601,209.811, 209.944,210.067,210.188,210.304,210.414 ,210.526,210.63,210.732,210.831,210.928 ,211.021,211.157,211.244,211.37,211.491 ,211.57,211.644,211.755,211.825,211.893 ,211.993,212.056,212.148,212.207, 212.264,212.32,212.376,212.431,212.485, 212.535,212.612,212.684,212.729,212.774 ,212.818,212.857,212.898,212.939, 212.981,213.021,213.313,213.681,214.216 ,214.552,214.842,214.81,214.794,214.762 ,214.73,214.697,214.663,214.629,214.592 ,214.561,214.524,214.464,214.426, 214.365,214.324,214.282,214.24,214.197, 214.153,214.108,214.062,213.991,213.943 ,213.867,213.79,213.737,213.654,213.597 ,213.538,213.477,213.415,213.318, 213.252,213.183,213.077,213.003,212.889 ,212.809,212.728,212.645,212.557, 212.465,212.369,212.22,212.116,212.01, 211.389)
ORBIT_NUMBER = 4443
ORBITAL_ECCENTRICITY = 0.57
ORBITAL_INCLINATION = 86.7
ORBITAL_SEMIMAJOR_AXIS = 8546.0
PERIAPSIS_ALTITUDE = 291.67
PERIAPSIS_ARGUMENT_ANGLE = 295.68
PERIAPSIS_TIME = 2007-06-20T18:37:51.000Z
SPACECRAFT_ORIENTATION = (0.0,1.0,0.0)
^MEX_ORIENTATION_DESC = "MEX_ORIENTATION_DESC.TXT"
SPACECRAFT_POINTING_MODE = NADIR
^MEX_POINTING_DESC = "MEX_POINTING_DESC.TXT"
RIGHT_ASCENSION = -1e+32
DECLINATION = -1e+32
OFFSET_ANGLE = -1e+32
SPACECRAFT_SOLAR_DISTANCE = 2.06951e+08
TARGET_NAME = MARS
/* CAMERA DATA ELEMENTS */
DETECTOR_TEMPERATURE = 18.3705
FOCAL_PLANE_TEMPERATURE = 9.195
INST_CMPRS_NAME = "DISCRETE COSINE TRANSFORMATION (DCT)"
INST_CMPRS_RATIO = 6.98151
INST_CMPRS_QUALITY = 0
INST_CMPRS_QUANTZ_TBL_ID = 0
INSTRUMENT_TEMPERATURE = 11.4379
LENS_TEMPERATURE = 9.3989
MACROPIXEL_SIZE = 4
MISSING_FRAMES = 0
PIXEL_SUBSAMPLING_FLAG = N
SIGNAL_CHAIN_ID = 2
/* RADIOMETRIC DATA ELEMENTS */
BANDWIDTH = 76.0
CENTER_FILTER_WAVELENGTH = 444.0
RADIANCE_OFFSET = 0.852283
RADIANCE_SCALING_FACTOR = 0.00138302
REFLECTANCE_SCALING_FACTOR = 6.08582e-05
MEX:REFLECTANCE_OFFSET = 0.0375038
/* IMAGE OBJECT DEFINITIONS */
OBJECT = IMAGE
  INTERCHANGE_FORMAT = BINARY
  LINES = 19305
  LINE_SAMPLES = 2988
  SAMPLE_TYPE = UNSIGNED_INTEGER
  SAMPLE_BITS = 8
  BANDS = 1
  BAND_STORAGE_TYPE = BAND_SEQUENTIAL
  MAXIMUM = 255
  MEAN = 154.56
  MINIMUM = 1
  STANDARD_DEVIATION = 18.6828
END_OBJECT = IMAGE
/* MAP OBJECT DEFINITIONS */
OBJECT = IMAGE_MAP_PROJECTION
  ^DATA_SET_MAP_PROJECTION_CATALOG= "DSMAP.CAT"
  A_AXIS_RADIUS = 3396.0
  B_AXIS_RADIUS = 3396.0
  C_AXIS_RADIUS = 3396.0
  CENTER_LATITUDE = 0.0
  CENTER_LONGITUDE = 213.0
  COORDINATE_SYSTEM_NAME = PLANETOGRAPHIC
  COORDINATE_SYSTEM_TYPE = "BODY-FIXED ROTATING"
  EASTERNMOST_LONGITUDE = 214.842
  FIRST_STANDARD_PARALLEL = "N/A"
  LINE_FIRST_PIXEL = 1
  LINE_LAST_PIXEL = 19305
  LINE_PROJECTION_OFFSET = -63348.375
  MAP_PROJECTION_ROTATION = 0.0
  MAP_PROJECTION_TYPE = SINUSOIDAL
  MAP_RESOLUTION = 1185.42760773333
  MAP_SCALE = 0.05
  MAXIMUM_LATITUDE = -53.4389
  MINIMUM_LATITUDE = -69.7229
  POSITIVE_LONGITUDE_DIRECTION = EAST
  REFERENCE_LATITUDE = "N/A"
  REFERENCE_LONGITUDE = "N/A"
  SAMPLE_FIRST_PIXEL = 1
  SAMPLE_LAST_PIXEL = 2988
  SAMPLE_PROJECTION_OFFSET = 1664.125
  SECOND_STANDARD_PARALLEL = "N/A"
  WESTERNMOST_LONGITUDE = 209.08
END_OBJECT = IMAGE_MAP_PROJECTION
/* The JPEG2000 image data file associated with this label. */
OBJECT = COMPRESSED_FILE
  FILE_NAME = "H4443_0000_BL3.JP2"
  RECORD_TYPE = UNDEFINED
  FILE_RECORDS = UNK
  ENCODING_TYPE = "JP2"
  INTERCHANGE_FORMAT = BINARY
  UNCOMPRESSED_FILE_NAME = "H4443_0000_BL3.IMG"
  REQUIRED_STORAGE_BYTES = "57707244"
  ^DESCRIPTION = "JP2INFO.TXT"
END_OBJECT = COMPRESSED_FILE
END
