PDS_VERSION_ID = PDS3
/* FILE DATA ELEMENTS */
RECORD_TYPE = STREAM
/* POINTERS TO DATA OBJECTS */
^COMPRESSED_FILE = "H4445_0000_BL3.JP2"
/* IDENTIFICATION DATA ELEMENTS */
DATA_SET_ID = "MEX-M-HRSC-5-REFDR-MAPPROJECTED-V3.0"
DATA_SET_NAME = "MARS EXPRESS HRSC MAP PROJECTED REFDR V3.0"
DETECTOR_ID = MEX_HRSC_BLUE
EVENT_TYPE = "MARS-REGIONAL-MAPPING-Vo-Gl-La"
INSTRUMENT_HOST_ID = MEX
INSTRUMENT_HOST_NAME = "MARS EXPRESS"
INSTRUMENT_ID = HRSC
INSTRUMENT_NAME = "HIGH RESOLUTION STEREO CAMERA"
MISSION_NAME = "MARS EXPRESS"
MISSION_PHASE_NAME = ME_Phase_8
PROCESSING_LEVEL_ID = 3
PRODUCT_CREATION_TIME = 2016-04-25T07:40:35.000Z
PRODUCT_ID = "H4445_0000_BL3.JP2"
RELEASE_ID = 0050
REVISION_ID = 0000
/* QUALITY DATA ELEMENTS */
DATA_QUALITY_ID = 2
DATA_QUALITY_DESC = "Data calculated based on photogrammetrically improved orbit and attitude data"
/* TIME DATA ELEMENTS */
SPACECRAFT_CLOCK_START_COUNT = "1/0130492840.08257"
SPACECRAFT_CLOCK_STOP_COUNT = "1/0130493136.33692"
START_TIME = 2007-06-21T08:01:09.656Z
STOP_TIME = 2007-06-21T08:05:08.208Z
/* ORBITAL DATA ELEMENTS */
ASCENDING_NODE_LONGITUDE = 135.28
MAXIMUM_RESOLUTION = 46.3
FOOTPRINT_POINT_LATITUDE = (-76.3606,-76.281,-76.1939,-76.1155, -75.9534,-75.6364,-75.3186,-74.9998, -74.6801,-74.359,-73.8782,-73.5665, -73.254,-72.9409,-72.627,-72.3126, -71.9975,-71.6818,-71.2111,-70.9055, -70.5992,-70.2926,-69.9857,-69.5245, -69.2166,-68.7552,-68.445,-68.1359, -67.8265,-67.5167,-67.2066,-66.7513, -66.4524,-66.1526,-65.853,-65.553, -65.2529,-64.9529,-64.6523,-64.3518, -64.051,-63.6001,-63.2992,-62.9979, -62.5458,-62.0936,-61.7921,-61.3398, -60.8873,-60.699,-60.7356,-60.7597, -60.7794,-61.0827,-61.3862,-61.6892, -61.9925,-62.2955,-62.5987,-63.0531, -63.3562,-63.8108,-64.2648,-64.5674, -65.0211,-65.3236,-65.626,-66.0792, -66.3811,-66.8339,-67.1356,-67.6035, -67.9162,-68.385,-68.6971,-69.009, -69.3208,-69.6323,-69.9434,-70.2543, -70.7205,-71.1858,-71.4952,-71.8156, -72.136,-72.4561,-72.7758,-73.0951, -73.4139,-73.7323,-74.0503,-74.3746, -74.5388,-74.8667,-75.1941,-75.521, -75.8471,-76.1728,-76.3371,-76.3606)
FOOTPRINT_POINT_LONGITUDE = (9.31729,8.00842,6.70517,5.88954, 6.09713,6.48858,6.8636,7.2223,7.56597, 7.89249,8.35652,8.64178,8.91565,9.17885 ,9.43204,9.67595,9.91052,10.1361, 10.4577,10.6571,10.8484,11.0342,11.2146 ,11.4732,11.639,11.8829,12.0295,12.1776 ,12.3214,12.4602,12.5948,12.7849, 12.9064,13.022,13.1356,13.2452,13.3523, 13.4574,13.5579,13.6568,13.7522,13.8929 ,13.9828,14.0691,14.1949,14.3161, 14.3943,14.5084,14.6177,15.1142,15.8104 ,16.3107,16.7381,16.6844,16.6292, 16.5734,16.5158,16.4571,16.3968,16.3038 ,16.2396,16.1402,16.0377,15.967,15.8577 ,15.7821,15.7046,15.5846,15.502,15.3735 ,15.2848,15.1429,15.0443,14.8904, 14.7841,14.6746,14.5614,14.4447,14.3244 ,14.2002,14.0054,13.8009,13.6601, 13.5078,13.3502,13.1862,13.0164,12.8398 ,12.6566,12.4659,12.2675,12.0565, 11.9461,11.7183,11.48,11.2308,10.9703, 10.6968,10.5538,9.31729)
ORBIT_NUMBER = 4445
ORBITAL_ECCENTRICITY = 0.57
ORBITAL_INCLINATION = 86.69
ORBITAL_SEMIMAJOR_AXIS = 8547.87
PERIAPSIS_ALTITUDE = 292.42
PERIAPSIS_ARGUMENT_ANGLE = 295.32
PERIAPSIS_TIME = 2007-06-21T08:04:17.000Z
SPACECRAFT_ORIENTATION = (0.0,1.0,0.0)
^MEX_ORIENTATION_DESC = "MEX_ORIENTATION_DESC.TXT"
SPACECRAFT_POINTING_MODE = ACROSSTRACK
^MEX_POINTING_DESC = "MEX_POINTING_DESC.TXT"
RIGHT_ASCENSION = -1e+32
DECLINATION = -1e+32
OFFSET_ANGLE = 0.3
SPACECRAFT_SOLAR_DISTANCE = 2.06971e+08
TARGET_NAME = MARS
/* CAMERA DATA ELEMENTS */
DETECTOR_TEMPERATURE = 18.3705
FOCAL_PLANE_TEMPERATURE = 8.3794
INST_CMPRS_NAME = "DISCRETE COSINE TRANSFORMATION (DCT)"
INST_CMPRS_RATIO = 10.6532
INST_CMPRS_QUALITY = 0
INST_CMPRS_QUANTZ_TBL_ID = 0
INSTRUMENT_TEMPERATURE = 11.4379
LENS_TEMPERATURE = 8.7872
MACROPIXEL_SIZE = 4
MISSING_FRAMES = 0
PIXEL_SUBSAMPLING_FLAG = N
SIGNAL_CHAIN_ID = 2
/* RADIOMETRIC DATA ELEMENTS */
BANDWIDTH = 76.0
CENTER_FILTER_WAVELENGTH = 444.0
RADIANCE_OFFSET = 0.885404
RADIANCE_SCALING_FACTOR = 0.00637201
REFLECTANCE_SCALING_FACTOR = 0.000280447
MEX:REFLECTANCE_OFFSET = 0.0389687
/* IMAGE OBJECT DEFINITIONS */
OBJECT = IMAGE
  INTERCHANGE_FORMAT = BINARY
  LINES = 18639
  LINE_SAMPLES = 4174
  SAMPLE_TYPE = UNSIGNED_INTEGER
  SAMPLE_BITS = 8
  BANDS = 1
  BAND_STORAGE_TYPE = BAND_SEQUENTIAL
  MAXIMUM = 255
  MEAN = 47.3371
  MINIMUM = 1
  STANDARD_DEVIATION = 72.6658
END_OBJECT = IMAGE
/* MAP OBJECT DEFINITIONS */
OBJECT = IMAGE_MAP_PROJECTION
  ^DATA_SET_MAP_PROJECTION_CATALOG= "DSMAP.CAT"
  A_AXIS_RADIUS = 3396.0
  B_AXIS_RADIUS = 3396.0
  C_AXIS_RADIUS = 3396.0
  CENTER_LATITUDE = 0.0
  CENTER_LONGITUDE = 13.0
  COORDINATE_SYSTEM_NAME = PLANETOGRAPHIC
  COORDINATE_SYSTEM_TYPE = "BODY-FIXED ROTATING"
  EASTERNMOST_LONGITUDE = 16.7381
  FIRST_STANDARD_PARALLEL = "N/A"
  LINE_FIRST_PIXEL = 1
  LINE_LAST_PIXEL = 18639
  LINE_PROJECTION_OFFSET = -71938.625
  MAP_PROJECTION_ROTATION = 0.0
  MAP_PROJECTION_TYPE = SINUSOIDAL
  MAP_RESOLUTION = 1185.42760773333
  MAP_SCALE = 0.05
  MAXIMUM_LATITUDE = -60.699
  MINIMUM_LATITUDE = -76.36060000000001
  POSITIVE_LONGITUDE_DIRECTION = EAST
  REFERENCE_LATITUDE = "N/A"
  REFERENCE_LONGITUDE = "N/A"
  SAMPLE_FIRST_PIXEL = 1
  SAMPLE_LAST_PIXEL = 4174
  SAMPLE_PROJECTION_OFFSET = 2019.375
  SECOND_STANDARD_PARALLEL = "N/A"
  WESTERNMOST_LONGITUDE = 5.88954
END_OBJECT = IMAGE_MAP_PROJECTION
/* The JPEG2000 image data file associated with this label. */
OBJECT = COMPRESSED_FILE
  FILE_NAME = "H4445_0000_BL3.JP2"
  RECORD_TYPE = UNDEFINED
  FILE_RECORDS = UNK
  ENCODING_TYPE = "JP2"
  INTERCHANGE_FORMAT = BINARY
  UNCOMPRESSED_FILE_NAME = "H4445_0000_BL3.IMG"
  REQUIRED_STORAGE_BYTES = "77824230"
  ^DESCRIPTION = "JP2INFO.TXT"
END_OBJECT = COMPRESSED_FILE
END
