PDS_VERSION_ID = PDS3
/* FILE DATA ELEMENTS */
RECORD_TYPE = STREAM
/* POINTERS TO DATA OBJECTS */
^COMPRESSED_FILE = "H4447_0009_GR3.JP2"
/* IDENTIFICATION DATA ELEMENTS */
DATA_SET_ID = "MEX-M-HRSC-5-REFDR-MAPPROJECTED-V3.0"
DATA_SET_NAME = "MARS EXPRESS HRSC MAP PROJECTED REFDR V3.0"
DETECTOR_ID = MEX_HRSC_GREEN
EVENT_TYPE = "MARS-REGIONAL-VARIABLE-Gl-La-At"
INSTRUMENT_HOST_ID = MEX
INSTRUMENT_HOST_NAME = "MARS EXPRESS"
INSTRUMENT_ID = HRSC
INSTRUMENT_NAME = "HIGH RESOLUTION STEREO CAMERA"
MISSION_NAME = "MARS EXPRESS"
MISSION_PHASE_NAME = ME_Phase_8
PROCESSING_LEVEL_ID = 3
PRODUCT_CREATION_TIME = 2016-04-25T07:40:35.000Z
PRODUCT_ID = "H4447_0009_GR3.JP2"
RELEASE_ID = 0050
REVISION_ID = 0000
/* QUALITY DATA ELEMENTS */
DATA_QUALITY_ID = 1
DATA_QUALITY_DESC = "Data calculated based on original SPICE kernels"
/* TIME DATA ELEMENTS */
SPACECRAFT_CLOCK_START_COUNT = "1/0130540990.09086"
SPACECRAFT_CLOCK_STOP_COUNT = "1/0130541211.31316"
START_TIME = 2007-06-21T21:24:07.442Z
STOP_TIME = 2007-06-21T21:26:27.678Z
/* ORBITAL DATA ELEMENTS */
ASCENDING_NODE_LONGITUDE = 135.23
MAXIMUM_RESOLUTION = 111.9
FOOTPRINT_POINT_LATITUDE = (-87.6667,-87.4747,-87.2794,-87.0821, -86.8836,-86.6841,-86.4666,-86.5248, -86.5733,-86.6115,-86.6487,-86.6597, -86.6562,-86.6406,-86.5976,-86.5573, -86.5076,-86.4489,-86.3816,-86.2661, -86.1819,-86.091,-85.9432,-85.8377, -85.7271,-85.6116,-85.4917,-85.3675, -85.2395,-85.1079,-84.9732,-84.8355, -84.6951,-84.5522,-84.4071,-84.1848, -84.0333,-83.8804,-83.7256,-83.5695, -83.4118,-83.2527,-83.0923,-82.7183, -82.4437,-82.1644,-82.0235,-81.7411, -81.5991,-81.6628,-81.751,-81.8367, -81.8891,-81.9512,-82.1389,-82.2891, -82.439,-82.5887,-82.7381,-82.8873, -83.0363,-83.3327,-83.5904,-83.7657, -83.9404,-84.1148,-84.2885,-84.4613, -84.6333,-84.8044,-84.9746,-85.1437, -85.3113,-85.4776,-85.6425,-85.8058, -85.9677,-86.1277,-86.2864,-86.4427, -86.595,-86.7442,-86.89,-87.0315, -87.1687,-87.301,-87.4269,-87.6069, -87.7162,-87.8613,-87.9429,-88.0403, -88.0855,-88.1194,-88.1106,-88.0799, -88.0306,-87.9644,-87.8835,-87.6667)
FOOTPRINT_POINT_LONGITUDE = (66.9535,69.5394,71.7423,73.6351, 75.2743,76.707,79.5157,82.5041,85.5877, 88.7539,93.6079,96.8203,101.665,104.874 ,109.603,112.607,115.534,118.378, 121.124,125.029,127.441,129.746,133.004 ,135.043,136.98,138.819,140.563,142.216 ,143.784,145.269,146.674,148.006, 149.267,150.463,151.596,153.191,154.192 ,155.141,156.044,156.902,157.719, 158.498,159.241,160.826,161.878,162.859 ,163.323,164.203,164.62,165.77,167.397, 169.152,170.329,171.853,172.545,172.273 ,171.991,171.697,171.392,171.076, 170.747,170.038,169.362,168.87,168.349, 167.802,167.223,166.606,165.949,165.25, 164.503,163.703,162.842,161.917,160.921 ,159.849,158.694,157.446,156.103, 154.642,153.028,151.266,149.34,147.223, 144.904,142.359,139.556,134.712,131.061 ,124.941,120.42,112.904,107.474,98.9761 ,90.3802,84.6698,79.1808,74.0061,69.182 ,66.9535)
ORBIT_NUMBER = 4447
ORBITAL_ECCENTRICITY = 0.57
ORBITAL_INCLINATION = 86.69
ORBITAL_SEMIMAJOR_AXIS = 8546.18
PERIAPSIS_ALTITUDE = 292.44
PERIAPSIS_ARGUMENT_ANGLE = 294.99
PERIAPSIS_TIME = 2007-06-21T21:30:44.000Z
SPACECRAFT_ORIENTATION = (0.0,1.0,0.0)
^MEX_ORIENTATION_DESC = "MEX_ORIENTATION_DESC.TXT"
SPACECRAFT_POINTING_MODE = ACROSSTRACK
^MEX_POINTING_DESC = "MEX_POINTING_DESC.TXT"
RIGHT_ASCENSION = -1e+32
DECLINATION = -1e+32
OFFSET_ANGLE = -0.65
SPACECRAFT_SOLAR_DISTANCE = 2.06992e+08
TARGET_NAME = MARS
/* CAMERA DATA ELEMENTS */
DETECTOR_TEMPERATURE = 18.7783
FOCAL_PLANE_TEMPERATURE = 9.3989
INST_CMPRS_NAME = "DISCRETE COSINE TRANSFORMATION (DCT)"
INST_CMPRS_RATIO = 7.3978
INST_CMPRS_QUALITY = 0
INST_CMPRS_QUANTZ_TBL_ID = 0
INSTRUMENT_TEMPERATURE = 13.8847
LENS_TEMPERATURE = 9.6028
MACROPIXEL_SIZE = 8
MISSING_FRAMES = 0
PIXEL_SUBSAMPLING_FLAG = N
SIGNAL_CHAIN_ID = 2
/* RADIOMETRIC DATA ELEMENTS */
BANDWIDTH = 88.0
CENTER_FILTER_WAVELENGTH = 538.0
RADIANCE_OFFSET = 1.75214
RADIANCE_SCALING_FACTOR = 0.0155652
REFLECTANCE_SCALING_FACTOR = 0.000574182
MEX:REFLECTANCE_OFFSET = 0.0646343
/* IMAGE OBJECT DEFINITIONS */
OBJECT = IMAGE
  INTERCHANGE_FORMAT = BINARY
  LINES = 5375
  LINE_SAMPLES = 1462
  SAMPLE_TYPE = UNSIGNED_INTEGER
  SAMPLE_BITS = 8
  BANDS = 1
  BAND_STORAGE_TYPE = BAND_SEQUENTIAL
  MAXIMUM = 255
  MEAN = 44.4439
  MINIMUM = 1
  STANDARD_DEVIATION = 46.8732
END_OBJECT = IMAGE
/* MAP OBJECT DEFINITIONS */
OBJECT = IMAGE_MAP_PROJECTION
  ^DATA_SET_MAP_PROJECTION_CATALOG= "DSMAP.CAT"
  A_AXIS_RADIUS = 3396.0
  B_AXIS_RADIUS = 3396.0
  C_AXIS_RADIUS = 3396.0
  CENTER_LATITUDE = -90.0
  CENTER_LONGITUDE = 0.0
  COORDINATE_SYSTEM_NAME = PLANETOGRAPHIC
  COORDINATE_SYSTEM_TYPE = "BODY-FIXED ROTATING"
  EASTERNMOST_LONGITUDE = 172.545
  FIRST_STANDARD_PARALLEL = "N/A"
  LINE_FIRST_PIXEL = 1
  LINE_LAST_PIXEL = 5375
  LINE_PROJECTION_OFFSET = 567.1875
  MAP_PROJECTION_ROTATION = 0.0
  MAP_PROJECTION_TYPE = STEREOGRAPHIC
  MAP_RESOLUTION = 592.713803866667
  MAP_SCALE = 0.1
  MAXIMUM_LATITUDE = -81.59910000000001
  MINIMUM_LATITUDE = -88.1194
  POSITIVE_LONGITUDE_DIRECTION = EAST
  REFERENCE_LATITUDE = "N/A"
  REFERENCE_LONGITUDE = "N/A"
  SAMPLE_FIRST_PIXEL = 1
  SAMPLE_LAST_PIXEL = 1462
  SAMPLE_PROJECTION_OFFSET = -623.5625
  SECOND_STANDARD_PARALLEL = "N/A"
  WESTERNMOST_LONGITUDE = 66.95350000000001
END_OBJECT = IMAGE_MAP_PROJECTION
/* The JPEG2000 image data file associated with this label. */
OBJECT = COMPRESSED_FILE
  FILE_NAME = "H4447_0009_GR3.JP2"
  RECORD_TYPE = UNDEFINED
  FILE_RECORDS = UNK
  ENCODING_TYPE = "JP2"
  INTERCHANGE_FORMAT = BINARY
  UNCOMPRESSED_FILE_NAME = "H4447_0009_GR3.IMG"
  REQUIRED_STORAGE_BYTES = "7878718"
  ^DESCRIPTION = "JP2INFO.TXT"
END_OBJECT = COMPRESSED_FILE
END
