PDS_VERSION_ID = PDS3
/* FILE DATA ELEMENTS */
RECORD_TYPE = STREAM
/* POINTERS TO DATA OBJECTS */
^COMPRESSED_FILE = "H4447_0009_S13.JP2"
/* IDENTIFICATION DATA ELEMENTS */
DATA_SET_ID = "MEX-M-HRSC-5-REFDR-MAPPROJECTED-V3.0"
DATA_SET_NAME = "MARS EXPRESS HRSC MAP PROJECTED REFDR V3.0"
DETECTOR_ID = MEX_HRSC_S1
EVENT_TYPE = "MARS-REGIONAL-VARIABLE-Gl-La-At"
INSTRUMENT_HOST_ID = MEX
INSTRUMENT_HOST_NAME = "MARS EXPRESS"
INSTRUMENT_ID = HRSC
INSTRUMENT_NAME = "HIGH RESOLUTION STEREO CAMERA"
MISSION_NAME = "MARS EXPRESS"
MISSION_PHASE_NAME = ME_Phase_8
PROCESSING_LEVEL_ID = 3
PRODUCT_CREATION_TIME = 2016-04-25T07:40:35.000Z
PRODUCT_ID = "H4447_0009_S13.JP2"
RELEASE_ID = 0050
REVISION_ID = 0000
/* QUALITY DATA ELEMENTS */
DATA_QUALITY_ID = 1
DATA_QUALITY_DESC = "Data calculated based on original SPICE kernels"
/* TIME DATA ELEMENTS */
SPACECRAFT_CLOCK_START_COUNT = "1/0130540990.09086"
SPACECRAFT_CLOCK_STOP_COUNT = "1/0130541211.31316"
START_TIME = 2007-06-21T21:24:39.589Z
STOP_TIME = 2007-06-21T21:26:53.581Z
/* ORBITAL DATA ELEMENTS */
ASCENDING_NODE_LONGITUDE = 135.23
MAXIMUM_RESOLUTION = 28.7
FOOTPRINT_POINT_LATITUDE = (-87.5941,-87.4002,-87.2038,-87.006, -86.8072,-86.5362,-86.6096,-86.6454, -86.6701,-86.6835,-86.686,-86.669, -86.6442,-86.6087,-86.5633,-86.5077, -86.4426,-86.3689,-86.2869,-86.1493, -86.0489,-85.9419,-85.8294,-85.7116, -85.5879,-85.4593,-85.3258,-85.1877, -85.0466,-84.9024,-84.7559,-84.6072, -84.457,-84.2521,-84.1159,-83.9796, -83.8431,-83.7058,-83.5679,-83.4288, -83.2891,-83.1487,-82.9365,-82.6522, -82.3692,-82.2231,-82.0704,-81.9221, -81.7743,-81.588,-81.66,-81.767, -81.8581,-81.9147,-82.0518,-82.2085, -82.4429,-82.599,-82.7551,-82.9113, -83.0672,-83.2222,-83.3759,-83.5298, -83.76,-83.9131,-84.0661,-84.219, -84.4474,-84.5985,-84.7494,-84.8993, -85.0487,-85.2255,-85.3998,-85.5735, -85.8302,-85.9993,-86.1675,-86.3359, -86.4984,-86.6564,-86.8105,-87.0337, -87.2468,-87.4453,-87.5683,-87.7351, -87.8328,-87.9179,-88.0188,-88.0653, -88.101,-88.1014,-88.0639,-88.0153, -87.9497,-87.8685,-87.7732,-87.5941)
FOOTPRINT_POINT_LONGITUDE = (70.3911,72.757,74.7728,76.5034,78.0033 ,81.5607,86.2629,89.4963,92.7858, 96.0357,99.3295,104.262,107.482,110.667 ,113.749,116.762,119.674,122.468,125.14 ,128.924,131.29,133.537,135.656,137.658 ,139.564,141.364,143.071,144.687, 146.206,147.636,148.98,150.246,151.434, 152.929,153.847,154.714,155.537,156.32, 157.068,157.783,158.467,159.122,160.054 ,161.206,162.259,162.766,163.271, 163.743,164.195,165.412,166.575,168.449 ,170.239,171.439,172.643,172.364, 171.922,171.613,171.29,170.954,170.603, 170.234,169.846,169.44,168.795,168.337, 167.857,167.352,166.543,165.965,165.354 ,164.706,164.019,163.143,162.198,161.18 ,159.493,158.25,156.899,155.425,153.811 ,152.043,150.103,146.823,143.019, 138.605,135.274,129.635,125.417,120.826 ,113.262,107.843,99.3459,93.5685, 85.0854,79.6123,74.4224,69.5543,65.1215 ,70.3911)
ORBIT_NUMBER = 4447
ORBITAL_ECCENTRICITY = 0.57
ORBITAL_INCLINATION = 86.69
ORBITAL_SEMIMAJOR_AXIS = 8546.18
PERIAPSIS_ALTITUDE = 292.44
PERIAPSIS_ARGUMENT_ANGLE = 294.99
PERIAPSIS_TIME = 2007-06-21T21:30:44.000Z
SPACECRAFT_ORIENTATION = (0.0,1.0,0.0)
^MEX_ORIENTATION_DESC = "MEX_ORIENTATION_DESC.TXT"
SPACECRAFT_POINTING_MODE = ACROSSTRACK
^MEX_POINTING_DESC = "MEX_POINTING_DESC.TXT"
RIGHT_ASCENSION = -1e+32
DECLINATION = -1e+32
OFFSET_ANGLE = -0.65
SPACECRAFT_SOLAR_DISTANCE = 2.06992e+08
TARGET_NAME = MARS
/* CAMERA DATA ELEMENTS */
DETECTOR_TEMPERATURE = 18.5744
FOCAL_PLANE_TEMPERATURE = 9.3989
INST_CMPRS_NAME = "DISCRETE COSINE TRANSFORMATION (DCT)"
INST_CMPRS_RATIO = 9.49198
INST_CMPRS_QUALITY = 0
INST_CMPRS_QUANTZ_TBL_ID = 0
INSTRUMENT_TEMPERATURE = 13.8847
LENS_TEMPERATURE = 9.6028
MACROPIXEL_SIZE = 2
MISSING_FRAMES = 0
PIXEL_SUBSAMPLING_FLAG = N
SIGNAL_CHAIN_ID = 1
/* RADIOMETRIC DATA ELEMENTS */
BANDWIDTH = 180.0
CENTER_FILTER_WAVELENGTH = 677.0
RADIANCE_OFFSET = 5.41353
RADIANCE_SCALING_FACTOR = 0.0326792
REFLECTANCE_SCALING_FACTOR = 0.000730495
MEX:REFLECTANCE_OFFSET = 0.121012
/* IMAGE OBJECT DEFINITIONS */
OBJECT = IMAGE
  INTERCHANGE_FORMAT = BINARY
  LINES = 21500
  LINE_SAMPLES = 5847
  SAMPLE_TYPE = UNSIGNED_INTEGER
  SAMPLE_BITS = 8
  BANDS = 1
  BAND_STORAGE_TYPE = BAND_SEQUENTIAL
  MAXIMUM = 255
  MEAN = 53.7252
  MINIMUM = 1
  STANDARD_DEVIATION = 44.8896
END_OBJECT = IMAGE
/* MAP OBJECT DEFINITIONS */
OBJECT = IMAGE_MAP_PROJECTION
  ^DATA_SET_MAP_PROJECTION_CATALOG= "DSMAP.CAT"
  A_AXIS_RADIUS = 3396.0
  B_AXIS_RADIUS = 3396.0
  C_AXIS_RADIUS = 3396.0
  CENTER_LATITUDE = -90.0
  CENTER_LONGITUDE = 0.0
  COORDINATE_SYSTEM_NAME = PLANETOGRAPHIC
  COORDINATE_SYSTEM_TYPE = "BODY-FIXED ROTATING"
  EASTERNMOST_LONGITUDE = 172.643
  FIRST_STANDARD_PARALLEL = "N/A"
  LINE_FIRST_PIXEL = 1
  LINE_LAST_PIXEL = 21500
  LINE_PROJECTION_OFFSET = 2270.25
  MAP_PROJECTION_ROTATION = 0.0
  MAP_PROJECTION_TYPE = STEREOGRAPHIC
  MAP_RESOLUTION = 2370.85521546667
  MAP_SCALE = 0.025
  MAXIMUM_LATITUDE = -81.58799999999999
  MINIMUM_LATITUDE = -88.1014
  POSITIVE_LONGITUDE_DIRECTION = EAST
  REFERENCE_LATITUDE = "N/A"
  REFERENCE_LONGITUDE = "N/A"
  SAMPLE_FIRST_PIXEL = 1
  SAMPLE_LAST_PIXEL = 5847
  SAMPLE_PROJECTION_OFFSET = -2492.75
  SECOND_STANDARD_PARALLEL = "N/A"
  WESTERNMOST_LONGITUDE = 65.1215
END_OBJECT = IMAGE_MAP_PROJECTION
/* The JPEG2000 image data file associated with this label. */
OBJECT = COMPRESSED_FILE
  FILE_NAME = "H4447_0009_S13.JP2"
  RECORD_TYPE = UNDEFINED
  FILE_RECORDS = UNK
  ENCODING_TYPE = "JP2"
  INTERCHANGE_FORMAT = BINARY
  UNCOMPRESSED_FILE_NAME = "H4447_0009_S13.IMG"
  REQUIRED_STORAGE_BYTES = "125739735"
  ^DESCRIPTION = "JP2INFO.TXT"
END_OBJECT = COMPRESSED_FILE
END
