PDS_VERSION_ID = PDS3
/* FILE DATA ELEMENTS */
RECORD_TYPE = STREAM
/* POINTERS TO DATA OBJECTS */
^COMPRESSED_FILE = "H4449_0000_ND3.JP2"
/* IDENTIFICATION DATA ELEMENTS */
DATA_SET_ID = "MEX-M-HRSC-5-REFDR-MAPPROJECTED-V3.0"
DATA_SET_NAME = "MARS EXPRESS HRSC MAP PROJECTED REFDR V3.0"
DETECTOR_ID = MEX_HRSC_NADIR
EVENT_TYPE = "MARS-REGIONAL-MAPPING-Gl-La"
INSTRUMENT_HOST_ID = MEX
INSTRUMENT_HOST_NAME = "MARS EXPRESS"
INSTRUMENT_ID = HRSC
INSTRUMENT_NAME = "HIGH RESOLUTION STEREO CAMERA"
MISSION_NAME = "MARS EXPRESS"
MISSION_PHASE_NAME = ME_Phase_8
PROCESSING_LEVEL_ID = 3
PRODUCT_CREATION_TIME = 2016-04-25T07:40:35.000Z
PRODUCT_ID = "H4449_0000_ND3.JP2"
RELEASE_ID = 0050
REVISION_ID = 0000
/* QUALITY DATA ELEMENTS */
DATA_QUALITY_ID = 1
DATA_QUALITY_DESC = "Data calculated based on original SPICE kernels"
/* TIME DATA ELEMENTS */
SPACECRAFT_CLOCK_START_COUNT = "1/0130589486.09087"
SPACECRAFT_CLOCK_STOP_COUNT = "1/0130589657.16021"
START_TIME = 2007-06-22T10:52:06.837Z
STOP_TIME = 2007-06-22T10:53:50.850Z
/* ORBITAL DATA ELEMENTS */
ASCENDING_NODE_LONGITUDE = 135.2
MAXIMUM_RESOLUTION = 13
FOOTPRINT_POINT_LATITUDE = (-84.2826,-84.1405,-84.0425,-83.9681, -83.8491,-83.7104,-83.5206,-83.3974, -83.2732,-83.1475,-83.0203,-82.8343, -82.6163,-82.5059,-82.3945,-82.2824, -82.1699,-82.057,-81.9434,-81.829, -81.714,-81.5985,-81.4826,-81.366, -81.2489,-81.1314,-81.0134,-80.8949, -80.776,-80.6566,-80.5368,-80.4167, -80.2962,-80.1753,-80.054,-79.9324, -79.8105,-79.6883,-79.5657,-79.4428, -79.3197,-79.1962,-79.0724,-78.9493, -78.7085,-78.4667,-78.224,-77.9805, -77.7362,-77.7152,-77.7666,-77.8304, -77.8761,-77.9142,-77.9527,-78.2822, -78.5342,-78.7858,-79.0368,-79.2872, -79.4152,-79.5443,-79.6731,-79.8019, -79.9304,-80.0588,-80.187,-80.315, -80.4429,-80.5705,-80.698,-80.8252, -80.9522,-81.079,-81.2056,-81.332, -81.4581,-81.584,-81.7097,-81.8351, -81.9602,-82.085,-82.2094,-82.3336, -82.4575,-82.5812,-82.7045,-82.8274, -82.9499,-83.072,-83.1938,-83.3151, -83.4359,-83.5696,-83.7125,-83.8547, -83.9958,-84.1362,-84.2759,-84.2826)
FOOTPRINT_POINT_LONGITUDE = (321.439,319.023,317.511,316.435, 314.823,313.093,313.186,314.014,314.818 ,315.591,316.334,317.352,318.486, 319.026,319.546,320.052,320.546,321.029 ,321.498,321.951,322.391,322.821, 323.239,323.645,324.04,324.425,324.799, 325.164,325.519,325.865,326.201,326.53, 326.851,327.164,327.468,327.766,328.056 ,328.34,328.616,328.887,329.151,329.409 ,329.66,329.905,330.365,330.807,331.229 ,331.635,332.024,332.837,333.651, 334.729,335.559,336.29,337.077,337.036, 336.759,336.47,336.168,335.85,335.681, 335.507,335.329,335.147,334.959,334.767 ,334.57,334.367,334.16,333.947,333.728, 333.502,333.271,333.031,332.786,332.535 ,332.276,332.01,331.735,331.452,331.16, 330.859,330.545,330.223,329.892,329.553 ,329.2,328.835,328.459,328.066,327.661, 327.241,326.805,326.299,325.732,325.143 ,324.519,323.867,323.187,321.439)
ORBIT_NUMBER = 4449
ORBITAL_ECCENTRICITY = 0.57
ORBITAL_INCLINATION = 86.7
ORBITAL_SEMIMAJOR_AXIS = 8544.95
PERIAPSIS_ALTITUDE = 292.26
PERIAPSIS_ARGUMENT_ANGLE = 294.63
PERIAPSIS_TIME = 2007-06-22T10:57:06.000Z
SPACECRAFT_ORIENTATION = (0.0,1.0,0.0)
^MEX_ORIENTATION_DESC = "MEX_ORIENTATION_DESC.TXT"
SPACECRAFT_POINTING_MODE = NADIR
^MEX_POINTING_DESC = "MEX_POINTING_DESC.TXT"
RIGHT_ASCENSION = -1e+32
DECLINATION = -1e+32
OFFSET_ANGLE = -1e+32
SPACECRAFT_SOLAR_DISTANCE = 2.07013e+08
TARGET_NAME = MARS
/* CAMERA DATA ELEMENTS */
DETECTOR_TEMPERATURE = 18.1666
FOCAL_PLANE_TEMPERATURE = 8.3794
INST_CMPRS_NAME = "DISCRETE COSINE TRANSFORMATION (DCT)"
INST_CMPRS_RATIO = 9.68246
INST_CMPRS_QUALITY = 0
INST_CMPRS_QUANTZ_TBL_ID = 0
INSTRUMENT_TEMPERATURE = 11.4379
LENS_TEMPERATURE = 8.5833
MACROPIXEL_SIZE = 1
MISSING_FRAMES = 0
PIXEL_SUBSAMPLING_FLAG = N
SIGNAL_CHAIN_ID = 0
/* RADIOMETRIC DATA ELEMENTS */
BANDWIDTH = 177.0
CENTER_FILTER_WAVELENGTH = 677.5
RADIANCE_OFFSET = 7.84416
RADIANCE_SCALING_FACTOR = 0.0427133
REFLECTANCE_SCALING_FACTOR = 0.000972391
MEX:REFLECTANCE_OFFSET = 0.178576
/* IMAGE OBJECT DEFINITIONS */
OBJECT = IMAGE
  INTERCHANGE_FORMAT = BINARY
  LINES = 31589
  LINE_SAMPLES = 16879
  SAMPLE_TYPE = UNSIGNED_INTEGER
  SAMPLE_BITS = 8
  BANDS = 1
  BAND_STORAGE_TYPE = BAND_SEQUENTIAL
  MAXIMUM = 255
  MEAN = 222.582
  MINIMUM = 1
  STANDARD_DEVIATION = 49.4143
END_OBJECT = IMAGE
/* MAP OBJECT DEFINITIONS */
OBJECT = IMAGE_MAP_PROJECTION
  ^DATA_SET_MAP_PROJECTION_CATALOG= "DSMAP.CAT"
  A_AXIS_RADIUS = 3396.0
  B_AXIS_RADIUS = 3396.0
  C_AXIS_RADIUS = 3396.0
  CENTER_LATITUDE = 0.0
  CENTER_LONGITUDE = 329.0
  COORDINATE_SYSTEM_NAME = PLANETOGRAPHIC
  COORDINATE_SYSTEM_TYPE = "BODY-FIXED ROTATING"
  EASTERNMOST_LONGITUDE = 337.077
  FIRST_STANDARD_PARALLEL = "N/A"
  LINE_FIRST_PIXEL = 1
  LINE_LAST_PIXEL = 31589
  LINE_PROJECTION_OFFSET = -368334.0
  MAP_PROJECTION_ROTATION = 0.0
  MAP_PROJECTION_TYPE = SINUSOIDAL
  MAP_RESOLUTION = 4741.71043093333
  MAP_SCALE = 0.0125
  MAXIMUM_LATITUDE = -77.7152
  MINIMUM_LATITUDE = -84.2826
  POSITIVE_LONGITUDE_DIRECTION = EAST
  REFERENCE_LATITUDE = "N/A"
  REFERENCE_LONGITUDE = "N/A"
  SAMPLE_FIRST_PIXEL = 1
  SAMPLE_LAST_PIXEL = 16879
  SAMPLE_PROJECTION_OFFSET = 8626.0
  SECOND_STANDARD_PARALLEL = "N/A"
  WESTERNMOST_LONGITUDE = 313.093
END_OBJECT = IMAGE_MAP_PROJECTION
/* The JPEG2000 image data file associated with this label. */
OBJECT = COMPRESSED_FILE
  FILE_NAME = "H4449_0000_ND3.JP2"
  RECORD_TYPE = UNDEFINED
  FILE_RECORDS = UNK
  ENCODING_TYPE = "JP2"
  INTERCHANGE_FORMAT = BINARY
  UNCOMPRESSED_FILE_NAME = "H4449_0000_ND3.IMG"
  REQUIRED_STORAGE_BYTES = "533241368"
  ^DESCRIPTION = "JP2INFO.TXT"
END_OBJECT = COMPRESSED_FILE
END
