PDS_VERSION_ID = PDS3
/* FILE DATA ELEMENTS */
RECORD_TYPE = STREAM
/* POINTERS TO DATA OBJECTS */
^COMPRESSED_FILE = "H4449_0000_P23.JP2"
/* IDENTIFICATION DATA ELEMENTS */
DATA_SET_ID = "MEX-M-HRSC-5-REFDR-MAPPROJECTED-V3.0"
DATA_SET_NAME = "MARS EXPRESS HRSC MAP PROJECTED REFDR V3.0"
DETECTOR_ID = MEX_HRSC_P2
EVENT_TYPE = "MARS-REGIONAL-MAPPING-Gl-La"
INSTRUMENT_HOST_ID = MEX
INSTRUMENT_HOST_NAME = "MARS EXPRESS"
INSTRUMENT_ID = HRSC
INSTRUMENT_NAME = "HIGH RESOLUTION STEREO CAMERA"
MISSION_NAME = "MARS EXPRESS"
MISSION_PHASE_NAME = ME_Phase_8
PROCESSING_LEVEL_ID = 3
PRODUCT_CREATION_TIME = 2016-04-25T07:40:35.000Z
PRODUCT_ID = "H4449_0000_P23.JP2"
RELEASE_ID = 0050
REVISION_ID = 0000
/* QUALITY DATA ELEMENTS */
DATA_QUALITY_ID = 1
DATA_QUALITY_DESC = "Data calculated based on original SPICE kernels"
/* TIME DATA ELEMENTS */
SPACECRAFT_CLOCK_START_COUNT = "1/0130589486.09087"
SPACECRAFT_CLOCK_STOP_COUNT = "1/0130589657.16021"
START_TIME = 2007-06-22T10:51:43.344Z
STOP_TIME = 2007-06-22T10:53:31.107Z
/* ORBITAL DATA ELEMENTS */
ASCENDING_NODE_LONGITUDE = 135.2
MAXIMUM_RESOLUTION = 27.5
FOOTPRINT_POINT_LATITUDE = (-84.3547,-84.2342,-84.1407,-84.0292, -83.9351,-83.8152,-83.5758,-83.4599, -83.3421,-83.2245,-83.1051,-82.9839, -82.8598,-82.7358,-82.6137,-82.4889, -82.3617,-82.1694,-82.042,-81.9139, -81.7834,-81.599,-81.3782,-81.2665, -81.0982,-80.9853,-80.8724,-80.7016, -80.5299,-80.4148,-80.2998,-80.126, -80.0097,-79.8933,-79.7765,-79.6593, -79.483,-79.3651,-79.2468,-79.0687, -78.9497,-78.8304,-78.6508,-78.5308, -78.3503,-78.1693,-78.0483,-77.9274, -77.7456,-77.7225,-77.7904,-77.8302, -77.888,-77.9261,-78.0343,-78.2218, -78.3477,-78.4727,-78.5977,-78.7853, -78.9103,-79.0349,-79.1596,-79.2843, -79.4708,-79.5947,-79.7803,-79.9038, -80.0273,-80.212,-80.3348,-80.4575, -80.5799,-80.702,-80.8241,-81.0071, -81.1287,-81.25,-81.3709,-81.4914, -81.6116,-81.7317,-81.8517,-82.0308, -82.1502,-82.2869,-82.4282,-82.6387, -82.7787,-82.918,-83.0573,-83.265, -83.4028,-83.5407,-83.7457,-83.8816, -84.0847,-84.2192,-84.352,-84.3547)
FOOTPRINT_POINT_LONGITUDE = (321.163,319.099,317.634,316.018, 314.751,313.245,312.532,313.344,314.128 ,314.883,315.613,316.319,317.004, 317.664,318.299,318.914,319.512,320.371 ,320.92,321.452,321.968,322.666,323.459 ,323.84,324.395,324.753,325.103,325.611 ,326.101,326.418,326.727,327.178,327.47 ,327.755,328.033,328.305,328.702,328.96 ,329.211,329.578,329.817,330.05,330.39, 330.611,330.934,331.247,331.45,331.65, 331.94,332.93,334.009,334.682,335.728, 336.465,337.377,337.183,337.049,336.914 ,336.777,336.562,336.415,336.265, 336.111,335.953,335.71,335.544,335.287, 335.11,334.929,334.649,334.457,334.259, 334.058,333.851,333.638,333.306,333.077 ,332.843,332.604,332.358,332.106, 331.846,331.578,331.162,330.872,330.525 ,330.158,329.585,329.183,328.768, 328.331,327.645,327.163,326.654,325.856 ,325.293,324.394,323.759,323.103, 321.163)
ORBIT_NUMBER = 4449
ORBITAL_ECCENTRICITY = 0.57
ORBITAL_INCLINATION = 86.7
ORBITAL_SEMIMAJOR_AXIS = 8544.95
PERIAPSIS_ALTITUDE = 292.26
PERIAPSIS_ARGUMENT_ANGLE = 294.63
PERIAPSIS_TIME = 2007-06-22T10:57:06.000Z
SPACECRAFT_ORIENTATION = (0.0,1.0,0.0)
^MEX_ORIENTATION_DESC = "MEX_ORIENTATION_DESC.TXT"
SPACECRAFT_POINTING_MODE = NADIR
^MEX_POINTING_DESC = "MEX_POINTING_DESC.TXT"
RIGHT_ASCENSION = -1e+32
DECLINATION = -1e+32
OFFSET_ANGLE = -1e+32
SPACECRAFT_SOLAR_DISTANCE = 2.07013e+08
TARGET_NAME = MARS
/* CAMERA DATA ELEMENTS */
DETECTOR_TEMPERATURE = 18.7783
FOCAL_PLANE_TEMPERATURE = 8.3794
INST_CMPRS_NAME = "DISCRETE COSINE TRANSFORMATION (DCT)"
INST_CMPRS_RATIO = 17.0858
INST_CMPRS_QUALITY = 0
INST_CMPRS_QUANTZ_TBL_ID = 0
INSTRUMENT_TEMPERATURE = 11.4379
LENS_TEMPERATURE = 8.5833
MACROPIXEL_SIZE = 2
MISSING_FRAMES = 0
PIXEL_SUBSAMPLING_FLAG = N
SIGNAL_CHAIN_ID = 3
/* RADIOMETRIC DATA ELEMENTS */
BANDWIDTH = 177.0
CENTER_FILTER_WAVELENGTH = 676.5
RADIANCE_OFFSET = 8.42326
RADIANCE_SCALING_FACTOR = 0.0263302
REFLECTANCE_SCALING_FACTOR = 0.000598281
MEX:REFLECTANCE_OFFSET = 0.191396
/* IMAGE OBJECT DEFINITIONS */
OBJECT = IMAGE
  INTERCHANGE_FORMAT = BINARY
  LINES = 15795
  LINE_SAMPLES = 8440
  SAMPLE_TYPE = UNSIGNED_INTEGER
  SAMPLE_BITS = 8
  BANDS = 1
  BAND_STORAGE_TYPE = BAND_SEQUENTIAL
  MAXIMUM = 255
  MEAN = 245.886
  MINIMUM = 1
  STANDARD_DEVIATION = 35.6577
END_OBJECT = IMAGE
/* MAP OBJECT DEFINITIONS */
OBJECT = IMAGE_MAP_PROJECTION
  ^DATA_SET_MAP_PROJECTION_CATALOG= "DSMAP.CAT"
  A_AXIS_RADIUS = 3396.0
  B_AXIS_RADIUS = 3396.0
  C_AXIS_RADIUS = 3396.0
  CENTER_LATITUDE = 0.0
  CENTER_LONGITUDE = 329.0
  COORDINATE_SYSTEM_NAME = PLANETOGRAPHIC
  COORDINATE_SYSTEM_TYPE = "BODY-FIXED ROTATING"
  EASTERNMOST_LONGITUDE = 337.377
  FIRST_STANDARD_PARALLEL = "N/A"
  LINE_FIRST_PIXEL = 1
  LINE_LAST_PIXEL = 15795
  LINE_PROJECTION_OFFSET = -184167.25
  MAP_PROJECTION_ROTATION = 0.0
  MAP_PROJECTION_TYPE = SINUSOIDAL
  MAP_RESOLUTION = 2370.85521546667
  MAP_SCALE = 0.025
  MAXIMUM_LATITUDE = -77.7225
  MINIMUM_LATITUDE = -84.35469999999999
  POSITIVE_LONGITUDE_DIRECTION = EAST
  REFERENCE_LATITUDE = "N/A"
  REFERENCE_LONGITUDE = "N/A"
  SAMPLE_FIRST_PIXEL = 1
  SAMPLE_LAST_PIXEL = 8440
  SAMPLE_PROJECTION_OFFSET = 4312.75
  SECOND_STANDARD_PARALLEL = "N/A"
  WESTERNMOST_LONGITUDE = 312.532
END_OBJECT = IMAGE_MAP_PROJECTION
/* The JPEG2000 image data file associated with this label. */
OBJECT = COMPRESSED_FILE
  FILE_NAME = "H4449_0000_P23.JP2"
  RECORD_TYPE = UNDEFINED
  FILE_RECORDS = UNK
  ENCODING_TYPE = "JP2"
  INTERCHANGE_FORMAT = BINARY
  UNCOMPRESSED_FILE_NAME = "H4449_0000_P23.IMG"
  REQUIRED_STORAGE_BYTES = "133343560"
  ^DESCRIPTION = "JP2INFO.TXT"
END_OBJECT = COMPRESSED_FILE
END
