PDS_VERSION_ID = PDS3
/* FILE DATA ELEMENTS */
RECORD_TYPE = STREAM
/* POINTERS TO DATA OBJECTS */
^COMPRESSED_FILE = "H4456_0000_S23.JP2"
/* IDENTIFICATION DATA ELEMENTS */
DATA_SET_ID = "MEX-M-HRSC-5-REFDR-MAPPROJECTED-V3.0"
DATA_SET_NAME = "MARS EXPRESS HRSC MAP PROJECTED REFDR V3.0"
DETECTOR_ID = MEX_HRSC_S2
EVENT_TYPE = "MARS-REGIONAL-MAPPING-Gl-La"
INSTRUMENT_HOST_ID = MEX
INSTRUMENT_HOST_NAME = "MARS EXPRESS"
INSTRUMENT_ID = HRSC
INSTRUMENT_NAME = "HIGH RESOLUTION STEREO CAMERA"
MISSION_NAME = "MARS EXPRESS"
MISSION_PHASE_NAME = ME_Phase_8
PROCESSING_LEVEL_ID = 3
PRODUCT_CREATION_TIME = 2016-04-25T07:40:35.000Z
PRODUCT_ID = "H4456_0000_S23.JP2"
RELEASE_ID = 0050
REVISION_ID = 0000
/* QUALITY DATA ELEMENTS */
DATA_QUALITY_ID = 1
DATA_QUALITY_DESC = "Data calculated based on original SPICE kernels"
/* TIME DATA ELEMENTS */
SPACECRAFT_CLOCK_START_COUNT = "1/0130758894.09050"
SPACECRAFT_CLOCK_STOP_COUNT = "1/0130759079.07693"
START_TIME = 2007-06-24T09:54:58.248Z
STOP_TIME = 2007-06-24T09:57:06.212Z
/* ORBITAL DATA ELEMENTS */
ASCENDING_NODE_LONGITUDE = 135.05
MAXIMUM_RESOLUTION = 26.4
FOOTPRINT_POINT_LATITUDE = (-82.2109,-82.1444,-82.0929,-82.0375, -81.9782,-81.9152,-81.8487,-81.6093, -81.4577,-81.309,-81.0884,-80.9383, -80.7878,-80.6366,-80.4093,-80.257, -80.1043,-79.875,-79.721,-79.4897, -79.2555,-79.022,-78.7877,-78.6311, -78.4745,-78.3167,-78.0806,-77.9253, -77.7717,-77.6178,-77.4635,-77.2336, -77.0783,-76.8443,-76.6882,-76.5319, -76.376,-76.2214,-76.0695,-75.9177, -75.7655,-75.6132,-75.384,-75.2311, -75.0779,-74.9246,-74.6946,-74.5409, -74.387,-74.1564,-74.0724,-74.1054, -74.1362,-74.1534,-74.177,-74.4084, -74.5647,-74.7993,-74.9556,-75.1117, -75.3458,-75.502,-75.6576,-75.8126, -75.9681,-76.1233,-76.278,-76.4332, -76.5921,-76.7524,-76.9124,-77.1533, -77.395,-77.5562,-77.7117,-77.8654, -78.0238,-78.2604,-78.4219,-78.5856, -78.7487,-78.9929,-79.1568,-79.3967, -79.5564,-79.7168,-79.8782,-80.0389, -80.199,-80.3581,-80.5182,-80.6783, -80.916,-81.0743,-81.2332,-81.3912, -81.5484,-81.7058,-81.9409,-82.2109)
FOOTPRINT_POINT_LONGITUDE = (367.188,365.206,363.862,362.548, 361.264,360.008,358.78,359.484,359.928, 360.346,360.938,361.323,361.695,362.055 ,362.572,362.904,363.226,363.689, 363.987,364.416,364.831,365.225,365.602 ,365.845,366.08,366.31,366.642,366.853, 367.056,367.253,367.446,367.723,367.905 ,368.17,368.341,368.507,368.669,368.826 ,368.977,369.123,369.267,369.407, 369.612,369.745,369.876,370.003,370.189 ,370.31,370.428,370.6,371.168,372.091, 373.068,373.704,374.726,374.626,374.558 ,374.452,374.379,374.306,374.191, 374.112,374.032,373.952,373.868,373.783 ,373.696,373.606,373.511,373.413, 373.312,373.153,372.982,372.863,372.764 ,372.668,372.55,372.37,372.247,372.11, 371.97,371.753,371.597,371.379,371.229, 371.07,370.898,370.724,370.546,370.366, 370.173,369.972,369.668,369.456,369.231 ,369.001,368.767,368.519,368.133, 367.188)
ORBIT_NUMBER = 4456
ORBITAL_ECCENTRICITY = 0.57
ORBITAL_INCLINATION = 86.69
ORBITAL_SEMIMAJOR_AXIS = 8545.36
PERIAPSIS_ALTITUDE = 292.5
PERIAPSIS_ARGUMENT_ANGLE = 293.41
PERIAPSIS_TIME = 2007-06-24T09:59:31.000Z
SPACECRAFT_ORIENTATION = (0.0,1.0,0.0)
^MEX_ORIENTATION_DESC = "MEX_ORIENTATION_DESC.TXT"
SPACECRAFT_POINTING_MODE = ACROSSTRACK
^MEX_POINTING_DESC = "MEX_POINTING_DESC.TXT"
RIGHT_ASCENSION = -1e+32
DECLINATION = -1e+32
OFFSET_ANGLE = -0.6
SPACECRAFT_SOLAR_DISTANCE = 2.07092e+08
TARGET_NAME = MARS
/* CAMERA DATA ELEMENTS */
DETECTOR_TEMPERATURE = 18.7783
FOCAL_PLANE_TEMPERATURE = 8.5833
INST_CMPRS_NAME = "DISCRETE COSINE TRANSFORMATION (DCT)"
INST_CMPRS_RATIO = 20.7808
INST_CMPRS_QUALITY = 0
INST_CMPRS_QUANTZ_TBL_ID = 0
INSTRUMENT_TEMPERATURE = 11.6418
LENS_TEMPERATURE = 9.195
MACROPIXEL_SIZE = 2
MISSING_FRAMES = 0
PIXEL_SUBSAMPLING_FLAG = N
SIGNAL_CHAIN_ID = 1
/* RADIOMETRIC DATA ELEMENTS */
BANDWIDTH = 178.0
CENTER_FILTER_WAVELENGTH = 679.0
RADIANCE_OFFSET = 7.38027
RADIANCE_SCALING_FACTOR = 0.0245628
REFLECTANCE_SCALING_FACTOR = 0.000557872
MEX:REFLECTANCE_OFFSET = 0.167621
/* IMAGE OBJECT DEFINITIONS */
OBJECT = IMAGE
  INTERCHANGE_FORMAT = BINARY
  LINES = 19208
  LINE_SAMPLES = 6543
  SAMPLE_TYPE = UNSIGNED_INTEGER
  SAMPLE_BITS = 8
  BANDS = 1
  BAND_STORAGE_TYPE = BAND_SEQUENTIAL
  MAXIMUM = 255
  MEAN = 227.799
  MINIMUM = 1
  STANDARD_DEVIATION = 68.5906
END_OBJECT = IMAGE
/* MAP OBJECT DEFINITIONS */
OBJECT = IMAGE_MAP_PROJECTION
  ^DATA_SET_MAP_PROJECTION_CATALOG= "DSMAP.CAT"
  A_AXIS_RADIUS = 3396.0
  B_AXIS_RADIUS = 3396.0
  C_AXIS_RADIUS = 3396.0
  CENTER_LATITUDE = 0.0
  CENTER_LONGITUDE = 10.0
  COORDINATE_SYSTEM_NAME = PLANETOGRAPHIC
  COORDINATE_SYSTEM_TYPE = "BODY-FIXED ROTATING"
  EASTERNMOST_LONGITUDE = 14.726
  FIRST_STANDARD_PARALLEL = "N/A"
  LINE_FIRST_PIXEL = 1
  LINE_LAST_PIXEL = 19208
  LINE_PROJECTION_OFFSET = -175456.75
  MAP_PROJECTION_ROTATION = 0.0
  MAP_PROJECTION_TYPE = SINUSOIDAL
  MAP_RESOLUTION = 2370.85521546667
  MAP_SCALE = 0.025
  MAXIMUM_LATITUDE = -74.0724
  MINIMUM_LATITUDE = -82.2109
  POSITIVE_LONGITUDE_DIRECTION = EAST
  REFERENCE_LATITUDE = "N/A"
  REFERENCE_LONGITUDE = "N/A"
  SAMPLE_FIRST_PIXEL = 1
  SAMPLE_LAST_PIXEL = 6543
  SAMPLE_PROJECTION_OFFSET = 3651.75
  SECOND_STANDARD_PARALLEL = "N/A"
  WESTERNMOST_LONGITUDE = -1.22
END_OBJECT = IMAGE_MAP_PROJECTION
/* The JPEG2000 image data file associated with this label. */
OBJECT = COMPRESSED_FILE
  FILE_NAME = "H4456_0000_S23.JP2"
  RECORD_TYPE = UNDEFINED
  FILE_RECORDS = UNK
  ENCODING_TYPE = "JP2"
  INTERCHANGE_FORMAT = BINARY
  UNCOMPRESSED_FILE_NAME = "H4456_0000_S23.IMG"
  REQUIRED_STORAGE_BYTES = "125710659"
  ^DESCRIPTION = "JP2INFO.TXT"
END_OBJECT = COMPRESSED_FILE
END
