PDS_VERSION_ID = PDS3
/* FILE DATA ELEMENTS */
RECORD_TYPE = STREAM
/* POINTERS TO DATA OBJECTS */
^COMPRESSED_FILE = "H4457_0000_S13.JP2"
/* IDENTIFICATION DATA ELEMENTS */
DATA_SET_ID = "MEX-M-HRSC-5-REFDR-MAPPROJECTED-V3.0"
DATA_SET_NAME = "MARS EXPRESS HRSC MAP PROJECTED REFDR V3.0"
DETECTOR_ID = MEX_HRSC_S1
EVENT_TYPE = "MARS-REGIONAL-MAPPING-Im-Gl-Pf"
INSTRUMENT_HOST_ID = MEX
INSTRUMENT_HOST_NAME = "MARS EXPRESS"
INSTRUMENT_ID = HRSC
INSTRUMENT_NAME = "HIGH RESOLUTION STEREO CAMERA"
MISSION_NAME = "MARS EXPRESS"
MISSION_PHASE_NAME = ME_Phase_8
PROCESSING_LEVEL_ID = 3
PRODUCT_CREATION_TIME = 2016-04-25T07:40:35.000Z
PRODUCT_ID = "H4457_0000_S13.JP2"
RELEASE_ID = 0050
REVISION_ID = 0000
/* QUALITY DATA ELEMENTS */
DATA_QUALITY_ID = 1
DATA_QUALITY_DESC = "Data calculated based on original SPICE kernels"
/* TIME DATA ELEMENTS */
SPACECRAFT_CLOCK_START_COUNT = "1/0130783285.07293"
SPACECRAFT_CLOCK_STOP_COUNT = "1/0130783548.39669"
START_TIME = 2007-06-24T16:41:29.207Z
STOP_TIME = 2007-06-24T16:44:54.600Z
/* ORBITAL DATA ELEMENTS */
ASCENDING_NODE_LONGITUDE = 135.03
MAXIMUM_RESOLUTION = 24.6
FOOTPRINT_POINT_LATITUDE = (-70.1561,-70.1657,-70.1743,-70.1817, -70.1877,-70.1925,-70.1969,-69.9767, -69.5716,-69.1691,-68.7661,-68.4975, -68.2281,-67.8235,-67.5527,-67.2822, -67.0112,-66.7407,-66.4695,-66.1982, -65.9265,-65.6547,-65.3833,-65.1119, -64.7036,-64.4313,-64.1588,-63.6142, -63.2047,-62.9317,-62.5225,-62.2434, -61.975,-61.699,-61.2853,-61.0106, -60.735,-60.4598,-60.1854,-59.9108, -59.6361,-59.2262,-58.8112,-58.3985, -58.1231,-57.8471,-57.5719,-57.1443, -56.716,-56.4301,-56.4164,-56.4214, -56.4265,-56.429,-56.4311,-56.5749, -56.8598,-57.1459,-57.2897,-57.5742, -57.9834,-58.2577,-58.5326,-58.807, -59.0812,-59.4925,-59.9036,-60.1777, -60.4517,-60.8625,-61.2737,-61.5477, -61.8211,-62.0947,-62.3677,-62.6405, -62.9128,-63.185,-63.5928,-63.9996, -64.271,-64.542,-64.8131,-65.2194, -65.6252,-65.8957,-66.1657,-66.4354, -66.7045,-66.9741,-67.2436,-67.5126, -67.7812,-68.0494,-68.317,-68.7181, -69.1183,-69.5184,-69.7844,-70.1561)
FOOTPRINT_POINT_LONGITUDE = (275.452,275.903,276.36,276.825,277.295 ,277.773,278.473,278.766,278.856, 278.934,279.008,279.055,279.102,279.17, 279.216,279.26,279.303,279.343,279.384, 279.423,279.462,279.499,279.534,279.568 ,279.619,279.652,279.685,279.745, 279.789,279.818,279.858,279.897,279.913 ,279.943,279.987,280.013,280.039, 280.064,280.087,280.11,280.132,280.16, 280.195,280.226,280.246,280.266,280.285 ,280.314,280.341,280.359,280.019, 279.702,279.293,279.005,278.645,278.345 ,278.317,278.287,278.272,278.241, 278.198,278.167,278.134,278.102,278.068 ,278.016,277.961,277.923,277.885, 277.825,277.762,277.718,277.674,277.629 ,277.582,277.534,277.486,277.436, 277.358,277.278,277.222,277.165,277.106 ,277.015,276.92,276.854,276.787,276.717 ,276.647,276.573,276.497,276.42,276.34, 276.258,276.174,276.043,275.906,275.763 ,275.664,275.452)
ORBIT_NUMBER = 4457
ORBITAL_ECCENTRICITY = 0.57
ORBITAL_INCLINATION = 86.68
ORBITAL_SEMIMAJOR_AXIS = 8544.01
PERIAPSIS_ALTITUDE = 292.12
PERIAPSIS_ARGUMENT_ANGLE = 293.25
PERIAPSIS_TIME = 2007-06-24T16:42:47.000Z
SPACECRAFT_ORIENTATION = (0.0,-1.0,0.0)
^MEX_ORIENTATION_DESC = "MEX_ORIENTATION_DESC.TXT"
SPACECRAFT_POINTING_MODE = ACROSSTRACK
^MEX_POINTING_DESC = "MEX_POINTING_DESC.TXT"
RIGHT_ASCENSION = -1e+32
DECLINATION = -1e+32
OFFSET_ANGLE = -0.9
SPACECRAFT_SOLAR_DISTANCE = 2.07104e+08
TARGET_NAME = MARS
/* CAMERA DATA ELEMENTS */
DETECTOR_TEMPERATURE = 16.3315
FOCAL_PLANE_TEMPERATURE = 8.3794
INST_CMPRS_NAME = "DISCRETE COSINE TRANSFORMATION (DCT)"
INST_CMPRS_RATIO = 13.6606
INST_CMPRS_QUALITY = 0
INST_CMPRS_QUANTZ_TBL_ID = 0
INSTRUMENT_TEMPERATURE = 11.234
LENS_TEMPERATURE = 8.7872
MACROPIXEL_SIZE = 2
MISSING_FRAMES = 0
PIXEL_SUBSAMPLING_FLAG = N
SIGNAL_CHAIN_ID = 1
/* RADIOMETRIC DATA ELEMENTS */
BANDWIDTH = 180.0
CENTER_FILTER_WAVELENGTH = 677.0
RADIANCE_OFFSET = 6.57342
RADIANCE_SCALING_FACTOR = 0.0127442
REFLECTANCE_SCALING_FACTOR = 0.000285191
MEX:REFLECTANCE_OFFSET = 0.1471
/* IMAGE OBJECT DEFINITIONS */
OBJECT = IMAGE
  INTERCHANGE_FORMAT = BINARY
  LINES = 32566
  LINE_SAMPLES = 4693
  SAMPLE_TYPE = UNSIGNED_INTEGER
  SAMPLE_BITS = 8
  BANDS = 1
  BAND_STORAGE_TYPE = BAND_SEQUENTIAL
  MAXIMUM = 255
  MEAN = 156.324
  MINIMUM = 1
  STANDARD_DEVIATION = 28.9985
END_OBJECT = IMAGE
/* MAP OBJECT DEFINITIONS */
OBJECT = IMAGE_MAP_PROJECTION
  ^DATA_SET_MAP_PROJECTION_CATALOG= "DSMAP.CAT"
  A_AXIS_RADIUS = 3396.0
  B_AXIS_RADIUS = 3396.0
  C_AXIS_RADIUS = 3396.0
  CENTER_LATITUDE = 0.0
  CENTER_LONGITUDE = 279.0
  COORDINATE_SYSTEM_NAME = PLANETOGRAPHIC
  COORDINATE_SYSTEM_TYPE = "BODY-FIXED ROTATING"
  EASTERNMOST_LONGITUDE = 280.359
  FIRST_STANDARD_PARALLEL = "N/A"
  LINE_FIRST_PIXEL = 1
  LINE_LAST_PIXEL = 32566
  LINE_PROJECTION_OFFSET = -133674.75
  MAP_PROJECTION_ROTATION = 0.0
  MAP_PROJECTION_TYPE = SINUSOIDAL
  MAP_RESOLUTION = 2370.85521546667
  MAP_SCALE = 0.025
  MAXIMUM_LATITUDE = -56.4164
  MINIMUM_LATITUDE = -70.1969
  POSITIVE_LONGITUDE_DIRECTION = EAST
  REFERENCE_LATITUDE = "N/A"
  REFERENCE_LONGITUDE = "N/A"
  SAMPLE_FIRST_PIXEL = 1
  SAMPLE_LAST_PIXEL = 4693
  SAMPLE_PROJECTION_OFFSET = 2816.25
  SECOND_STANDARD_PARALLEL = "N/A"
  WESTERNMOST_LONGITUDE = 275.452
END_OBJECT = IMAGE_MAP_PROJECTION
/* The JPEG2000 image data file associated with this label. */
OBJECT = COMPRESSED_FILE
  FILE_NAME = "H4457_0000_S13.JP2"
  RECORD_TYPE = UNDEFINED
  FILE_RECORDS = UNK
  ENCODING_TYPE = "JP2"
  INTERCHANGE_FORMAT = BINARY
  UNCOMPRESSED_FILE_NAME = "H4457_0000_S13.IMG"
  REQUIRED_STORAGE_BYTES = "152860396"
  ^DESCRIPTION = "JP2INFO.TXT"
END_OBJECT = COMPRESSED_FILE
END
