PDS_VERSION_ID = PDS3
/* FILE DATA ELEMENTS */
RECORD_TYPE = STREAM
/* POINTERS TO DATA OBJECTS */
^COMPRESSED_FILE = "H4458_0000_ND3.JP2"
/* IDENTIFICATION DATA ELEMENTS */
DATA_SET_ID = "MEX-M-HRSC-5-REFDR-MAPPROJECTED-V3.0"
DATA_SET_NAME = "MARS EXPRESS HRSC MAP PROJECTED REFDR V3.0"
DETECTOR_ID = MEX_HRSC_NADIR
EVENT_TYPE = "MARS-LOCAL-STEREO-Gl-La"
INSTRUMENT_HOST_ID = MEX
INSTRUMENT_HOST_NAME = "MARS EXPRESS"
INSTRUMENT_ID = HRSC
INSTRUMENT_NAME = "HIGH RESOLUTION STEREO CAMERA"
MISSION_NAME = "MARS EXPRESS"
MISSION_PHASE_NAME = ME_Phase_8
PROCESSING_LEVEL_ID = 3
PRODUCT_CREATION_TIME = 2016-04-25T07:40:35.000Z
PRODUCT_ID = "H4458_0000_ND3.JP2"
RELEASE_ID = 0050
REVISION_ID = 0000
/* QUALITY DATA ELEMENTS */
DATA_QUALITY_ID = 1
DATA_QUALITY_DESC = "Data calculated based on original SPICE kernels"
/* TIME DATA ELEMENTS */
SPACECRAFT_CLOCK_START_COUNT = "1/0130807134.09103"
SPACECRAFT_CLOCK_STOP_COUNT = "1/0130807334.00849"
START_TIME = 2007-06-24T23:19:41.828Z
STOP_TIME = 2007-06-24T23:21:44.847Z
/* ORBITAL DATA ELEMENTS */
ASCENDING_NODE_LONGITUDE = 135.01
MAXIMUM_RESOLUTION = 13.9
FOOTPRINT_POINT_LATITUDE = (-85.9275,-85.7183,-85.5053,-85.2889, -85.0689,-84.845,-84.7443,-84.7837, -84.8179,-84.8596,-84.8802,-84.8946, -84.9017,-84.9049,-84.9051,-84.8996, -84.8877,-84.8702,-84.8489,-84.8235, -84.7929,-84.7574,-84.7164,-84.6719, -84.6225,-84.5688,-84.5105,-84.4479, -84.3813,-84.3111,-84.237,-84.1601, -84.0799,-83.9962,-83.9097,-83.8204, -83.7278,-83.6326,-83.5343,-83.4335, -83.3297,-83.2235,-83.114,-83.0023, -82.8391,-82.6468,-82.4509,-82.2478, -82.0402,-81.926,-82.0488,-82.1668, -82.3344,-82.4397,-82.5399,-82.7625, -82.9963,-83.2268,-83.4539,-83.6771, -83.8669,-83.9963,-84.1243,-84.2503, -84.3745,-84.4963,-84.616,-84.7333, -84.8482,-84.9605,-85.0701,-85.1769, -85.2806,-85.381,-85.478,-85.5711, -85.6603,-85.7453,-85.8258,-85.9017, -85.9726,-86.0384,-86.0987,-86.1533, -86.202,-86.2445,-86.2806,-86.3104, -86.3334,-86.35,-86.3595,-86.3617, -86.3523,-86.3368,-86.3143,-86.2664, -86.2256,-86.1782,-86.1243,-85.9275)
FOOTPRINT_POINT_LONGITUDE = (76.2134,77.2521,78.2045,79.0794, 79.8867,80.6348,82.826,84.575,86.351, 89.0555,90.8376,92.6354,94.4445,96.258, 98.0736,100.786,102.549,104.302,106.045 ,107.774,109.485,111.176,112.84,114.482 ,116.094,117.678,119.228,120.743, 122.225,123.673,125.084,126.463,127.806 ,129.113,130.386,131.624,132.825, 133.992,135.121,136.217,137.277,138.303 ,139.29,140.244,141.61,143.106,144.537, 145.875,147.143,148.505,149.689,150.894 ,152.739,153.99,155.256,155.067,153.955 ,152.767,151.496,150.134,148.865, 147.958,147.012,146.024,144.992,143.912 ,142.784,141.605,140.374,139.088, 137.745,136.343,134.88,133.353,131.761, 130.101,128.373,126.575,124.707,122.768 ,120.761,118.686,116.545,114.342,112.08 ,109.765,107.402,105.0,102.565,100.056, 97.5141,94.9659,91.1515,88.6308,86.1381 ,82.3817,79.9366,77.5503,75.2286, 76.2134)
ORBIT_NUMBER = 4458
ORBITAL_ECCENTRICITY = 0.57
ORBITAL_INCLINATION = 86.69
ORBITAL_SEMIMAJOR_AXIS = 8543.97
PERIAPSIS_ALTITUDE = 292.56
PERIAPSIS_ARGUMENT_ANGLE = 293.08
PERIAPSIS_TIME = 2007-06-24T23:25:58.000Z
SPACECRAFT_ORIENTATION = (0.0,1.0,0.0)
^MEX_ORIENTATION_DESC = "MEX_ORIENTATION_DESC.TXT"
SPACECRAFT_POINTING_MODE = ACROSSTRACK
^MEX_POINTING_DESC = "MEX_POINTING_DESC.TXT"
RIGHT_ASCENSION = -1e+32
DECLINATION = -1e+32
OFFSET_ANGLE = 1.0
SPACECRAFT_SOLAR_DISTANCE = 2.07117e+08
TARGET_NAME = MARS
/* CAMERA DATA ELEMENTS */
DETECTOR_TEMPERATURE = 17.351
FOCAL_PLANE_TEMPERATURE = 8.7872
INST_CMPRS_NAME = "DISCRETE COSINE TRANSFORMATION (DCT)"
INST_CMPRS_RATIO = 6.45847
INST_CMPRS_QUALITY = 0
INST_CMPRS_QUANTZ_TBL_ID = 0
INSTRUMENT_TEMPERATURE = 11.6418
LENS_TEMPERATURE = 8.9911
MACROPIXEL_SIZE = 1
MISSING_FRAMES = 0
PIXEL_SUBSAMPLING_FLAG = N
SIGNAL_CHAIN_ID = 0
/* RADIOMETRIC DATA ELEMENTS */
BANDWIDTH = 177.0
CENTER_FILTER_WAVELENGTH = 677.5
RADIANCE_OFFSET = 4.90188
RADIANCE_SCALING_FACTOR = 0.0216061
REFLECTANCE_SCALING_FACTOR = 0.000492367
MEX:REFLECTANCE_OFFSET = 0.111706
/* IMAGE OBJECT DEFINITIONS */
OBJECT = IMAGE
  INTERCHANGE_FORMAT = BINARY
  LINES = 21094
  LINE_SAMPLES = 37651
  SAMPLE_TYPE = UNSIGNED_INTEGER
  SAMPLE_BITS = 8
  BANDS = 1
  BAND_STORAGE_TYPE = BAND_SEQUENTIAL
  MAXIMUM = 255
  MEAN = 61.2701
  MINIMUM = 1
  STANDARD_DEVIATION = 34.9351
END_OBJECT = IMAGE
/* MAP OBJECT DEFINITIONS */
OBJECT = IMAGE_MAP_PROJECTION
  ^DATA_SET_MAP_PROJECTION_CATALOG= "DSMAP.CAT"
  A_AXIS_RADIUS = 3396.0
  B_AXIS_RADIUS = 3396.0
  C_AXIS_RADIUS = 3396.0
  CENTER_LATITUDE = 0.0
  CENTER_LONGITUDE = 127.0
  COORDINATE_SYSTEM_NAME = PLANETOGRAPHIC
  COORDINATE_SYSTEM_TYPE = "BODY-FIXED ROTATING"
  EASTERNMOST_LONGITUDE = 155.256
  FIRST_STANDARD_PARALLEL = "N/A"
  LINE_FIRST_PIXEL = 1
  LINE_LAST_PIXEL = 21094
  LINE_PROJECTION_OFFSET = -388475.0
  MAP_PROJECTION_ROTATION = 0.0
  MAP_PROJECTION_TYPE = SINUSOIDAL
  MAP_RESOLUTION = 4741.71043093333
  MAP_SCALE = 0.0125
  MAXIMUM_LATITUDE = -81.926
  MINIMUM_LATITUDE = -86.3617
  POSITIVE_LONGITUDE_DIRECTION = EAST
  REFERENCE_LATITUDE = "N/A"
  REFERENCE_LONGITUDE = "N/A"
  SAMPLE_FIRST_PIXEL = 1
  SAMPLE_LAST_PIXEL = 37651
  SAMPLE_PROJECTION_OFFSET = 19944.0
  SECOND_STANDARD_PARALLEL = "N/A"
  WESTERNMOST_LONGITUDE = 75.2286
END_OBJECT = IMAGE_MAP_PROJECTION
/* The JPEG2000 image data file associated with this label. */
OBJECT = COMPRESSED_FILE
  FILE_NAME = "H4458_0000_ND3.JP2"
  RECORD_TYPE = UNDEFINED
  FILE_RECORDS = UNK
  ENCODING_TYPE = "JP2"
  INTERCHANGE_FORMAT = BINARY
  UNCOMPRESSED_FILE_NAME = "H4458_0000_ND3.IMG"
  REQUIRED_STORAGE_BYTES = "794323147"
  ^DESCRIPTION = "JP2INFO.TXT"
END_OBJECT = COMPRESSED_FILE
END
