PDS_VERSION_ID = PDS3
/* FILE DATA ELEMENTS */
RECORD_TYPE = STREAM
/* POINTERS TO DATA OBJECTS */
^COMPRESSED_FILE = "H4458_0000_S23.JP2"
/* IDENTIFICATION DATA ELEMENTS */
DATA_SET_ID = "MEX-M-HRSC-5-REFDR-MAPPROJECTED-V3.0"
DATA_SET_NAME = "MARS EXPRESS HRSC MAP PROJECTED REFDR V3.0"
DETECTOR_ID = MEX_HRSC_S2
EVENT_TYPE = "MARS-LOCAL-STEREO-Gl-La"
INSTRUMENT_HOST_ID = MEX
INSTRUMENT_HOST_NAME = "MARS EXPRESS"
INSTRUMENT_ID = HRSC
INSTRUMENT_NAME = "HIGH RESOLUTION STEREO CAMERA"
MISSION_NAME = "MARS EXPRESS"
MISSION_PHASE_NAME = ME_Phase_8
PROCESSING_LEVEL_ID = 3
PRODUCT_CREATION_TIME = 2016-04-25T07:40:35.000Z
PRODUCT_ID = "H4458_0000_S23.JP2"
RELEASE_ID = 0050
REVISION_ID = 0000
/* QUALITY DATA ELEMENTS */
DATA_QUALITY_ID = 1
DATA_QUALITY_DESC = "Data calculated based on original SPICE kernels"
/* TIME DATA ELEMENTS */
SPACECRAFT_CLOCK_START_COUNT = "1/0130807134.09103"
SPACECRAFT_CLOCK_STOP_COUNT = "1/0130807334.00849"
START_TIME = 2007-06-24T23:18:58.269Z
STOP_TIME = 2007-06-24T23:21:10.503Z
/* ORBITAL DATA ELEMENTS */
ASCENDING_NODE_LONGITUDE = 135.01
MAXIMUM_RESOLUTION = 31.1
FOOTPRINT_POINT_LATITUDE = (-86.1172,-85.9079,-85.6939,-85.4754, -85.253,-85.0263,-84.6926,-84.693, -84.7317,-84.7656,-84.7942,-84.8173, -84.8349,-84.8454,-84.85,-84.8524, -84.8498,-84.8461,-84.8265,-84.807, -84.7841,-84.7573,-84.7257,-84.688, -84.6246,-84.5519,-84.4993,-84.4422, -84.3807,-84.2818,-84.2115,-84.1395, -84.0287,-83.8694,-83.7437,-83.5664, -83.4735,-83.3782,-83.2797,-83.1788, -83.0735,-82.966,-82.756,-82.6473, -82.4316,-82.2601,-82.1441,-82.0262, -81.9068,-81.9462,-82.0585,-82.2343, -82.369,-82.4978,-82.6132,-82.8668, -83.0001,-83.132,-83.2628,-83.4557, -83.5832,-83.827,-83.9517,-84.0763, -84.261,-84.3814,-84.498,-84.669, -84.7801,-84.9422,-85.0476,-85.1509, -85.2514,-85.3491,-85.4443,-85.5376, -85.6281,-85.7563,-85.8366,-85.9129, -85.9844,-86.0529,-86.1161,-86.1738, -86.2258,-86.2717,-86.3107,-86.3453, -86.3727,-86.3933,-86.4069,-86.4134, -86.4102,-86.3988,-86.3681,-86.3214, -86.281,-86.2337,-86.1801,-86.1172)
FOOTPRINT_POINT_LONGITUDE = (72.3683,73.8828,75.2674,76.5383, 77.7081,78.7892,80.2085,83.1894,84.915, 86.6697,88.4343,90.1924,91.9786,93.8142 ,95.6678,97.4617,99.2242,100.935, 103.563,105.307,107.01,108.67,110.317, 111.959,114.369,116.706,118.204,119.68, 121.129,123.244,124.615,125.926,127.813 ,130.228,131.957,134.159,135.217, 136.247,137.249,138.223,139.173,140.095 ,141.847,142.687,144.292,145.44,146.178 ,146.895,147.592,148.823,149.765,151.32 ,152.611,153.931,155.198,154.879, 154.246,153.589,152.908,151.841,151.094 ,149.544,148.701,147.814,146.411, 145.429,144.418,142.823,141.706,139.946 ,138.708,137.415,136.068,134.665, 133.197,131.646,130.017,127.457,125.67, 123.809,121.888,119.85,117.741,115.57, 113.34,111.059,108.759,106.308,103.843, 101.349,98.8341,96.3343,92.4217,89.8364 ,86.0017,82.2552,79.7765,77.355,75.0072 ,72.3683)
ORBIT_NUMBER = 4458
ORBITAL_ECCENTRICITY = 0.57
ORBITAL_INCLINATION = 86.69
ORBITAL_SEMIMAJOR_AXIS = 8543.97
PERIAPSIS_ALTITUDE = 292.56
PERIAPSIS_ARGUMENT_ANGLE = 293.08
PERIAPSIS_TIME = 2007-06-24T23:25:58.000Z
SPACECRAFT_ORIENTATION = (0.0,1.0,0.0)
^MEX_ORIENTATION_DESC = "MEX_ORIENTATION_DESC.TXT"
SPACECRAFT_POINTING_MODE = ACROSSTRACK
^MEX_POINTING_DESC = "MEX_POINTING_DESC.TXT"
RIGHT_ASCENSION = -1e+32
DECLINATION = -1e+32
OFFSET_ANGLE = 1.0
SPACECRAFT_SOLAR_DISTANCE = 2.07117e+08
TARGET_NAME = MARS
/* CAMERA DATA ELEMENTS */
DETECTOR_TEMPERATURE = 18.5744
FOCAL_PLANE_TEMPERATURE = 8.7872
INST_CMPRS_NAME = "DISCRETE COSINE TRANSFORMATION (DCT)"
INST_CMPRS_RATIO = 9.72781
INST_CMPRS_QUALITY = 0
INST_CMPRS_QUANTZ_TBL_ID = 0
INSTRUMENT_TEMPERATURE = 11.6418
LENS_TEMPERATURE = 8.9911
MACROPIXEL_SIZE = 2
MISSING_FRAMES = 0
PIXEL_SUBSAMPLING_FLAG = N
SIGNAL_CHAIN_ID = 1
/* RADIOMETRIC DATA ELEMENTS */
BANDWIDTH = 178.0
CENTER_FILTER_WAVELENGTH = 679.0
RADIANCE_OFFSET = 6.03762
RADIANCE_SCALING_FACTOR = 0.0228811
REFLECTANCE_SCALING_FACTOR = 0.0005198
MEX:REFLECTANCE_OFFSET = 0.137159
/* IMAGE OBJECT DEFINITIONS */
OBJECT = IMAGE
  INTERCHANGE_FORMAT = BINARY
  LINES = 10547
  LINE_SAMPLES = 18826
  SAMPLE_TYPE = UNSIGNED_INTEGER
  SAMPLE_BITS = 8
  BANDS = 1
  BAND_STORAGE_TYPE = BAND_SEQUENTIAL
  MAXIMUM = 255
  MEAN = 61.7307
  MINIMUM = 1
  STANDARD_DEVIATION = 35.6796
END_OBJECT = IMAGE
/* MAP OBJECT DEFINITIONS */
OBJECT = IMAGE_MAP_PROJECTION
  ^DATA_SET_MAP_PROJECTION_CATALOG= "DSMAP.CAT"
  A_AXIS_RADIUS = 3396.0
  B_AXIS_RADIUS = 3396.0
  C_AXIS_RADIUS = 3396.0
  CENTER_LATITUDE = 0.0
  CENTER_LONGITUDE = 127.0
  COORDINATE_SYSTEM_NAME = PLANETOGRAPHIC
  COORDINATE_SYSTEM_TYPE = "BODY-FIXED ROTATING"
  EASTERNMOST_LONGITUDE = 155.198
  FIRST_STANDARD_PARALLEL = "N/A"
  LINE_FIRST_PIXEL = 1
  LINE_LAST_PIXEL = 10547
  LINE_PROJECTION_OFFSET = -194237.75
  MAP_PROJECTION_ROTATION = 0.0
  MAP_PROJECTION_TYPE = SINUSOIDAL
  MAP_RESOLUTION = 2370.85521546667
  MAP_SCALE = 0.025
  MAXIMUM_LATITUDE = -81.9068
  MINIMUM_LATITUDE = -86.4134
  POSITIVE_LONGITUDE_DIRECTION = EAST
  REFERENCE_LATITUDE = "N/A"
  REFERENCE_LONGITUDE = "N/A"
  SAMPLE_FIRST_PIXEL = 1
  SAMPLE_LAST_PIXEL = 18826
  SAMPLE_PROJECTION_OFFSET = 9971.75
  SECOND_STANDARD_PARALLEL = "N/A"
  WESTERNMOST_LONGITUDE = 72.3683
END_OBJECT = IMAGE_MAP_PROJECTION
/* The JPEG2000 image data file associated with this label. */
OBJECT = COMPRESSED_FILE
  FILE_NAME = "H4458_0000_S23.JP2"
  RECORD_TYPE = UNDEFINED
  FILE_RECORDS = UNK
  ENCODING_TYPE = "JP2"
  INTERCHANGE_FORMAT = BINARY
  UNCOMPRESSED_FILE_NAME = "H4458_0000_S23.IMG"
  REQUIRED_STORAGE_BYTES = "198614300"
  ^DESCRIPTION = "JP2INFO.TXT"
END_OBJECT = COMPRESSED_FILE
END
