PDS_VERSION_ID = PDS3
/* FILE DATA ELEMENTS */
RECORD_TYPE = STREAM
/* POINTERS TO DATA OBJECTS */
^COMPRESSED_FILE = "H4463_0000_BL3.JP2"
/* IDENTIFICATION DATA ELEMENTS */
DATA_SET_ID = "MEX-M-HRSC-5-REFDR-MAPPROJECTED-V3.0"
DATA_SET_NAME = "MARS EXPRESS HRSC MAP PROJECTED REFDR V3.0"
DETECTOR_ID = MEX_HRSC_BLUE
EVENT_TYPE = "MARS-REGIONAL-MAPPING-Vo-Gl-Pf"
INSTRUMENT_HOST_ID = MEX
INSTRUMENT_HOST_NAME = "MARS EXPRESS"
INSTRUMENT_ID = HRSC
INSTRUMENT_NAME = "HIGH RESOLUTION STEREO CAMERA"
MISSION_NAME = "MARS EXPRESS"
MISSION_PHASE_NAME = ME_Phase_8
PROCESSING_LEVEL_ID = 3
PRODUCT_CREATION_TIME = 2016-04-25T07:40:35.000Z
PRODUCT_ID = "H4463_0000_BL3.JP2"
RELEASE_ID = 0050
REVISION_ID = 0000
/* QUALITY DATA ELEMENTS */
DATA_QUALITY_ID = 1
DATA_QUALITY_DESC = "Data calculated based on original SPICE kernels"
/* TIME DATA ELEMENTS */
SPACECRAFT_CLOCK_START_COUNT = "1/0130928319.08401"
SPACECRAFT_CLOCK_STOP_COUNT = "1/0130928628.00151"
START_TIME = 2007-06-26T08:59:07.563Z
STOP_TIME = 2007-06-26T09:03:19.117Z
/* ORBITAL DATA ELEMENTS */
ASCENDING_NODE_LONGITUDE = 134.91
MAXIMUM_RESOLUTION = 46.2
FOOTPRINT_POINT_LATITUDE = (-78.2775,-78.2134,-78.1634,-78.079, -77.8414,-77.6726,-77.5033,-77.3343, -77.0067,-76.6767,-76.1799,-75.8479, -75.5149,-75.1809,-74.6828,-74.3587, -73.8713,-73.546,-73.2198,-72.8918, -72.5657,-72.2375,-71.9084,-71.5793, -71.2495,-70.756,-70.4377,-69.9601, -69.6411,-69.1616,-68.8418,-68.5215, -68.0409,-67.7203,-67.3993,-67.0784, -66.7574,-66.436,-66.1147,-65.7931, -65.3104,-64.8272,-64.3436,-63.86, -63.5375,-63.0536,-62.5699,-62.2406, -61.9057,-61.7041,-61.7235,-61.7443, -61.76,-61.9494,-62.2858,-62.6184, -62.9427,-63.2668,-63.5909,-63.9152, -64.2393,-64.5628,-64.8869,-65.2118, -65.6978,-66.1837,-66.6692,-66.9928, -67.3163,-67.6397,-68.1245,-68.609, -69.0932,-69.416,-69.7386,-70.0608, -70.5436,-70.8653,-71.3622,-71.8624, -72.1958,-72.528,-72.8605,-73.3588, -73.8555,-74.1865,-74.5168,-75.0117, -75.353,-75.694,-76.0342,-76.3741, -76.7131,-77.0518,-77.5583,-77.7305, -77.9047,-78.0789,-78.253,-78.2775)
FOOTPRINT_POINT_LONGITUDE = (39.9319,38.7284,37.8575,36.4978, 36.0216,36.2829,36.5364,36.7831,37.244, 37.6767,38.2868,38.6706,39.0362,39.3841 ,39.8722,40.171,40.5958,40.8653,41.1231 ,41.3661,41.6077,41.8345,42.0508, 42.2606,42.4613,42.7481,42.9248,43.1801 ,43.3421,43.5737,43.7219,43.8647, 44.0709,44.2028,44.3301,44.4539,44.5742 ,44.6897,44.8026,44.9114,45.0684, 45.2171,45.3587,45.4945,45.5816,45.707, 45.8277,45.9061,45.9843,46.4137,46.8156 ,47.2786,47.6623,48.1658,48.1072, 48.0481,47.9875,47.9266,47.8636,47.7979 ,47.7315,47.6661,47.5961,47.5195,47.407 ,47.2896,47.1677,47.0835,46.9963,46.907 ,46.7678,46.6213,46.4681,46.3605, 46.2492,46.1356,45.9583,45.8343,45.6341 ,45.4198,45.2672,45.116,44.9536,44.6968 ,44.4291,44.2389,44.0428,43.7292,43.5, 43.2598,43.01,42.7451,42.4692,42.1755, 41.708,41.5393,41.364,41.1827,40.993, 39.9319)
ORBIT_NUMBER = 4463
ORBITAL_ECCENTRICITY = 0.57
ORBITAL_INCLINATION = 86.69
ORBITAL_SEMIMAJOR_AXIS = 8544.53
PERIAPSIS_ALTITUDE = 292.24
PERIAPSIS_ARGUMENT_ANGLE = 292.21
PERIAPSIS_TIME = 2007-06-26T09:01:56.000Z
SPACECRAFT_ORIENTATION = (0.0,1.0,0.0)
^MEX_ORIENTATION_DESC = "MEX_ORIENTATION_DESC.TXT"
SPACECRAFT_POINTING_MODE = NADIR
^MEX_POINTING_DESC = "MEX_POINTING_DESC.TXT"
RIGHT_ASCENSION = -1e+32
DECLINATION = -1e+32
OFFSET_ANGLE = -1e+32
SPACECRAFT_SOLAR_DISTANCE = 2.0718e+08
TARGET_NAME = MARS
/* CAMERA DATA ELEMENTS */
DETECTOR_TEMPERATURE = 18.3705
FOCAL_PLANE_TEMPERATURE = 8.5833
INST_CMPRS_NAME = "DISCRETE COSINE TRANSFORMATION (DCT)"
INST_CMPRS_RATIO = 9.41942
INST_CMPRS_QUALITY = 0
INST_CMPRS_QUANTZ_TBL_ID = 0
INSTRUMENT_TEMPERATURE = 11.4379
LENS_TEMPERATURE = 9.195
MACROPIXEL_SIZE = 4
MISSING_FRAMES = 0
PIXEL_SUBSAMPLING_FLAG = N
SIGNAL_CHAIN_ID = 2
/* RADIOMETRIC DATA ELEMENTS */
BANDWIDTH = 76.0
CENTER_FILTER_WAVELENGTH = 444.0
RADIANCE_OFFSET = 0.845477
RADIANCE_SCALING_FACTOR = 0.00738115
REFLECTANCE_SCALING_FACTOR = 0.000325518
MEX:REFLECTANCE_OFFSET = 0.0372866
/* IMAGE OBJECT DEFINITIONS */
OBJECT = IMAGE
  INTERCHANGE_FORMAT = BINARY
  LINES = 19683
  LINE_SAMPLES = 4058
  SAMPLE_TYPE = UNSIGNED_INTEGER
  SAMPLE_BITS = 8
  BANDS = 1
  BAND_STORAGE_TYPE = BAND_SEQUENTIAL
  MAXIMUM = 255
  MEAN = 54.9923
  MINIMUM = 1
  STANDARD_DEVIATION = 76.3969
END_OBJECT = IMAGE
/* MAP OBJECT DEFINITIONS */
OBJECT = IMAGE_MAP_PROJECTION
  ^DATA_SET_MAP_PROJECTION_CATALOG= "DSMAP.CAT"
  A_AXIS_RADIUS = 3396.0
  B_AXIS_RADIUS = 3396.0
  C_AXIS_RADIUS = 3396.0
  CENTER_LATITUDE = 0.0
  CENTER_LONGITUDE = 45.0
  COORDINATE_SYSTEM_NAME = PLANETOGRAPHIC
  COORDINATE_SYSTEM_TYPE = "BODY-FIXED ROTATING"
  EASTERNMOST_LONGITUDE = 48.1658
  FIRST_STANDARD_PARALLEL = "N/A"
  LINE_FIRST_PIXEL = 1
  LINE_LAST_PIXEL = 19683
  LINE_PROJECTION_OFFSET = -73131.125
  MAP_PROJECTION_ROTATION = 0.0
  MAP_PROJECTION_TYPE = SINUSOIDAL
  MAP_RESOLUTION = 1185.42760773333
  MAP_SCALE = 0.05
  MAXIMUM_LATITUDE = -61.7041
  MINIMUM_LATITUDE = -78.2775
  POSITIVE_LONGITUDE_DIRECTION = EAST
  REFERENCE_LATITUDE = "N/A"
  REFERENCE_LONGITUDE = "N/A"
  SAMPLE_FIRST_PIXEL = 1
  SAMPLE_LAST_PIXEL = 4058
  SAMPLE_PROJECTION_OFFSET = 2287.625
  SECOND_STANDARD_PARALLEL = "N/A"
  WESTERNMOST_LONGITUDE = 36.0216
END_OBJECT = IMAGE_MAP_PROJECTION
/* The JPEG2000 image data file associated with this label. */
OBJECT = COMPRESSED_FILE
  FILE_NAME = "H4463_0000_BL3.JP2"
  RECORD_TYPE = UNDEFINED
  FILE_RECORDS = UNK
  ENCODING_TYPE = "JP2"
  INTERCHANGE_FORMAT = BINARY
  UNCOMPRESSED_FILE_NAME = "H4463_0000_BL3.IMG"
  REQUIRED_STORAGE_BYTES = "79897962"
  ^DESCRIPTION = "JP2INFO.TXT"
END_OBJECT = COMPRESSED_FILE
END
