PDS_VERSION_ID = PDS3
/* FILE DATA ELEMENTS */
RECORD_TYPE = STREAM
/* POINTERS TO DATA OBJECTS */
^COMPRESSED_FILE = "H4464_0000_GR3.JP2"
/* IDENTIFICATION DATA ELEMENTS */
DATA_SET_ID = "MEX-M-HRSC-5-REFDR-MAPPROJECTED-V3.0"
DATA_SET_NAME = "MARS EXPRESS HRSC MAP PROJECTED REFDR V3.0"
DETECTOR_ID = MEX_HRSC_GREEN
EVENT_TYPE = "MARS-REGIONAL-MAPPING-Im-Fl-Pf"
INSTRUMENT_HOST_ID = MEX
INSTRUMENT_HOST_NAME = "MARS EXPRESS"
INSTRUMENT_ID = HRSC
INSTRUMENT_NAME = "HIGH RESOLUTION STEREO CAMERA"
MISSION_NAME = "MARS EXPRESS"
MISSION_PHASE_NAME = ME_Phase_8
PROCESSING_LEVEL_ID = 3
PRODUCT_CREATION_TIME = 2016-04-25T07:40:35.000Z
PRODUCT_ID = "H4464_0000_GR3.JP2"
RELEASE_ID = 0050
REVISION_ID = 0000
/* QUALITY DATA ELEMENTS */
DATA_QUALITY_ID = 1
DATA_QUALITY_DESC = "Data calculated based on original SPICE kernels"
/* TIME DATA ELEMENTS */
SPACECRAFT_CLOCK_START_COUNT = "1/0130952622.09072"
SPACECRAFT_CLOCK_STOP_COUNT = "1/0130952813.09828"
START_TIME = 2007-06-26T15:44:17.257Z
STOP_TIME = 2007-06-26T15:46:33.067Z
/* ORBITAL DATA ELEMENTS */
ASCENDING_NODE_LONGITUDE = 134.89
MAXIMUM_RESOLUTION = 46.4
FOOTPRINT_POINT_LATITUDE = (-71.4272,-71.3867,-71.3611,-71.3344, -71.2963,-71.1149,-70.9341,-70.6718, -70.4968,-70.2343,-70.0592,-69.7963, -69.6211,-69.4456,-69.2701,-69.0946, -68.919,-68.6555,-68.4797,-68.3039, -68.1281,-67.9522,-67.7763,-67.6003, -67.4242,-67.2482,-67.072,-66.8959, -66.7198,-66.5435,-66.3673,-66.1911, -66.0148,-65.8386,-65.6623,-65.3979, -65.2215,-64.9571,-64.7807,-64.6044, -64.4281,-64.2519,-64.0755,-63.8991, -63.7227,-63.4501,-63.267,-63.084, -62.9009,-62.7179,-62.4433,-62.438, -62.4527,-62.4775,-62.4948,-62.6006, -62.7841,-62.9683,-63.2444,-63.4285, -63.6123,-63.7957,-63.9731,-64.1505, -64.3278,-64.5052,-64.7712,-64.9485, -65.2147,-65.4809,-65.6584,-65.8359, -66.1021,-66.2798,-66.4572,-66.6349, -66.8124,-67.0786,-67.3451,-67.6112, -67.7886,-67.9662,-68.1436,-68.3211, -68.5872,-68.7646,-69.0307,-69.208, -69.474,-69.6512,-69.8285,-70.0057, -70.1827,-70.3599,-70.6255,-70.8909, -71.0676,-71.249,-71.4326,-71.4272)
FOOTPRINT_POINT_LONGITUDE = (305.589,304.836,304.389,303.942, 303.111,303.23,303.346,303.51,303.616, 303.772,303.871,304.017,304.112,304.207 ,304.3,304.39,304.479,304.61,304.695, 304.779,304.86,304.941,305.019,305.096, 305.173,305.248,305.322,305.394,305.464 ,305.535,305.603,305.671,305.737, 305.801,305.865,305.958,306.019,306.109 ,306.167,306.225,306.281,306.336, 306.391,306.446,306.499,306.58,306.633, 306.684,306.735,306.785,306.859,307.579 ,307.87,308.389,308.782,309.079,309.04, 309.002,308.942,308.902,308.861,308.819 ,308.778,308.737,308.695,308.653, 308.588,308.543,308.476,308.407,308.36, 308.312,308.239,308.189,308.139,308.088 ,308.036,307.956,307.874,307.79,307.733 ,307.675,307.616,307.556,307.464, 307.401,307.305,307.239,307.138,307.07, 307.0,306.929,306.856,306.782,306.669, 306.552,306.472,306.388,306.302, 305.589)
ORBIT_NUMBER = 4464
ORBITAL_ECCENTRICITY = 0.57
ORBITAL_INCLINATION = 86.69
ORBITAL_SEMIMAJOR_AXIS = 8541.6
PERIAPSIS_ALTITUDE = 292.51
PERIAPSIS_ARGUMENT_ANGLE = 292.05
PERIAPSIS_TIME = 2007-06-26T15:45:10.000Z
SPACECRAFT_ORIENTATION = (0.0,1.0,0.0)
^MEX_ORIENTATION_DESC = "MEX_ORIENTATION_DESC.TXT"
SPACECRAFT_POINTING_MODE = ACROSSTRACK
^MEX_POINTING_DESC = "MEX_POINTING_DESC.TXT"
RIGHT_ASCENSION = -1e+32
DECLINATION = -1e+32
OFFSET_ANGLE = 0.3
SPACECRAFT_SOLAR_DISTANCE = 2.07193e+08
TARGET_NAME = MARS
/* CAMERA DATA ELEMENTS */
DETECTOR_TEMPERATURE = 18.3705
FOCAL_PLANE_TEMPERATURE = 8.7872
INST_CMPRS_NAME = "DISCRETE COSINE TRANSFORMATION (DCT)"
INST_CMPRS_RATIO = 24.0816
INST_CMPRS_QUALITY = 0
INST_CMPRS_QUANTZ_TBL_ID = 0
INSTRUMENT_TEMPERATURE = 11.4379
LENS_TEMPERATURE = 8.1755
MACROPIXEL_SIZE = 4
MISSING_FRAMES = 0
PIXEL_SUBSAMPLING_FLAG = N
SIGNAL_CHAIN_ID = 2
/* RADIOMETRIC DATA ELEMENTS */
BANDWIDTH = 88.0
CENTER_FILTER_WAVELENGTH = 538.0
RADIANCE_OFFSET = 2.22201
RADIANCE_SCALING_FACTOR = 0.00431004
REFLECTANCE_SCALING_FACTOR = 0.000159302
MEX:REFLECTANCE_OFFSET = 0.0821272
/* IMAGE OBJECT DEFINITIONS */
OBJECT = IMAGE
  INTERCHANGE_FORMAT = BINARY
  LINES = 10779
  LINE_SAMPLES = 2609
  SAMPLE_TYPE = UNSIGNED_INTEGER
  SAMPLE_BITS = 8
  BANDS = 1
  BAND_STORAGE_TYPE = BAND_SEQUENTIAL
  MAXIMUM = 255
  MEAN = 89.9811
  MINIMUM = 1
  STANDARD_DEVIATION = 21.7617
END_OBJECT = IMAGE
/* MAP OBJECT DEFINITIONS */
OBJECT = IMAGE_MAP_PROJECTION
  ^DATA_SET_MAP_PROJECTION_CATALOG= "DSMAP.CAT"
  A_AXIS_RADIUS = 3396.0
  B_AXIS_RADIUS = 3396.0
  C_AXIS_RADIUS = 3396.0
  CENTER_LATITUDE = 0.0
  CENTER_LONGITUDE = 307.0
  COORDINATE_SYSTEM_NAME = PLANETOGRAPHIC
  COORDINATE_SYSTEM_TYPE = "BODY-FIXED ROTATING"
  EASTERNMOST_LONGITUDE = 309.079
  FIRST_STANDARD_PARALLEL = "N/A"
  LINE_FIRST_PIXEL = 1
  LINE_LAST_PIXEL = 10779
  LINE_PROJECTION_OFFSET = -73969.375
  MAP_PROJECTION_ROTATION = 0.0
  MAP_PROJECTION_TYPE = SINUSOIDAL
  MAP_RESOLUTION = 1185.42760773333
  MAP_SCALE = 0.05
  MAXIMUM_LATITUDE = -62.438
  MINIMUM_LATITUDE = -71.43259999999999
  POSITIVE_LONGITUDE_DIRECTION = EAST
  REFERENCE_LATITUDE = "N/A"
  REFERENCE_LONGITUDE = "N/A"
  SAMPLE_FIRST_PIXEL = 1
  SAMPLE_LAST_PIXEL = 2609
  SAMPLE_PROJECTION_OFFSET = 1454.625
  SECOND_STANDARD_PARALLEL = "N/A"
  WESTERNMOST_LONGITUDE = 303.111
END_OBJECT = IMAGE_MAP_PROJECTION
/* The JPEG2000 image data file associated with this label. */
OBJECT = COMPRESSED_FILE
  FILE_NAME = "H4464_0000_GR3.JP2"
  RECORD_TYPE = UNDEFINED
  FILE_RECORDS = UNK
  ENCODING_TYPE = "JP2"
  INTERCHANGE_FORMAT = BINARY
  UNCOMPRESSED_FILE_NAME = "H4464_0000_GR3.IMG"
  REQUIRED_STORAGE_BYTES = "28143283"
  ^DESCRIPTION = "JP2INFO.TXT"
END_OBJECT = COMPRESSED_FILE
END
