PDS_VERSION_ID = PDS3
/* FILE DATA ELEMENTS */
RECORD_TYPE = STREAM
/* POINTERS TO DATA OBJECTS */
^COMPRESSED_FILE = "H4464_0000_IR3.JP2"
/* IDENTIFICATION DATA ELEMENTS */
DATA_SET_ID = "MEX-M-HRSC-5-REFDR-MAPPROJECTED-V3.0"
DATA_SET_NAME = "MARS EXPRESS HRSC MAP PROJECTED REFDR V3.0"
DETECTOR_ID = MEX_HRSC_IR
EVENT_TYPE = "MARS-REGIONAL-MAPPING-Im-Fl-Pf"
INSTRUMENT_HOST_ID = MEX
INSTRUMENT_HOST_NAME = "MARS EXPRESS"
INSTRUMENT_ID = HRSC
INSTRUMENT_NAME = "HIGH RESOLUTION STEREO CAMERA"
MISSION_NAME = "MARS EXPRESS"
MISSION_PHASE_NAME = ME_Phase_8
PROCESSING_LEVEL_ID = 3
PRODUCT_CREATION_TIME = 2016-04-25T07:40:35.000Z
PRODUCT_ID = "H4464_0000_IR3.JP2"
RELEASE_ID = 0050
REVISION_ID = 0000
/* QUALITY DATA ELEMENTS */
DATA_QUALITY_ID = 1
DATA_QUALITY_DESC = "Data calculated based on original SPICE kernels"
/* TIME DATA ELEMENTS */
SPACECRAFT_CLOCK_START_COUNT = "1/0130952622.09072"
SPACECRAFT_CLOCK_STOP_COUNT = "1/0130952813.09828"
START_TIME = 2007-06-26T15:44:34.230Z
STOP_TIME = 2007-06-26T15:46:50.855Z
/* ORBITAL DATA ELEMENTS */
ASCENDING_NODE_LONGITUDE = 134.89
MAXIMUM_RESOLUTION = 48.5
FOOTPRINT_POINT_LATITUDE = (-71.3709,-71.3292,-71.2833,-71.2165, -71.0408,-70.8649,-70.6893,-70.5133, -70.3376,-70.1622,-69.9871,-69.8121, -69.6369,-69.3733,-69.1975,-69.022, -68.8462,-68.6702,-68.4945,-68.3187, -68.143,-67.9674,-67.7923,-67.6166, -67.4404,-67.177,-67.0013,-66.8257, -66.5626,-66.3867,-66.2111,-66.0354, -65.8606,-65.6855,-65.5105,-65.2477, -64.9851,-64.8101,-64.6286,-64.4471, -64.2663,-64.0846,-63.9023,-63.7208, -63.5395,-63.3576,-63.1764,-62.9956, -62.8145,-62.5426,-62.3954,-62.413, -62.4427,-62.4559,-62.4682,-62.5702, -62.7507,-62.933,-63.2062,-63.4782, -63.6596,-63.9334,-64.1159,-64.2982, -64.4809,-64.7539,-64.9347,-65.1111, -65.2873,-65.4638,-65.6402,-65.8168, -66.17,-66.4349,-66.6123,-66.7891, -66.9655,-67.1427,-67.3209,-67.5852, -67.7623,-68.0286,-68.2057,-68.383, -68.5603,-68.7378,-69.0037,-69.1812, -69.4474,-69.625,-69.8025,-69.9801, -70.1572,-70.3349,-70.6013,-70.7789, -70.9555,-71.1328,-71.3102,-71.3709)
FOOTPRINT_POINT_LONGITUDE = (305.902,305.011,304.117,303.163, 303.277,303.389,303.497,303.604,303.709 ,303.81,303.909,304.005,304.1,304.241, 304.332,304.422,304.51,304.597,304.682, 304.765,304.847,304.927,305.004,305.081 ,305.158,305.269,305.342,305.413, 305.517,305.586,305.653,305.719,305.782 ,305.845,305.907,305.998,306.087, 306.145,306.204,306.262,306.318,306.374 ,306.431,306.485,306.539,306.592, 306.643,306.694,306.743,306.817,307.092 ,307.452,308.127,308.464,308.8,309.102, 309.064,309.025,308.966,308.906,308.865 ,308.802,308.76,308.716,308.672,308.605 ,308.559,308.515,308.469,308.423, 308.376,308.328,308.231,308.155,308.104 ,308.052,307.999,307.945,307.891, 307.806,307.749,307.662,307.602,307.541 ,307.479,307.416,307.32,307.254,307.153 ,307.084,307.014,306.942,306.869, 306.795,306.681,306.603,306.524,306.443 ,306.36,305.902)
ORBIT_NUMBER = 4464
ORBITAL_ECCENTRICITY = 0.57
ORBITAL_INCLINATION = 86.69
ORBITAL_SEMIMAJOR_AXIS = 8541.6
PERIAPSIS_ALTITUDE = 292.51
PERIAPSIS_ARGUMENT_ANGLE = 292.05
PERIAPSIS_TIME = 2007-06-26T15:45:10.000Z
SPACECRAFT_ORIENTATION = (0.0,1.0,0.0)
^MEX_ORIENTATION_DESC = "MEX_ORIENTATION_DESC.TXT"
SPACECRAFT_POINTING_MODE = ACROSSTRACK
^MEX_POINTING_DESC = "MEX_POINTING_DESC.TXT"
RIGHT_ASCENSION = -1e+32
DECLINATION = -1e+32
OFFSET_ANGLE = 0.3
SPACECRAFT_SOLAR_DISTANCE = 2.07193e+08
TARGET_NAME = MARS
/* CAMERA DATA ELEMENTS */
DETECTOR_TEMPERATURE = 17.5549
FOCAL_PLANE_TEMPERATURE = 8.7872
INST_CMPRS_NAME = "DISCRETE COSINE TRANSFORMATION (DCT)"
INST_CMPRS_RATIO = 21.2065
INST_CMPRS_QUALITY = 0
INST_CMPRS_QUANTZ_TBL_ID = 0
INSTRUMENT_TEMPERATURE = 11.4379
LENS_TEMPERATURE = 8.1755
MACROPIXEL_SIZE = 4
MISSING_FRAMES = 0
PIXEL_SUBSAMPLING_FLAG = N
SIGNAL_CHAIN_ID = 2
/* RADIOMETRIC DATA ELEMENTS */
BANDWIDTH = 81.0
CENTER_FILTER_WAVELENGTH = 955.5
RADIANCE_OFFSET = 1.56796
RADIANCE_SCALING_FACTOR = 0.00431219
REFLECTANCE_SCALING_FACTOR = 0.000399371
MEX:REFLECTANCE_OFFSET = 0.145216
/* IMAGE OBJECT DEFINITIONS */
OBJECT = IMAGE
  INTERCHANGE_FORMAT = BINARY
  LINES = 10779
  LINE_SAMPLES = 2609
  SAMPLE_TYPE = UNSIGNED_INTEGER
  SAMPLE_BITS = 8
  BANDS = 1
  BAND_STORAGE_TYPE = BAND_SEQUENTIAL
  MAXIMUM = 255
  MEAN = 120.468
  MINIMUM = 1
  STANDARD_DEVIATION = 21.5951
END_OBJECT = IMAGE
/* MAP OBJECT DEFINITIONS */
OBJECT = IMAGE_MAP_PROJECTION
  ^DATA_SET_MAP_PROJECTION_CATALOG= "DSMAP.CAT"
  A_AXIS_RADIUS = 3396.0
  B_AXIS_RADIUS = 3396.0
  C_AXIS_RADIUS = 3396.0
  CENTER_LATITUDE = 0.0
  CENTER_LONGITUDE = 307.0
  COORDINATE_SYSTEM_NAME = PLANETOGRAPHIC
  COORDINATE_SYSTEM_TYPE = "BODY-FIXED ROTATING"
  EASTERNMOST_LONGITUDE = 309.102
  FIRST_STANDARD_PARALLEL = "N/A"
  LINE_FIRST_PIXEL = 1
  LINE_LAST_PIXEL = 10779
  LINE_PROJECTION_OFFSET = -73969.375
  MAP_PROJECTION_ROTATION = 0.0
  MAP_PROJECTION_TYPE = SINUSOIDAL
  MAP_RESOLUTION = 1185.42760773333
  MAP_SCALE = 0.05
  MAXIMUM_LATITUDE = -62.3954
  MINIMUM_LATITUDE = -71.37090000000001
  POSITIVE_LONGITUDE_DIRECTION = EAST
  REFERENCE_LATITUDE = "N/A"
  REFERENCE_LONGITUDE = "N/A"
  SAMPLE_FIRST_PIXEL = 1
  SAMPLE_LAST_PIXEL = 2609
  SAMPLE_PROJECTION_OFFSET = 1454.625
  SECOND_STANDARD_PARALLEL = "N/A"
  WESTERNMOST_LONGITUDE = 303.163
END_OBJECT = IMAGE_MAP_PROJECTION
/* The JPEG2000 image data file associated with this label. */
OBJECT = COMPRESSED_FILE
  FILE_NAME = "H4464_0000_IR3.JP2"
  RECORD_TYPE = UNDEFINED
  FILE_RECORDS = UNK
  ENCODING_TYPE = "JP2"
  INTERCHANGE_FORMAT = BINARY
  UNCOMPRESSED_FILE_NAME = "H4464_0000_IR3.IMG"
  REQUIRED_STORAGE_BYTES = "28143283"
  ^DESCRIPTION = "JP2INFO.TXT"
END_OBJECT = COMPRESSED_FILE
END
