PDS_VERSION_ID = PDS3
/* FILE DATA ELEMENTS */
RECORD_TYPE = STREAM
/* POINTERS TO DATA OBJECTS */
^COMPRESSED_FILE = "H4464_0000_RE3.JP2"
/* IDENTIFICATION DATA ELEMENTS */
DATA_SET_ID = "MEX-M-HRSC-5-REFDR-MAPPROJECTED-V3.0"
DATA_SET_NAME = "MARS EXPRESS HRSC MAP PROJECTED REFDR V3.0"
DETECTOR_ID = MEX_HRSC_RED
EVENT_TYPE = "MARS-REGIONAL-MAPPING-Im-Fl-Pf"
INSTRUMENT_HOST_ID = MEX
INSTRUMENT_HOST_NAME = "MARS EXPRESS"
INSTRUMENT_ID = HRSC
INSTRUMENT_NAME = "HIGH RESOLUTION STEREO CAMERA"
MISSION_NAME = "MARS EXPRESS"
MISSION_PHASE_NAME = ME_Phase_8
PROCESSING_LEVEL_ID = 3
PRODUCT_CREATION_TIME = 2016-04-25T07:40:35.000Z
PRODUCT_ID = "H4464_0000_RE3.JP2"
RELEASE_ID = 0050
REVISION_ID = 0000
/* QUALITY DATA ELEMENTS */
DATA_QUALITY_ID = 1
DATA_QUALITY_DESC = "Data calculated based on original SPICE kernels"
/* TIME DATA ELEMENTS */
SPACECRAFT_CLOCK_START_COUNT = "1/0130952622.09072"
SPACECRAFT_CLOCK_STOP_COUNT = "1/0130952813.09828"
START_TIME = 2007-06-26T15:43:50.990Z
STOP_TIME = 2007-06-26T15:46:07.233Z
/* ORBITAL DATA ELEMENTS */
ASCENDING_NODE_LONGITUDE = 134.89
MAXIMUM_RESOLUTION = 48.4
FOOTPRINT_POINT_LATITUDE = (-71.5548,-71.4992,-71.4383,-71.2926, -71.1142,-70.9358,-70.7571,-70.4889, -70.3095,-70.1294,-69.9488,-69.7681, -69.497,-69.317,-69.1405,-68.9665, -68.7926,-68.531,-68.3566,-68.1818, -68.007,-67.8315,-67.6561,-67.4811, -67.3059,-67.0428,-66.7793,-66.6035, -66.4281,-66.252,-66.0762,-65.8106, -65.5459,-65.3694,-65.1926,-65.0156, -64.8386,-64.6617,-64.4844,-64.3063, -64.129,-63.9526,-63.7755,-63.5978, -63.421,-63.2434,-63.0655,-62.8877, -62.6213,-62.4436,-62.4102,-62.4366, -62.4732,-62.5027,-62.7002,-62.9684, -63.1473,-63.4156,-63.5956,-63.7749, -63.9529,-64.1314,-64.31,-64.5774, -64.7566,-64.9359,-65.1138,-65.2919, -65.5585,-65.7363,-65.9137,-66.0918, -66.2691,-66.4468,-66.6235,-66.8008, -66.9784,-67.1553,-67.3311,-67.5093, -67.6862,-67.8621,-68.0389,-68.2156, -68.392,-68.6564,-68.9205,-69.0966, -69.2724,-69.4484,-69.6308,-69.8129, -70.0863,-70.2685,-70.5409,-70.8135, -70.9959,-71.1773,-71.4491,-71.5548)
FOOTPRINT_POINT_LONGITUDE = (305.765,304.857,303.948,303.081, 303.198,303.314,303.427,303.593,303.7, 303.805,303.908,304.008,304.156,304.253 ,304.345,304.434,304.522,304.651, 304.736,304.818,304.899,304.978,305.056 ,305.134,305.209,305.321,305.429, 305.499,305.569,305.637,305.705,305.802 ,305.898,305.961,306.022,306.083, 306.142,306.201,306.259,306.315,306.37, 306.426,306.48,306.534,306.587,306.638, 306.689,306.738,306.812,306.86,307.185, 307.619,308.238,308.772,309.048,308.993 ,308.955,308.897,308.857,308.817, 308.777,308.736,308.694,308.631,308.587 ,308.543,308.498,308.453,308.384, 308.337,308.29,308.241,308.193,308.143, 308.092,308.041,307.988,307.936,307.882 ,307.827,307.771,307.715,307.657, 307.599,307.539,307.448,307.355,307.291 ,307.226,307.16,307.091,307.02,306.911, 306.836,306.722,306.605,306.524,306.442 ,306.316,305.765)
ORBIT_NUMBER = 4464
ORBITAL_ECCENTRICITY = 0.57
ORBITAL_INCLINATION = 86.69
ORBITAL_SEMIMAJOR_AXIS = 8541.6
PERIAPSIS_ALTITUDE = 292.51
PERIAPSIS_ARGUMENT_ANGLE = 292.05
PERIAPSIS_TIME = 2007-06-26T15:45:10.000Z
SPACECRAFT_ORIENTATION = (0.0,1.0,0.0)
^MEX_ORIENTATION_DESC = "MEX_ORIENTATION_DESC.TXT"
SPACECRAFT_POINTING_MODE = ACROSSTRACK
^MEX_POINTING_DESC = "MEX_POINTING_DESC.TXT"
RIGHT_ASCENSION = -1e+32
DECLINATION = -1e+32
OFFSET_ANGLE = 0.3
SPACECRAFT_SOLAR_DISTANCE = 2.07193e+08
TARGET_NAME = MARS
/* CAMERA DATA ELEMENTS */
DETECTOR_TEMPERATURE = 19.5939
FOCAL_PLANE_TEMPERATURE = 8.7872
INST_CMPRS_NAME = "DISCRETE COSINE TRANSFORMATION (DCT)"
INST_CMPRS_RATIO = 32.5349
INST_CMPRS_QUALITY = 0
INST_CMPRS_QUANTZ_TBL_ID = 0
INSTRUMENT_TEMPERATURE = 11.4379
LENS_TEMPERATURE = 8.1755
MACROPIXEL_SIZE = 4
MISSING_FRAMES = 0
PIXEL_SUBSAMPLING_FLAG = N
SIGNAL_CHAIN_ID = 2
/* RADIOMETRIC DATA ELEMENTS */
BANDWIDTH = 48.0
CENTER_FILTER_WAVELENGTH = 748.0
RADIANCE_OFFSET = 1.68839
RADIANCE_SCALING_FACTOR = 0.00548856
REFLECTANCE_SCALING_FACTOR = 0.000537694
MEX:REFLECTANCE_OFFSET = 0.165405
/* IMAGE OBJECT DEFINITIONS */
OBJECT = IMAGE
  INTERCHANGE_FORMAT = BINARY
  LINES = 10779
  LINE_SAMPLES = 2609
  SAMPLE_TYPE = UNSIGNED_INTEGER
  SAMPLE_BITS = 8
  BANDS = 1
  BAND_STORAGE_TYPE = BAND_SEQUENTIAL
  MAXIMUM = 255
  MEAN = 96.7906
  MINIMUM = 1
  STANDARD_DEVIATION = 23.3205
END_OBJECT = IMAGE
/* MAP OBJECT DEFINITIONS */
OBJECT = IMAGE_MAP_PROJECTION
  ^DATA_SET_MAP_PROJECTION_CATALOG= "DSMAP.CAT"
  A_AXIS_RADIUS = 3396.0
  B_AXIS_RADIUS = 3396.0
  C_AXIS_RADIUS = 3396.0
  CENTER_LATITUDE = 0.0
  CENTER_LONGITUDE = 307.0
  COORDINATE_SYSTEM_NAME = PLANETOGRAPHIC
  COORDINATE_SYSTEM_TYPE = "BODY-FIXED ROTATING"
  EASTERNMOST_LONGITUDE = 309.048
  FIRST_STANDARD_PARALLEL = "N/A"
  LINE_FIRST_PIXEL = 1
  LINE_LAST_PIXEL = 10779
  LINE_PROJECTION_OFFSET = -73969.375
  MAP_PROJECTION_ROTATION = 0.0
  MAP_PROJECTION_TYPE = SINUSOIDAL
  MAP_RESOLUTION = 1185.42760773333
  MAP_SCALE = 0.05
  MAXIMUM_LATITUDE = -62.4102
  MINIMUM_LATITUDE = -71.5548
  POSITIVE_LONGITUDE_DIRECTION = EAST
  REFERENCE_LATITUDE = "N/A"
  REFERENCE_LONGITUDE = "N/A"
  SAMPLE_FIRST_PIXEL = 1
  SAMPLE_LAST_PIXEL = 2609
  SAMPLE_PROJECTION_OFFSET = 1454.625
  SECOND_STANDARD_PARALLEL = "N/A"
  WESTERNMOST_LONGITUDE = 303.081
END_OBJECT = IMAGE_MAP_PROJECTION
/* The JPEG2000 image data file associated with this label. */
OBJECT = COMPRESSED_FILE
  FILE_NAME = "H4464_0000_RE3.JP2"
  RECORD_TYPE = UNDEFINED
  FILE_RECORDS = UNK
  ENCODING_TYPE = "JP2"
  INTERCHANGE_FORMAT = BINARY
  UNCOMPRESSED_FILE_NAME = "H4464_0000_RE3.IMG"
  REQUIRED_STORAGE_BYTES = "28143283"
  ^DESCRIPTION = "JP2INFO.TXT"
END_OBJECT = COMPRESSED_FILE
END
