PDS_VERSION_ID = PDS3
/* FILE DATA ELEMENTS */
RECORD_TYPE = STREAM
/* POINTERS TO DATA OBJECTS */
^COMPRESSED_FILE = "H4465_0000_P13.JP2"
/* IDENTIFICATION DATA ELEMENTS */
DATA_SET_ID = "MEX-M-HRSC-5-REFDR-MAPPROJECTED-V3.0"
DATA_SET_NAME = "MARS EXPRESS HRSC MAP PROJECTED REFDR V3.0"
DETECTOR_ID = MEX_HRSC_P1
EVENT_TYPE = "MARS-LOCAL-MAPPING-Gl-Pf-La"
INSTRUMENT_HOST_ID = MEX
INSTRUMENT_HOST_NAME = "MARS EXPRESS"
INSTRUMENT_ID = HRSC
INSTRUMENT_NAME = "HIGH RESOLUTION STEREO CAMERA"
MISSION_NAME = "MARS EXPRESS"
MISSION_PHASE_NAME = ME_Phase_8
PROCESSING_LEVEL_ID = 3
PRODUCT_CREATION_TIME = 2016-04-25T07:40:35.000Z
PRODUCT_ID = "H4465_0000_P13.JP2"
RELEASE_ID = 0050
REVISION_ID = 0000
/* QUALITY DATA ELEMENTS */
DATA_QUALITY_ID = 1
DATA_QUALITY_DESC = "Data calculated based on original SPICE kernels"
/* TIME DATA ELEMENTS */
SPACECRAFT_CLOCK_START_COUNT = "1/0130976709.07294"
SPACECRAFT_CLOCK_STOP_COUNT = "1/0130976894.55196"
START_TIME = 2007-06-26T22:26:00.462Z
STOP_TIME = 2007-06-26T22:28:07.923Z
/* ORBITAL DATA ELEMENTS */
ASCENDING_NODE_LONGITUDE = 134.87
MAXIMUM_RESOLUTION = 23.7
FOOTPRINT_POINT_LATITUDE = (-77.9615,-77.8829,-77.8381,-77.7913, -77.7934,-77.5431,-77.2919,-77.124, -76.9559,-76.7876,-76.619,-76.368, -76.1229,-75.9594,-75.7139,-75.5502, -75.3871,-75.2222,-75.0577,-74.8935, -74.729,-74.483,-74.3169,-74.0664, -73.8979,-73.6458,-73.4809,-73.3149, -73.0686,-72.9046,-72.6524,-72.4847, -72.3187,-72.1607,-72.0001,-71.8398, -71.6786,-71.5165,-71.3562,-71.1953, -71.0332,-70.8714,-70.7115,-70.5504, -70.39,-70.1484,-69.9065,-69.7452, -69.5861,-69.5833,-69.6146,-69.6368, -69.6643,-69.6846,-69.7031,-69.8655, -70.0283,-70.1912,-70.3539,-70.5165, -70.7603,-71.0041,-71.1666,-71.3289, -71.4913,-71.6542,-71.8988,-72.0623, -72.2262,-72.3895,-72.5538,-72.723, -72.8921,-73.0611,-73.2296,-73.3987, -73.6517,-73.9049,-74.0741,-74.2429, -74.4955,-74.6666,-74.8342,-75.0867, -75.2555,-75.4236,-75.5906,-75.8428, -76.0108,-76.2622,-76.4297,-76.5969, -76.8536,-77.1134,-77.2865,-77.4591, -77.7188,-77.8918,-78.0627,-77.9615)
FOOTPRINT_POINT_LONGITUDE = (201.723,200.353,199.625,198.899, 198.001,198.412,198.808,199.064,199.311 ,199.553,199.788,200.125,200.444, 200.649,200.946,201.137,201.32,201.507, 201.686,201.86,202.029,202.272,202.439, 202.676,202.842,203.081,203.221,203.364 ,203.559,203.685,203.892,204.025, 204.152,204.261,204.377,204.489,204.603 ,204.717,204.823,204.928,205.036,205.14 ,205.236,205.334,205.428,205.568, 205.705,205.794,205.875,206.284,206.91, 207.36,207.92,208.366,208.794,208.729, 208.663,208.596,208.528,208.458,208.352 ,208.243,208.168,208.092,208.015, 207.936,207.815,207.733,207.649,207.563 ,207.475,207.383,207.288,207.192, 207.093,206.993,206.838,206.678,206.568 ,206.456,206.284,206.163,206.042, 205.855,205.727,205.596,205.461,205.254 ,205.111,204.89,204.738,204.582,204.335 ,204.075,203.895,203.711,203.424, 203.225,203.022,201.723)
ORBIT_NUMBER = 4465
ORBITAL_ECCENTRICITY = 0.57
ORBITAL_INCLINATION = 86.7
ORBITAL_SEMIMAJOR_AXIS = 8541.48
PERIAPSIS_ALTITUDE = 291.89
PERIAPSIS_ARGUMENT_ANGLE = 291.85
PERIAPSIS_TIME = 2007-06-26T22:28:18.000Z
SPACECRAFT_ORIENTATION = (0.0,1.0,0.0)
^MEX_ORIENTATION_DESC = "MEX_ORIENTATION_DESC.TXT"
SPACECRAFT_POINTING_MODE = ACROSSTRACK
^MEX_POINTING_DESC = "MEX_POINTING_DESC.TXT"
RIGHT_ASCENSION = -1e+32
DECLINATION = -1e+32
OFFSET_ANGLE = 0.3
SPACECRAFT_SOLAR_DISTANCE = 2.07207e+08
TARGET_NAME = MARS
/* CAMERA DATA ELEMENTS */
DETECTOR_TEMPERATURE = 17.351
FOCAL_PLANE_TEMPERATURE = 8.1755
INST_CMPRS_NAME = "DISCRETE COSINE TRANSFORMATION (DCT)"
INST_CMPRS_RATIO = 11.3499
INST_CMPRS_QUALITY = 0
INST_CMPRS_QUANTZ_TBL_ID = 0
INSTRUMENT_TEMPERATURE = 11.234
LENS_TEMPERATURE = 8.5833
MACROPIXEL_SIZE = 2
MISSING_FRAMES = 1
PIXEL_SUBSAMPLING_FLAG = N
SIGNAL_CHAIN_ID = 3
/* RADIOMETRIC DATA ELEMENTS */
BANDWIDTH = 174.0
CENTER_FILTER_WAVELENGTH = 675.0
RADIANCE_OFFSET = 6.77712
RADIANCE_SCALING_FACTOR = 0.0223246
REFLECTANCE_SCALING_FACTOR = 0.000515557
MEX:REFLECTANCE_OFFSET = 0.156509
/* IMAGE OBJECT DEFINITIONS */
OBJECT = IMAGE
  INTERCHANGE_FORMAT = BINARY
  LINES = 20295
  LINE_SAMPLES = 6523
  SAMPLE_TYPE = UNSIGNED_INTEGER
  SAMPLE_BITS = 8
  BANDS = 1
  BAND_STORAGE_TYPE = BAND_SEQUENTIAL
  MAXIMUM = 255
  MEAN = 63.8881
  MINIMUM = 1
  STANDARD_DEVIATION = 22.8768
END_OBJECT = IMAGE
/* MAP OBJECT DEFINITIONS */
OBJECT = IMAGE_MAP_PROJECTION
  ^DATA_SET_MAP_PROJECTION_CATALOG= "DSMAP.CAT"
  A_AXIS_RADIUS = 3396.0
  B_AXIS_RADIUS = 3396.0
  C_AXIS_RADIUS = 3396.0
  CENTER_LATITUDE = 0.0
  CENTER_LONGITUDE = 205.0
  COORDINATE_SYSTEM_NAME = PLANETOGRAPHIC
  COORDINATE_SYSTEM_TYPE = "BODY-FIXED ROTATING"
  EASTERNMOST_LONGITUDE = 208.794
  FIRST_STANDARD_PARALLEL = "N/A"
  LINE_FIRST_PIXEL = 1
  LINE_LAST_PIXEL = 20295
  LINE_PROJECTION_OFFSET = -164910.25
  MAP_PROJECTION_ROTATION = 0.0
  MAP_PROJECTION_TYPE = SINUSOIDAL
  MAP_RESOLUTION = 2370.85521546667
  MAP_SCALE = 0.025
  MAXIMUM_LATITUDE = -69.58329999999999
  MINIMUM_LATITUDE = -78.06270000000001
  POSITIVE_LONGITUDE_DIRECTION = EAST
  REFERENCE_LATITUDE = "N/A"
  REFERENCE_LONGITUDE = "N/A"
  SAMPLE_FIRST_PIXEL = 1
  SAMPLE_LAST_PIXEL = 6523
  SAMPLE_PROJECTION_OFFSET = 3431.25
  SECOND_STANDARD_PARALLEL = "N/A"
  WESTERNMOST_LONGITUDE = 198.001
END_OBJECT = IMAGE_MAP_PROJECTION
/* The JPEG2000 image data file associated with this label. */
OBJECT = COMPRESSED_FILE
  FILE_NAME = "H4465_0000_P13.JP2"
  RECORD_TYPE = UNDEFINED
  FILE_RECORDS = UNK
  ENCODING_TYPE = "JP2"
  INTERCHANGE_FORMAT = BINARY
  UNCOMPRESSED_FILE_NAME = "H4465_0000_P13.IMG"
  REQUIRED_STORAGE_BYTES = "132416900"
  ^DESCRIPTION = "JP2INFO.TXT"
END_OBJECT = COMPRESSED_FILE
END
