PDS_VERSION_ID = PDS3
/* FILE DATA ELEMENTS */
RECORD_TYPE = STREAM
/* POINTERS TO DATA OBJECTS */
^COMPRESSED_FILE = "H4467_0000_P23.JP2"
/* IDENTIFICATION DATA ELEMENTS */
DATA_SET_ID = "MEX-M-HRSC-5-REFDR-MAPPROJECTED-V3.0"
DATA_SET_NAME = "MARS EXPRESS HRSC MAP PROJECTED REFDR V3.0"
DETECTOR_ID = MEX_HRSC_P2
EVENT_TYPE = "MARS-REGIONAL-MAPPING-Vo-Gl-La"
INSTRUMENT_HOST_ID = MEX
INSTRUMENT_HOST_NAME = "MARS EXPRESS"
INSTRUMENT_ID = HRSC
INSTRUMENT_NAME = "HIGH RESOLUTION STEREO CAMERA"
MISSION_NAME = "MARS EXPRESS"
MISSION_PHASE_NAME = ME_Phase_8
PROCESSING_LEVEL_ID = 3
PRODUCT_CREATION_TIME = 2016-04-25T07:40:35.000Z
PRODUCT_ID = "H4467_0000_P23.JP2"
RELEASE_ID = 0050
REVISION_ID = 0000
/* QUALITY DATA ELEMENTS */
DATA_QUALITY_ID = 1
DATA_QUALITY_DESC = "Data calculated based on original SPICE kernels"
/* TIME DATA ELEMENTS */
SPACECRAFT_CLOCK_START_COUNT = "1/0131025284.08224"
SPACECRAFT_CLOCK_STOP_COUNT = "1/0131025505.57281"
START_TIME = 2007-06-27T11:54:56.989Z
STOP_TIME = 2007-06-27T11:57:39.330Z
/* ORBITAL DATA ELEMENTS */
ASCENDING_NODE_LONGITUDE = 134.83
MAXIMUM_RESOLUTION = 47.7
FOOTPRINT_POINT_LATITUDE = (-66.4221,-66.397,-66.3704,-66.3404, -66.0658,-65.8591,-65.6521,-65.3415, -65.1346,-64.8242,-64.6166,-64.4091, -64.2022,-63.9948,-63.7874,-63.476, -63.2682,-63.0606,-62.7399,-62.4159, -62.1998,-61.9836,-61.7673,-61.5508, -61.2268,-61.0126,-60.7953,-60.4705, -60.254,-60.0373,-59.8206,-59.6041, -59.279,-59.0641,-58.8471,-58.6307, -58.4104,-58.1858,-57.8489,-57.6243, -57.3995,-57.1746,-56.9496,-56.7257, -56.501,-56.2765,-56.0521,-55.8273, -55.5967,-55.4867,-55.498,-55.5085, -55.5194,-55.6467,-55.8778,-56.103, -56.3285,-56.5516,-56.7797,-57.0032, -57.2284,-57.5669,-57.7935,-58.1305, -58.3556,-58.6901,-58.9059,-59.1209, -59.3392,-59.6669,-59.9921,-60.2096, -60.426,-60.6435,-60.8609,-61.1869, -61.512,-61.7291,-61.9458,-62.1627, -62.4881,-62.7051,-62.9222,-63.1362, -63.3452,-63.5533,-63.7621,-63.971, -64.1801,-64.3887,-64.5967,-64.8044, -65.0135,-65.2218,-65.4291,-65.6374, -65.846,-66.0543,-66.2621,-66.4221)
FOOTPRINT_POINT_LONGITUDE = (14.8124,14.0181,13.3004,12.5908, 12.4686,12.5319,12.5939,12.6846,12.7436 ,12.8298,12.8859,12.9408,12.9947, 13.0475,13.0993,13.1751,13.2244,13.2727 ,13.3455,13.4167,13.463,13.5084,13.5528 ,13.5964,13.6602,13.702,13.7425,13.802, 13.8406,13.8785,13.9157,13.9521,14.0054 ,14.0403,14.0743,14.1076,14.141,14.1742 ,14.2228,14.2543,14.2852,14.3154,14.345 ,14.3742,14.4026,14.4305,14.4578, 14.4845,14.5113,14.7566,15.1168,15.4785 ,15.9341,16.4625,16.4405,16.4189, 16.3965,16.3773,16.3507,16.3303,16.3072 ,16.2706,16.2445,16.2089,16.1841, 16.1454,16.1224,16.1003,16.0726,16.0299 ,15.99,15.9617,15.9348,15.9055,15.8759, 15.8307,15.7858,15.7545,15.7233,15.6911 ,15.6417,15.6077,15.573,15.5381,15.5034 ,15.4696,15.434,15.3973,15.3596,15.322, 15.2849,15.2475,15.2065,15.1664,15.1273 ,15.0853,15.042,14.9982,14.9543, 14.8124)
ORBIT_NUMBER = 4467
ORBITAL_ECCENTRICITY = 0.57
ORBITAL_INCLINATION = 86.69
ORBITAL_SEMIMAJOR_AXIS = 8543.01
PERIAPSIS_ALTITUDE = 292.62
PERIAPSIS_ARGUMENT_ANGLE = 291.49
PERIAPSIS_TIME = 2007-06-27T11:54:44.000Z
SPACECRAFT_ORIENTATION = (0.0,1.0,0.0)
^MEX_ORIENTATION_DESC = "MEX_ORIENTATION_DESC.TXT"
SPACECRAFT_POINTING_MODE = ACROSSTRACK
^MEX_POINTING_DESC = "MEX_POINTING_DESC.TXT"
RIGHT_ASCENSION = -1e+32
DECLINATION = -1e+32
OFFSET_ANGLE = -0.3
SPACECRAFT_SOLAR_DISTANCE = 2.07234e+08
TARGET_NAME = MARS
/* CAMERA DATA ELEMENTS */
DETECTOR_TEMPERATURE = 18.3705
FOCAL_PLANE_TEMPERATURE = 8.3794
INST_CMPRS_NAME = "DISCRETE COSINE TRANSFORMATION (DCT)"
INST_CMPRS_RATIO = 13.0171
INST_CMPRS_QUALITY = 0
INST_CMPRS_QUANTZ_TBL_ID = 0
INSTRUMENT_TEMPERATURE = 11.234
LENS_TEMPERATURE = 8.7872
MACROPIXEL_SIZE = 4
MISSING_FRAMES = 0
PIXEL_SUBSAMPLING_FLAG = N
SIGNAL_CHAIN_ID = 3
/* RADIOMETRIC DATA ELEMENTS */
BANDWIDTH = 177.0
CENTER_FILTER_WAVELENGTH = 676.5
RADIANCE_OFFSET = 7.03862
RADIANCE_SCALING_FACTOR = 0.0211675
REFLECTANCE_SCALING_FACTOR = 0.000482
MEX:REFLECTANCE_OFFSET = 0.160275
/* IMAGE OBJECT DEFINITIONS */
OBJECT = IMAGE
  INTERCHANGE_FORMAT = BINARY
  LINES = 12920
  LINE_SAMPLES = 2238
  SAMPLE_TYPE = UNSIGNED_INTEGER
  SAMPLE_BITS = 8
  BANDS = 1
  BAND_STORAGE_TYPE = BAND_SEQUENTIAL
  MAXIMUM = 255
  MEAN = 146.631
  MINIMUM = 1
  STANDARD_DEVIATION = 72.1996
END_OBJECT = IMAGE
/* MAP OBJECT DEFINITIONS */
OBJECT = IMAGE_MAP_PROJECTION
  ^DATA_SET_MAP_PROJECTION_CATALOG= "DSMAP.CAT"
  A_AXIS_RADIUS = 3396.0
  B_AXIS_RADIUS = 3396.0
  C_AXIS_RADIUS = 3396.0
  CENTER_LATITUDE = 0.0
  CENTER_LONGITUDE = 15.0
  COORDINATE_SYSTEM_NAME = PLANETOGRAPHIC
  COORDINATE_SYSTEM_TYPE = "BODY-FIXED ROTATING"
  EASTERNMOST_LONGITUDE = 16.4625
  FIRST_STANDARD_PARALLEL = "N/A"
  LINE_FIRST_PIXEL = 1
  LINE_LAST_PIXEL = 12920
  LINE_PROJECTION_OFFSET = -65744.375
  MAP_PROJECTION_ROTATION = 0.0
  MAP_PROJECTION_TYPE = SINUSOIDAL
  MAP_RESOLUTION = 1185.42760773333
  MAP_SCALE = 0.05
  MAXIMUM_LATITUDE = -55.4867
  MINIMUM_LATITUDE = -66.4221
  POSITIVE_LONGITUDE_DIRECTION = EAST
  REFERENCE_LATITUDE = "N/A"
  REFERENCE_LONGITUDE = "N/A"
  SAMPLE_FIRST_PIXEL = 1
  SAMPLE_LAST_PIXEL = 2238
  SAMPLE_PROJECTION_OFFSET = 1229.375
  SECOND_STANDARD_PARALLEL = "N/A"
  WESTERNMOST_LONGITUDE = 12.4686
END_OBJECT = IMAGE_MAP_PROJECTION
/* The JPEG2000 image data file associated with this label. */
OBJECT = COMPRESSED_FILE
  FILE_NAME = "H4467_0000_P23.JP2"
  RECORD_TYPE = UNDEFINED
  FILE_RECORDS = UNK
  ENCODING_TYPE = "JP2"
  INTERCHANGE_FORMAT = BINARY
  UNCOMPRESSED_FILE_NAME = "H4467_0000_P23.IMG"
  REQUIRED_STORAGE_BYTES = "28937340"
  ^DESCRIPTION = "JP2INFO.TXT"
END_OBJECT = COMPRESSED_FILE
END
