PDS_VERSION_ID = PDS3
/* FILE DATA ELEMENTS */
RECORD_TYPE = STREAM
/* POINTERS TO DATA OBJECTS */
^COMPRESSED_FILE = "H4468_0000_P13.JP2"
/* IDENTIFICATION DATA ELEMENTS */
DATA_SET_ID = "MEX-M-HRSC-5-REFDR-MAPPROJECTED-V3.0"
DATA_SET_NAME = "MARS EXPRESS HRSC MAP PROJECTED REFDR V3.0"
DETECTOR_ID = MEX_HRSC_P1
EVENT_TYPE = "MARS-REGIONAL-MAPPING-Im-Gl-Pf"
INSTRUMENT_HOST_ID = MEX
INSTRUMENT_HOST_NAME = "MARS EXPRESS"
INSTRUMENT_ID = HRSC
INSTRUMENT_NAME = "HIGH RESOLUTION STEREO CAMERA"
MISSION_NAME = "MARS EXPRESS"
MISSION_PHASE_NAME = ME_Phase_8
PROCESSING_LEVEL_ID = 3
PRODUCT_CREATION_TIME = 2016-04-25T07:40:35.000Z
PRODUCT_ID = "H4468_0000_P13.JP2"
RELEASE_ID = 0050
REVISION_ID = 0000
/* QUALITY DATA ELEMENTS */
DATA_QUALITY_ID = 1
DATA_QUALITY_DESC = "Data calculated based on original SPICE kernels"
/* TIME DATA ELEMENTS */
SPACECRAFT_CLOCK_START_COUNT = "1/0131049356.08257"
SPACECRAFT_CLOCK_STOP_COUNT = "1/0131049689.57864"
START_TIME = 2007-06-27T18:36:44.898Z
STOP_TIME = 2007-06-27T18:41:21.598Z
/* ORBITAL DATA ELEMENTS */
ASCENDING_NODE_LONGITUDE = 134.81
MAXIMUM_RESOLUTION = 47.5
FOOTPRINT_POINT_LATITUDE = (-74.5836,-74.5294,-74.4712,-74.4837, -74.121,-73.758,-73.2129,-72.8493, -72.3033,-71.9423,-71.4157,-71.0644, -70.541,-70.1915,-69.839,-69.3082, -68.7823,-68.4318,-68.0807,-67.7297, -67.2036,-66.6777,-66.3274,-65.9769, -65.6143,-65.2511,-64.8879,-64.5243, -64.162,-63.6186,-63.2569,-62.7146, -62.1729,-61.8128,-61.4531,-60.9019, -60.5294,-60.1576,-59.7859,-59.4154, -59.045,-58.4896,-57.9163,-57.7244, -57.5325,-57.1498,-56.77,-56.3919, -56.4318,-56.4534,-56.4689,-56.4842, -56.8653,-57.2451,-57.4368,-57.6291, -58.012,-58.2037,-58.5866,-58.958, -59.3296,-59.8878,-60.2605,-60.6333, -61.007,-61.3784,-61.7395,-62.1007, -62.4627,-62.8253,-63.3686,-63.9159, -64.2801,-64.6445,-65.0094,-65.3742, -65.7394,-66.1035,-66.4559,-66.8087, -67.1606,-67.5133,-68.0423,-68.3957, -68.75,-69.1039,-69.4576,-69.8107, -70.1646,-70.5174,-71.0489,-71.4031, -71.7585,-72.1127,-72.6616,-73.0285, -73.5817,-74.1336,-74.5018,-74.5836)
FOOTPRINT_POINT_LONGITUDE = (273.703,272.603,271.527,270.686, 270.959,271.219,271.586,271.816,272.142 ,272.345,272.626,272.803,273.054, 273.213,273.367,273.587,273.792,273.923 ,274.049,274.17,274.343,274.506,274.61, 274.71,274.81,274.907,275.0,275.09, 275.176,275.3,275.379,275.492,275.599, 275.667,275.733,275.83,275.892,275.952, 276.01,276.066,276.12,276.197,276.272, 276.297,276.321,276.367,276.412,276.455 ,277.267,277.748,278.137,278.517, 278.483,278.444,278.427,278.41,278.372, 278.353,278.313,278.274,278.233,278.17, 278.127,278.081,278.034,277.985,277.937 ,277.887,277.836,277.785,277.702, 277.621,277.562,277.502,277.439,277.374 ,277.307,277.238,277.169,277.099, 277.023,276.947,276.826,276.742,276.658 ,276.568,276.475,276.377,276.276, 276.169,276.005,275.89,275.772,275.647, 275.443,275.295,275.068,274.822,274.648 ,273.703)
ORBIT_NUMBER = 4468
ORBITAL_ECCENTRICITY = 0.57
ORBITAL_INCLINATION = 86.68
ORBITAL_SEMIMAJOR_AXIS = 8541.77
PERIAPSIS_ALTITUDE = 292.24
PERIAPSIS_ARGUMENT_ANGLE = 291.34
PERIAPSIS_TIME = 2007-06-27T18:38:01.000Z
SPACECRAFT_ORIENTATION = (0.0,1.0,0.0)
^MEX_ORIENTATION_DESC = "MEX_ORIENTATION_DESC.TXT"
SPACECRAFT_POINTING_MODE = ACROSSTRACK
^MEX_POINTING_DESC = "MEX_POINTING_DESC.TXT"
RIGHT_ASCENSION = -1e+32
DECLINATION = -1e+32
OFFSET_ANGLE = -0.5
SPACECRAFT_SOLAR_DISTANCE = 2.07247e+08
TARGET_NAME = MARS
/* CAMERA DATA ELEMENTS */
DETECTOR_TEMPERATURE = 17.7588
FOCAL_PLANE_TEMPERATURE = 8.5833
INST_CMPRS_NAME = "DISCRETE COSINE TRANSFORMATION (DCT)"
INST_CMPRS_RATIO = 16.1975
INST_CMPRS_QUALITY = 0
INST_CMPRS_QUANTZ_TBL_ID = 0
INSTRUMENT_TEMPERATURE = 11.234
LENS_TEMPERATURE = 8.9911
MACROPIXEL_SIZE = 4
MISSING_FRAMES = 0
PIXEL_SUBSAMPLING_FLAG = N
SIGNAL_CHAIN_ID = 3
/* RADIOMETRIC DATA ELEMENTS */
BANDWIDTH = 174.0
CENTER_FILTER_WAVELENGTH = 675.0
RADIANCE_OFFSET = 7.48532
RADIANCE_SCALING_FACTOR = 0.0251957
REFLECTANCE_SCALING_FACTOR = 0.000582091
MEX:REFLECTANCE_OFFSET = 0.172932
/* IMAGE OBJECT DEFINITIONS */
OBJECT = IMAGE
  INTERCHANGE_FORMAT = BINARY
  LINES = 21653
  LINE_SAMPLES = 3367
  SAMPLE_TYPE = UNSIGNED_INTEGER
  SAMPLE_BITS = 8
  BANDS = 1
  BAND_STORAGE_TYPE = BAND_SEQUENTIAL
  MAXIMUM = 255
  MEAN = 128.062
  MINIMUM = 1
  STANDARD_DEVIATION = 39.6125
END_OBJECT = IMAGE
/* MAP OBJECT DEFINITIONS */
OBJECT = IMAGE_MAP_PROJECTION
  ^DATA_SET_MAP_PROJECTION_CATALOG= "DSMAP.CAT"
  A_AXIS_RADIUS = 3396.0
  B_AXIS_RADIUS = 3396.0
  C_AXIS_RADIUS = 3396.0
  CENTER_LATITUDE = 0.0
  CENTER_LONGITUDE = 276.0
  COORDINATE_SYSTEM_NAME = PLANETOGRAPHIC
  COORDINATE_SYSTEM_TYPE = "BODY-FIXED ROTATING"
  EASTERNMOST_LONGITUDE = 278.517
  FIRST_STANDARD_PARALLEL = "N/A"
  LINE_FIRST_PIXEL = 1
  LINE_LAST_PIXEL = 21653
  LINE_PROJECTION_OFFSET = -66877.375
  MAP_PROJECTION_ROTATION = 0.0
  MAP_PROJECTION_TYPE = SINUSOIDAL
  MAP_RESOLUTION = 1185.42760773333
  MAP_SCALE = 0.05
  MAXIMUM_LATITUDE = -56.3919
  MINIMUM_LATITUDE = -74.5836
  POSITIVE_LONGITUDE_DIRECTION = EAST
  REFERENCE_LATITUDE = "N/A"
  REFERENCE_LONGITUDE = "N/A"
  SAMPLE_FIRST_PIXEL = 1
  SAMPLE_LAST_PIXEL = 3367
  SAMPLE_PROJECTION_OFFSET = 1701.875
  SECOND_STANDARD_PARALLEL = "N/A"
  WESTERNMOST_LONGITUDE = 270.686
END_OBJECT = IMAGE_MAP_PROJECTION
/* The JPEG2000 image data file associated with this label. */
OBJECT = COMPRESSED_FILE
  FILE_NAME = "H4468_0000_P13.JP2"
  RECORD_TYPE = UNDEFINED
  FILE_RECORDS = UNK
  ENCODING_TYPE = "JP2"
  INTERCHANGE_FORMAT = BINARY
  UNCOMPRESSED_FILE_NAME = "H4468_0000_P13.IMG"
  REQUIRED_STORAGE_BYTES = "72929220"
  ^DESCRIPTION = "JP2INFO.TXT"
END_OBJECT = COMPRESSED_FILE
END
