PDS_VERSION_ID = PDS3
/* FILE DATA ELEMENTS */
RECORD_TYPE = STREAM
/* POINTERS TO DATA OBJECTS */
^COMPRESSED_FILE = "H4469_0001_RE3.JP2"
/* IDENTIFICATION DATA ELEMENTS */
DATA_SET_ID = "MEX-M-HRSC-5-REFDR-MAPPROJECTED-V3.0"
DATA_SET_NAME = "MARS EXPRESS HRSC MAP PROJECTED REFDR V3.0"
DETECTOR_ID = MEX_HRSC_RED
EVENT_TYPE = "MARS-REGIONAL-MAPPING-Im-Fl"
INSTRUMENT_HOST_ID = MEX
INSTRUMENT_HOST_NAME = "MARS EXPRESS"
INSTRUMENT_ID = HRSC
INSTRUMENT_NAME = "HIGH RESOLUTION STEREO CAMERA"
MISSION_NAME = "MARS EXPRESS"
MISSION_PHASE_NAME = ME_Phase_8
PROCESSING_LEVEL_ID = 3
PRODUCT_CREATION_TIME = 2016-04-25T07:40:35.000Z
PRODUCT_ID = "H4469_0001_RE3.JP2"
RELEASE_ID = 0050
REVISION_ID = 0000
/* QUALITY DATA ELEMENTS */
DATA_QUALITY_ID = 2
DATA_QUALITY_DESC = "Data calculated based on photogrammetrically improved orbit and attitude data"
/* TIME DATA ELEMENTS */
SPACECRAFT_CLOCK_START_COUNT = "1/0131073804.08222"
SPACECRAFT_CLOCK_STOP_COUNT = "1/0131074033.05498"
START_TIME = 2007-06-28T01:23:33.031Z
STOP_TIME = 2007-06-28T01:26:09.692Z
/* ORBITAL DATA ELEMENTS */
ASCENDING_NODE_LONGITUDE = 134.78
MAXIMUM_RESOLUTION = 102.2
FOOTPRINT_POINT_LATITUDE = (-57.8001,-57.7768,-57.7547,-57.7395, -57.7224,-57.7021,-57.5401,-57.3456, -57.0542,-56.8598,-56.6649,-56.4697, -56.2749,-55.9827,-55.7879,-55.4878, -55.2859,-55.0842,-54.8824,-54.6804, -54.4787,-54.2769,-54.0743,-53.7713, -53.5701,-53.364,-53.156,-52.8444, -52.636,-52.3238,-52.1152,-51.9073, -51.6992,-51.3782,-51.1636,-50.9488, -50.7342,-50.5197,-50.3057,-50.0914, -49.7698,-49.4481,-49.1278,-48.9139, -48.7004,-48.3801,-48.0588,-47.8446, -47.631,-47.3104,-47.2357,-47.2547, -47.266,-47.2755,-47.2868,-47.5006, -47.7148,-47.9287,-48.1432,-48.4648, -48.6795,-48.8922,-49.1065,-49.3177, -49.5317,-49.8573,-50.1786,-50.501, -50.8235,-51.1461,-51.3615,-51.5764, -51.7907,-51.9993,-52.208,-52.4168, -52.626,-52.9373,-53.1494,-53.357, -53.6688,-53.8704,-54.17,-54.3699, -54.5768,-54.7796,-55.0834,-55.2856, -55.589,-55.7912,-55.9872,-56.1826, -56.3783,-56.5738,-56.8668,-57.0584, -57.2533,-57.4487,-57.6463,-57.8001)
FOOTPRINT_POINT_LONGITUDE = (178.654,178.137,177.69,177.404,177.099 ,176.756,176.72,176.752,176.799,176.83, 176.86,176.89,176.919,176.962,176.99, 177.032,177.059,177.086,177.113,177.139 ,177.165,177.191,177.215,177.251, 177.275,177.3,177.324,177.36,177.382, 177.416,177.437,177.459,177.48,177.512, 177.533,177.553,177.573,177.593,177.612 ,177.631,177.658,177.685,177.711, 177.728,177.745,177.769,177.792,177.807 ,177.822,177.843,178.41,178.866,179.163 ,179.424,179.715,179.7,179.684,179.669, 179.653,179.63,179.613,179.598,179.581, 179.566,179.55,179.522,179.496,179.469, 179.442,179.414,179.395,179.376,179.356 ,179.337,179.317,179.297,179.277, 179.247,179.225,179.204,179.172,179.151 ,179.121,179.1,179.076,179.053,179.019, 178.995,178.96,178.936,178.912,178.889, 178.864,178.84,178.802,178.779,178.754, 178.728,178.7,178.654)
ORBIT_NUMBER = 4469
ORBITAL_ECCENTRICITY = 0.57
ORBITAL_INCLINATION = 86.69
ORBITAL_SEMIMAJOR_AXIS = 8541.9
PERIAPSIS_ALTITUDE = 292.7
PERIAPSIS_ARGUMENT_ANGLE = 291.17
PERIAPSIS_TIME = 2007-06-28T01:21:11.000Z
SPACECRAFT_ORIENTATION = (0.0,1.0,0.0)
^MEX_ORIENTATION_DESC = "MEX_ORIENTATION_DESC.TXT"
SPACECRAFT_POINTING_MODE = ACROSSTRACK
^MEX_POINTING_DESC = "MEX_POINTING_DESC.TXT"
RIGHT_ASCENSION = -1e+32
DECLINATION = -1e+32
OFFSET_ANGLE = 0.2
SPACECRAFT_SOLAR_DISTANCE = 2.07261e+08
TARGET_NAME = MARS
/* CAMERA DATA ELEMENTS */
DETECTOR_TEMPERATURE = 20.2056
FOCAL_PLANE_TEMPERATURE = 8.7872
INST_CMPRS_NAME = "DISCRETE COSINE TRANSFORMATION (DCT)"
INST_CMPRS_RATIO = 19.1263
INST_CMPRS_QUALITY = 0
INST_CMPRS_QUANTZ_TBL_ID = 0
INSTRUMENT_TEMPERATURE = 12.6613
LENS_TEMPERATURE = 9.6028
MACROPIXEL_SIZE = 8
MISSING_FRAMES = 0
PIXEL_SUBSAMPLING_FLAG = N
SIGNAL_CHAIN_ID = 2
/* RADIOMETRIC DATA ELEMENTS */
BANDWIDTH = 48.0
CENTER_FILTER_WAVELENGTH = 748.0
RADIANCE_OFFSET = 1.43849
RADIANCE_SCALING_FACTOR = 0.00548866
REFLECTANCE_SCALING_FACTOR = 0.00053806
MEX:REFLECTANCE_OFFSET = 0.141017
/* IMAGE OBJECT DEFINITIONS */
OBJECT = IMAGE
  INTERCHANGE_FORMAT = BINARY
  LINES = 6236
  LINE_SAMPLES = 1135
  SAMPLE_TYPE = UNSIGNED_INTEGER
  SAMPLE_BITS = 8
  BANDS = 1
  BAND_STORAGE_TYPE = BAND_SEQUENTIAL
  MAXIMUM = 255
  MEAN = 150.194
  MINIMUM = 1
  STANDARD_DEVIATION = 25.5023
END_OBJECT = IMAGE
/* MAP OBJECT DEFINITIONS */
OBJECT = IMAGE_MAP_PROJECTION
  ^DATA_SET_MAP_PROJECTION_CATALOG= "DSMAP.CAT"
  A_AXIS_RADIUS = 3396.0
  B_AXIS_RADIUS = 3396.0
  C_AXIS_RADIUS = 3396.0
  CENTER_LATITUDE = 0.0
  CENTER_LONGITUDE = 178.0
  COORDINATE_SYSTEM_NAME = PLANETOGRAPHIC
  COORDINATE_SYSTEM_TYPE = "BODY-FIXED ROTATING"
  EASTERNMOST_LONGITUDE = 179.715
  FIRST_STANDARD_PARALLEL = "N/A"
  LINE_FIRST_PIXEL = 1
  LINE_LAST_PIXEL = 6236
  LINE_PROJECTION_OFFSET = -27981.9375
  MAP_PROJECTION_ROTATION = 0.0
  MAP_PROJECTION_TYPE = SINUSOIDAL
  MAP_RESOLUTION = 592.713803866667
  MAP_SCALE = 0.1
  MAXIMUM_LATITUDE = -47.2357
  MINIMUM_LATITUDE = -57.8001
  POSITIVE_LONGITUDE_DIRECTION = EAST
  REFERENCE_LATITUDE = "N/A"
  REFERENCE_LONGITUDE = "N/A"
  SAMPLE_FIRST_PIXEL = 1
  SAMPLE_LAST_PIXEL = 1135
  SAMPLE_PROJECTION_OFFSET = 429.9375
  SECOND_STANDARD_PARALLEL = "N/A"
  WESTERNMOST_LONGITUDE = 176.72
END_OBJECT = IMAGE_MAP_PROJECTION
/* The JPEG2000 image data file associated with this label. */
OBJECT = COMPRESSED_FILE
  FILE_NAME = "H4469_0001_RE3.JP2"
  RECORD_TYPE = UNDEFINED
  FILE_RECORDS = UNK
  ENCODING_TYPE = "JP2"
  INTERCHANGE_FORMAT = BINARY
  UNCOMPRESSED_FILE_NAME = "H4469_0001_RE3.IMG"
  REQUIRED_STORAGE_BYTES = "7097155"
  ^DESCRIPTION = "JP2INFO.TXT"
END_OBJECT = COMPRESSED_FILE
END
