PDS_VERSION_ID = PDS3
/* FILE DATA ELEMENTS */
RECORD_TYPE = STREAM
/* POINTERS TO DATA OBJECTS */
^COMPRESSED_FILE = "H4477_0000_RE3.JP2"
/* IDENTIFICATION DATA ELEMENTS */
DATA_SET_ID = "MEX-M-HRSC-5-REFDR-MAPPROJECTED-V3.0"
DATA_SET_NAME = "MARS EXPRESS HRSC MAP PROJECTED REFDR V3.0"
DETECTOR_ID = MEX_HRSC_RED
EVENT_TYPE = "MARS-LOCAL-STEREO-Im-Gl-La"
INSTRUMENT_HOST_ID = MEX
INSTRUMENT_HOST_NAME = "MARS EXPRESS"
INSTRUMENT_ID = HRSC
INSTRUMENT_NAME = "HIGH RESOLUTION STEREO CAMERA"
MISSION_NAME = "MARS EXPRESS"
MISSION_PHASE_NAME = ME_Phase_8
PROCESSING_LEVEL_ID = 3
PRODUCT_CREATION_TIME = 2016-04-25T07:40:35.000Z
PRODUCT_ID = "H4477_0000_RE3.JP2"
RELEASE_ID = 0050
REVISION_ID = 0000
/* QUALITY DATA ELEMENTS */
DATA_QUALITY_ID = 1
DATA_QUALITY_DESC = "Data calculated based on original SPICE kernels"
/* TIME DATA ELEMENTS */
SPACECRAFT_CLOCK_START_COUNT = "1/0131266974.09329"
SPACECRAFT_CLOCK_STOP_COUNT = "1/0131267084.00022"
START_TIME = 2007-06-30T07:03:03.743Z
STOP_TIME = 2007-06-30T07:03:55.388Z
/* ORBITAL DATA ELEMENTS */
ASCENDING_NODE_LONGITUDE = 134.63
MAXIMUM_RESOLUTION = 53
FOOTPRINT_POINT_LATITUDE = (-82.764,-82.7338,-82.676,-82.6393, -82.6019,-82.5635,-82.5095,-82.4387, -82.3971,-82.3547,-82.3115,-82.234, -82.139,-82.0821,-82.0249,-81.969, -81.9134,-81.8575,-81.8001,-81.7441, -81.66,-81.5756,-81.5191,-81.4626, -81.4058,-81.3206,-81.2635,-81.2063, -81.149,-81.0916,-81.0051,-80.9473, -80.8894,-80.8314,-80.7444,-80.6575, -80.5434,-80.4845,-80.4271,-80.2845, -80.1983,-80.0825,-79.9387,-79.8225, -79.7356,-79.6484,-79.5609,-79.4151, -79.2981,-79.2393,-79.2293,-79.265, -79.296,-79.3374,-79.3667,-79.4165, -79.4474,-79.4743,-79.5004,-79.5263, -79.5575,-79.5846,-79.678,-79.7405, -79.8327,-79.9853,-80.1374,-80.2286, -80.3493,-80.4388,-80.5291,-80.6514, -80.7424,-80.8929,-80.9855,-81.0474, -81.1092,-81.2016,-81.2939,-81.3553, -81.4472,-81.5084,-81.5697,-81.6306, -81.7219,-81.7824,-81.8718,-81.9314, -81.9922,-82.0833,-82.1439,-82.204, -82.2645,-82.355,-82.4152,-82.4753, -82.5349,-82.596,-82.6886,-82.764)
FOOTPRINT_POINT_LONGITUDE = (94.7396,94.2183,93.2611,92.6795, 92.1025,91.5306,90.7529,89.7788,89.2298 ,88.6857,88.1465,87.2143,87.265,87.5192 ,87.7699,88.0099,88.2458,88.4786, 88.7087,88.9351,89.2689,89.5961,89.8106 ,90.0223,90.2312,90.5394,90.7416, 90.9412,91.1382,91.3326,91.6197,91.808, 91.994,92.1776,92.4487,92.7148,93.0623, 93.2327,93.397,93.7955,94.029,94.3338, 94.7053,94.9948,95.2077,95.4169,95.6227 ,95.9581,96.2199,96.3485,96.7292, 97.1979,97.6161,98.1932,98.6151,99.3578 ,99.8386,100.268,100.698,101.129, 101.671,102.12,101.973,101.872,101.723, 101.472,101.214,101.055,100.841,100.68, 100.512,100.277,100.098,99.7955,99.6044 ,99.4744,99.3429,99.1426,98.9379, 98.7996,98.588,98.4446,98.2981,98.1514, 97.9264,97.7753,97.5497,97.3958,97.2337 ,96.9859,96.8179,96.6487,96.4749, 96.2093,96.029,95.8456,95.6613,95.4682, 95.169,94.7396)
ORBIT_NUMBER = 4477
ORBITAL_ECCENTRICITY = 0.57
ORBITAL_INCLINATION = 86.69
ORBITAL_SEMIMAJOR_AXIS = 8542.23
PERIAPSIS_ALTITUDE = 292.03
PERIAPSIS_ARGUMENT_ANGLE = 289.76
PERIAPSIS_TIME = 2007-06-30T07:06:46.000Z
SPACECRAFT_ORIENTATION = (0.0,1.0,0.0)
^MEX_ORIENTATION_DESC = "MEX_ORIENTATION_DESC.TXT"
SPACECRAFT_POINTING_MODE = ACROSSTRACK
^MEX_POINTING_DESC = "MEX_POINTING_DESC.TXT"
RIGHT_ASCENSION = -1e+32
DECLINATION = -1e+32
OFFSET_ANGLE = 0.2
SPACECRAFT_SOLAR_DISTANCE = 2.07379e+08
TARGET_NAME = MARS
/* CAMERA DATA ELEMENTS */
DETECTOR_TEMPERATURE = 18.5744
FOCAL_PLANE_TEMPERATURE = 8.7872
INST_CMPRS_NAME = "DISCRETE COSINE TRANSFORMATION (DCT)"
INST_CMPRS_RATIO = 22.654
INST_CMPRS_QUALITY = 0
INST_CMPRS_QUANTZ_TBL_ID = 0
INSTRUMENT_TEMPERATURE = 11.6418
LENS_TEMPERATURE = 9.195
MACROPIXEL_SIZE = 4
MISSING_FRAMES = 0
PIXEL_SUBSAMPLING_FLAG = N
SIGNAL_CHAIN_ID = 2
/* RADIOMETRIC DATA ELEMENTS */
BANDWIDTH = 48.0
CENTER_FILTER_WAVELENGTH = 748.0
RADIANCE_OFFSET = 2.17163
RADIANCE_SCALING_FACTOR = 0.00234196
REFLECTANCE_SCALING_FACTOR = 0.000229846
MEX:REFLECTANCE_OFFSET = 0.21313
/* IMAGE OBJECT DEFINITIONS */
OBJECT = IMAGE
  INTERCHANGE_FORMAT = BINARY
  LINES = 4070
  LINE_SAMPLES = 2641
  SAMPLE_TYPE = UNSIGNED_INTEGER
  SAMPLE_BITS = 8
  BANDS = 1
  BAND_STORAGE_TYPE = BAND_SEQUENTIAL
  MAXIMUM = 255
  MEAN = 100.877
  MINIMUM = 4
  STANDARD_DEVIATION = 45.736
END_OBJECT = IMAGE
/* MAP OBJECT DEFINITIONS */
OBJECT = IMAGE_MAP_PROJECTION
  ^DATA_SET_MAP_PROJECTION_CATALOG= "DSMAP.CAT"
  A_AXIS_RADIUS = 3396.0
  B_AXIS_RADIUS = 3396.0
  C_AXIS_RADIUS = 3396.0
  CENTER_LATITUDE = 0.0
  CENTER_LONGITUDE = 96.0
  COORDINATE_SYSTEM_NAME = PLANETOGRAPHIC
  COORDINATE_SYSTEM_TYPE = "BODY-FIXED ROTATING"
  EASTERNMOST_LONGITUDE = 102.12
  FIRST_STANDARD_PARALLEL = "N/A"
  LINE_FIRST_PIXEL = 1
  LINE_LAST_PIXEL = 4070
  LINE_PROJECTION_OFFSET = -93915.875
  MAP_PROJECTION_ROTATION = 0.0
  MAP_PROJECTION_TYPE = SINUSOIDAL
  MAP_RESOLUTION = 1185.42760773333
  MAP_SCALE = 0.05
  MAXIMUM_LATITUDE = -79.22929999999999
  MINIMUM_LATITUDE = -82.764
  POSITIVE_LONGITUDE_DIRECTION = EAST
  REFERENCE_LATITUDE = "N/A"
  REFERENCE_LONGITUDE = "N/A"
  SAMPLE_FIRST_PIXEL = 1
  SAMPLE_LAST_PIXEL = 2641
  SAMPLE_PROJECTION_OFFSET = 1351.125
  SECOND_STANDARD_PARALLEL = "N/A"
  WESTERNMOST_LONGITUDE = 87.21429999999999
END_OBJECT = IMAGE_MAP_PROJECTION
/* The JPEG2000 image data file associated with this label. */
OBJECT = COMPRESSED_FILE
  FILE_NAME = "H4477_0000_RE3.JP2"
  RECORD_TYPE = UNDEFINED
  FILE_RECORDS = UNK
  ENCODING_TYPE = "JP2"
  INTERCHANGE_FORMAT = BINARY
  UNCOMPRESSED_FILE_NAME = "H4477_0000_RE3.IMG"
  REQUIRED_STORAGE_BYTES = "10769998"
  ^DESCRIPTION = "JP2INFO.TXT"
END_OBJECT = COMPRESSED_FILE
END
