PDS_VERSION_ID = PDS3
/* FILE DATA ELEMENTS */
RECORD_TYPE = STREAM
/* POINTERS TO DATA OBJECTS */
^COMPRESSED_FILE = "H4477_0001_S23.JP2"
/* IDENTIFICATION DATA ELEMENTS */
DATA_SET_ID = "MEX-M-HRSC-5-REFDR-MAPPROJECTED-V3.0"
DATA_SET_NAME = "MARS EXPRESS HRSC MAP PROJECTED REFDR V3.0"
DETECTOR_ID = MEX_HRSC_S2
EVENT_TYPE = "MARS-REGIONAL-MAPPING-Im-Gl"
INSTRUMENT_HOST_ID = MEX
INSTRUMENT_HOST_NAME = "MARS EXPRESS"
INSTRUMENT_ID = HRSC
INSTRUMENT_NAME = "HIGH RESOLUTION STEREO CAMERA"
MISSION_NAME = "MARS EXPRESS"
MISSION_PHASE_NAME = ME_Phase_8
PROCESSING_LEVEL_ID = 3
PRODUCT_CREATION_TIME = 2016-04-25T07:40:35.000Z
PRODUCT_ID = "H4477_0001_S23.JP2"
RELEASE_ID = 0050
REVISION_ID = 0000
/* QUALITY DATA ELEMENTS */
DATA_QUALITY_ID = 2
DATA_QUALITY_DESC = "Data calculated based on photogrammetrically improved orbit and attitude data"
/* TIME DATA ELEMENTS */
SPACECRAFT_CLOCK_START_COUNT = "1/0131267276.08253"
SPACECRAFT_CLOCK_STOP_COUNT = "1/0131267460.32679"
START_TIME = 2007-06-30T07:08:00.212Z
STOP_TIME = 2007-06-30T07:10:02.221Z
/* ORBITAL DATA ELEMENTS */
ASCENDING_NODE_LONGITUDE = 134.63
MAXIMUM_RESOLUTION = 24.8
FOOTPRINT_POINT_LATITUDE = (-63.4575,-63.4229,-63.3843,-63.3635, -63.3317,-63.1705,-63.0131,-62.8538, -62.6962,-62.4619,-62.304,-62.1459, -61.908,-61.7495,-61.5907,-61.4318, -61.2733,-61.1148,-60.9565,-60.7189, -60.5615,-60.3247,-60.1597,-59.9165, -59.7576,-59.599,-59.4414,-59.2822, -59.0378,-58.8728,-58.6205,-58.3732, -58.2081,-58.0431,-57.8786,-57.7137, -57.5497,-57.3856,-57.2185,-57.0516, -56.8862,-56.7213,-56.5503,-56.2942, -56.1234,-55.9531,-55.6978,-55.4412, -55.1866,-55.1003,-55.118,-55.1349, -55.1558,-55.1698,-55.2755,-55.4453, -55.7037,-55.8772,-56.0425,-56.3016, -56.4771,-56.6475,-56.9015,-57.067, -57.3153,-57.4817,-57.6478,-57.8118, -57.9776,-58.2257,-58.3923,-58.6413, -58.8101,-58.9711,-59.1387,-59.3892, -59.5541,-59.7133,-59.8718,-60.0308, -60.1898,-60.3493,-60.5084,-60.6678, -60.8274,-61.0665,-61.2257,-61.3853, -61.6257,-61.7861,-61.9459,-62.1037, -62.2626,-62.5008,-62.6581,-62.8165, -62.9748,-63.1328,-63.2914,-63.4575)
FOOTPRINT_POINT_LONGITUDE = (111.449,110.777,110.102,109.764, 109.277,109.242,109.285,109.327,109.369 ,109.432,109.472,109.512,109.57,109.609 ,109.646,109.683,109.72,109.756,109.792 ,109.845,109.88,109.932,109.961,110.007 ,110.04,110.071,110.103,110.138,110.187 ,110.218,110.263,110.307,110.336, 110.365,110.394,110.422,110.45,110.477, 110.503,110.528,110.554,110.58,110.605, 110.644,110.669,110.695,110.732,110.768 ,110.803,111.026,111.332,111.637, 112.055,112.359,112.772,112.753,112.722 ,112.7,112.682,112.649,112.626,112.605, 112.572,112.551,112.518,112.495,112.472 ,112.45,112.427,112.392,112.368,112.332 ,112.307,112.284,112.258,112.219, 112.193,112.168,112.143,112.117,112.091 ,112.065,112.038,112.011,111.984, 111.942,111.914,111.885,111.841,111.811 ,111.78,111.751,111.72,111.674,111.644, 111.612,111.58,111.548,111.515,111.449)
ORBIT_NUMBER = 4477
ORBITAL_ECCENTRICITY = 0.57
ORBITAL_INCLINATION = 86.69
ORBITAL_SEMIMAJOR_AXIS = 8542.23
PERIAPSIS_ALTITUDE = 292.03
PERIAPSIS_ARGUMENT_ANGLE = 289.76
PERIAPSIS_TIME = 2007-06-30T07:06:46.000Z
SPACECRAFT_ORIENTATION = (0.0,1.0,0.0)
^MEX_ORIENTATION_DESC = "MEX_ORIENTATION_DESC.TXT"
SPACECRAFT_POINTING_MODE = ACROSSTRACK
^MEX_POINTING_DESC = "MEX_POINTING_DESC.TXT"
RIGHT_ASCENSION = -1e+32
DECLINATION = -1e+32
OFFSET_ANGLE = 0.2
SPACECRAFT_SOLAR_DISTANCE = 2.07379e+08
TARGET_NAME = MARS
/* CAMERA DATA ELEMENTS */
DETECTOR_TEMPERATURE = 19.5939
FOCAL_PLANE_TEMPERATURE = 8.9911
INST_CMPRS_NAME = "DISCRETE COSINE TRANSFORMATION (DCT)"
INST_CMPRS_RATIO = 9.8526
INST_CMPRS_QUALITY = 0
INST_CMPRS_QUANTZ_TBL_ID = 0
INSTRUMENT_TEMPERATURE = 12.6613
LENS_TEMPERATURE = 9.195
MACROPIXEL_SIZE = 2
MISSING_FRAMES = 1
PIXEL_SUBSAMPLING_FLAG = N
SIGNAL_CHAIN_ID = 1
/* RADIOMETRIC DATA ELEMENTS */
BANDWIDTH = 178.0
CENTER_FILTER_WAVELENGTH = 679.0
RADIANCE_OFFSET = 7.52585
RADIANCE_SCALING_FACTOR = 0.0120088
REFLECTANCE_SCALING_FACTOR = 0.000273501
MEX:REFLECTANCE_OFFSET = 0.171402
/* IMAGE OBJECT DEFINITIONS */
OBJECT = IMAGE
  INTERCHANGE_FORMAT = BINARY
  LINES = 19615
  LINE_SAMPLES = 4326
  SAMPLE_TYPE = UNSIGNED_INTEGER
  SAMPLE_BITS = 8
  BANDS = 1
  BAND_STORAGE_TYPE = BAND_SEQUENTIAL
  MAXIMUM = 255
  MEAN = 112.118
  MINIMUM = 1
  STANDARD_DEVIATION = 36.0848
END_OBJECT = IMAGE
/* MAP OBJECT DEFINITIONS */
OBJECT = IMAGE_MAP_PROJECTION
  ^DATA_SET_MAP_PROJECTION_CATALOG= "DSMAP.CAT"
  A_AXIS_RADIUS = 3396.0
  B_AXIS_RADIUS = 3396.0
  C_AXIS_RADIUS = 3396.0
  CENTER_LATITUDE = 0.0
  CENTER_LONGITUDE = 111.0
  COORDINATE_SYSTEM_NAME = PLANETOGRAPHIC
  COORDINATE_SYSTEM_TYPE = "BODY-FIXED ROTATING"
  EASTERNMOST_LONGITUDE = 112.772
  FIRST_STANDARD_PARALLEL = "N/A"
  LINE_FIRST_PIXEL = 1
  LINE_LAST_PIXEL = 19615
  LINE_PROJECTION_OFFSET = -130568.75
  MAP_PROJECTION_ROTATION = 0.0
  MAP_PROJECTION_TYPE = SINUSOIDAL
  MAP_RESOLUTION = 2370.85521546667
  MAP_SCALE = 0.025
  MAXIMUM_LATITUDE = -55.1003
  MINIMUM_LATITUDE = -63.4575
  POSITIVE_LONGITUDE_DIRECTION = EAST
  REFERENCE_LATITUDE = "N/A"
  REFERENCE_LONGITUDE = "N/A"
  SAMPLE_FIRST_PIXEL = 1
  SAMPLE_LAST_PIXEL = 4326
  SAMPLE_PROJECTION_OFFSET = 1895.75
  SECOND_STANDARD_PARALLEL = "N/A"
  WESTERNMOST_LONGITUDE = 109.242
END_OBJECT = IMAGE_MAP_PROJECTION
/* The JPEG2000 image data file associated with this label. */
OBJECT = COMPRESSED_FILE
  FILE_NAME = "H4477_0001_S23.JP2"
  RECORD_TYPE = UNDEFINED
  FILE_RECORDS = UNK
  ENCODING_TYPE = "JP2"
  INTERCHANGE_FORMAT = BINARY
  UNCOMPRESSED_FILE_NAME = "H4477_0001_S23.IMG"
  REQUIRED_STORAGE_BYTES = "84880446"
  ^DESCRIPTION = "JP2INFO.TXT"
END_OBJECT = COMPRESSED_FILE
END
