PDS_VERSION_ID = PDS3
/* FILE DATA ELEMENTS */
RECORD_TYPE = STREAM
/* POINTERS TO DATA OBJECTS */
^COMPRESSED_FILE = "H4481_0000_ND3.JP2"
/* IDENTIFICATION DATA ELEMENTS */
DATA_SET_ID = "MEX-M-HRSC-5-REFDR-MAPPROJECTED-V3.0"
DATA_SET_NAME = "MARS EXPRESS HRSC MAP PROJECTED REFDR V3.0"
DETECTOR_ID = MEX_HRSC_NADIR
EVENT_TYPE = "MARS-LOCAL-CARTOGRAPHY-Gl-La-Ot"
INSTRUMENT_HOST_ID = MEX
INSTRUMENT_HOST_NAME = "MARS EXPRESS"
INSTRUMENT_ID = HRSC
INSTRUMENT_NAME = "HIGH RESOLUTION STEREO CAMERA"
MISSION_NAME = "MARS EXPRESS"
MISSION_PHASE_NAME = ME_Phase_8
PROCESSING_LEVEL_ID = 3
PRODUCT_CREATION_TIME = 2016-04-25T14:29:06.000Z
PRODUCT_ID = "H4481_0000_ND3.JP2"
RELEASE_ID = 0051
REVISION_ID = 0000
/* QUALITY DATA ELEMENTS */
DATA_QUALITY_ID = 1
DATA_QUALITY_DESC = "Data calculated based on original SPICE kernels"
/* TIME DATA ELEMENTS */
SPACECRAFT_CLOCK_START_COUNT = "1/0131363581.07279"
SPACECRAFT_CLOCK_STOP_COUNT = "1/0131363767.16577"
START_TIME = 2007-07-01T09:53:42.304Z
STOP_TIME = 2007-07-01T09:55:40.298Z
/* ORBITAL DATA ELEMENTS */
ASCENDING_NODE_LONGITUDE = 134.54
MAXIMUM_RESOLUTION = 14.2
FOOTPRINT_POINT_LATITUDE = (-85.5119,-85.5721,-85.6208,-85.6561, -85.6761,-85.6761,-85.7346,-85.9152, -86.092,-86.3585,-86.6244,-86.8016, -86.9763,-87.1489,-87.3221,-87.4945, -87.667,-87.8393,-88.0106,-88.1782, -88.4293,-88.5961,-88.7622,-88.9295, -89.178,-89.3368,-89.5678,-89.7657, -89.8158,-89.7412,-89.6079,-89.4577, -89.3013,-89.1422,-88.9815,-88.8199, -88.6577,-88.4951,-88.2509,-88.0878, -87.843,-87.6797,-87.5162,-87.3528, -87.1893,-87.0257,-86.862,-86.6981, -86.5346,-86.3708,-86.1251,-85.9614, -85.9471,-85.9276,-85.8955,-85.8524, -85.7999,-85.7415,-85.8959,-86.1261, -86.2785,-86.43,-86.58,-86.7289, -86.8765,-87.0222,-87.166,-87.3076, -87.4464,-87.5823,-87.7146,-87.8424, -88.0823,-88.2931,-88.4629,-88.5945, -88.6203,-88.5878,-88.4843,-88.4099, -88.3208,-88.22,-88.0511,-87.9298, -87.7359,-87.6004,-87.4585,-87.312, -87.1628,-86.934,-86.7009,-86.5421, -86.3791,-86.2148,-86.0495,-85.8831, -85.7158,-85.5457,-85.5119)
FOOTPRINT_POINT_LONGITUDE = (279.373,276.32,273.085,269.678,266.106 ,261.188,258.892,258.836,258.687, 258.534,258.311,258.147,257.961,257.744 ,257.569,257.286,256.984,256.617, 256.185,255.691,254.732,253.862,252.705 ,251.567,248.907,245.752,236.751, 210.278,166.17,127.141,109.949,101.809, 97.2675,94.3803,92.4508,91.0453,89.9831 ,89.1975,88.2195,87.726,87.1098,86.7859 ,86.5072,86.2405,86.0104,85.8269, 85.6709,85.5525,85.3854,85.271,85.1054, 85.0027,80.1538,76.8001,73.6008,70.553, 67.6801,65.0477,64.3018,63.0681,62.1636 ,61.1949,60.1145,58.9511,57.6844, 56.2856,54.7449,53.044,51.15,49.0494, 46.7064,44.0718,37.8053,29.8773,19.9785 ,4.84641,354.797,341.409,329.235, 323.858,318.906,314.45,308.693,305.369, 301.105,298.66,296.427,294.431,292.629, 290.278,288.25,287.015,285.895,284.876, 283.923,283.061,282.27,281.527,279.373)
ORBIT_NUMBER = 4481
ORBITAL_ECCENTRICITY = 0.57
ORBITAL_INCLINATION = 86.7
ORBITAL_SEMIMAJOR_AXIS = 8540.71
PERIAPSIS_ALTITUDE = 291.67
PERIAPSIS_ARGUMENT_ANGLE = 289.07
PERIAPSIS_TIME = 2007-07-01T09:59:34.000Z
SPACECRAFT_ORIENTATION = (0.0,-1.0,0.0)
^MEX_ORIENTATION_DESC = "MEX_ORIENTATION_DESC.TXT"
SPACECRAFT_POINTING_MODE = INERT
^MEX_POINTING_DESC = "MEX_POINTING_DESC.TXT"
RIGHT_ASCENSION = 331.3
DECLINATION = 36.096
OFFSET_ANGLE = -1e+32
SPACECRAFT_SOLAR_DISTANCE = 2.07442e+08
TARGET_NAME = MARS
/* CAMERA DATA ELEMENTS */
DETECTOR_TEMPERATURE = 18.3705
FOCAL_PLANE_TEMPERATURE = 8.7872
INST_CMPRS_NAME = "DISCRETE COSINE TRANSFORMATION (DCT)"
INST_CMPRS_RATIO = 7.50299
INST_CMPRS_QUALITY = 0
INST_CMPRS_QUANTZ_TBL_ID = 0
INSTRUMENT_TEMPERATURE = 11.6418
LENS_TEMPERATURE = 8.9911
MACROPIXEL_SIZE = 1
MISSING_FRAMES = 0
PIXEL_SUBSAMPLING_FLAG = N
SIGNAL_CHAIN_ID = 0
/* RADIOMETRIC DATA ELEMENTS */
BANDWIDTH = 177.0
CENTER_FILTER_WAVELENGTH = 677.5
RADIANCE_OFFSET = 7.11161
RADIANCE_SCALING_FACTOR = 0.0257895
REFLECTANCE_SCALING_FACTOR = 0.000589549
MEX:REFLECTANCE_OFFSET = 0.162571
/* IMAGE OBJECT DEFINITIONS */
OBJECT = IMAGE
  INTERCHANGE_FORMAT = BINARY
  LINES = 12091
  LINE_SAMPLES = 40121
  SAMPLE_TYPE = UNSIGNED_INTEGER
  SAMPLE_BITS = 8
  BANDS = 1
  BAND_STORAGE_TYPE = BAND_SEQUENTIAL
  MAXIMUM = 254
  MEAN = 145.493
  MINIMUM = 1
  STANDARD_DEVIATION = 65.3675
END_OBJECT = IMAGE
/* MAP OBJECT DEFINITIONS */
OBJECT = IMAGE_MAP_PROJECTION
  ^DATA_SET_MAP_PROJECTION_CATALOG= "DSMAP.CAT"
  A_AXIS_RADIUS = 3396.0
  B_AXIS_RADIUS = 3396.0
  C_AXIS_RADIUS = 3396.0
  CENTER_LATITUDE = -90.0
  CENTER_LONGITUDE = 0.0
  COORDINATE_SYSTEM_NAME = PLANETOGRAPHIC
  COORDINATE_SYSTEM_TYPE = "BODY-FIXED ROTATING"
  EASTERNMOST_LONGITUDE = 360.0
  FIRST_STANDARD_PARALLEL = "N/A"
  LINE_FIRST_PIXEL = 1
  LINE_LAST_PIXEL = 12091
  LINE_PROJECTION_OFFSET = 8907.0
  MAP_PROJECTION_ROTATION = 0
  MAP_PROJECTION_TYPE = STEREOGRAPHIC
  MAP_RESOLUTION = 4741.71043093333
  MAP_SCALE = 0.0125
  MAXIMUM_LATITUDE = -85.5119
  MINIMUM_LATITUDE = -90.0
  POSITIVE_LONGITUDE_DIRECTION = EAST
  REFERENCE_LATITUDE = "N/A"
  REFERENCE_LONGITUDE = "N/A"
  SAMPLE_FIRST_PIXEL = 1
  SAMPLE_LAST_PIXEL = 40121
  SAMPLE_PROJECTION_OFFSET = 21140.0
  SECOND_STANDARD_PARALLEL = "N/A"
  WESTERNMOST_LONGITUDE = 0.0
END_OBJECT = IMAGE_MAP_PROJECTION
/* The JPEG2000 image data file associated with this label. */
OBJECT = COMPRESSED_FILE
  FILE_NAME = "H4481_0000_ND3.JP2"
  RECORD_TYPE = UNDEFINED
  FILE_RECORDS = UNK
  ENCODING_TYPE = "JP2"
  INTERCHANGE_FORMAT = BINARY
  UNCOMPRESSED_FILE_NAME = "H4481_0000_ND3.IMG"
  REQUIRED_STORAGE_BYTES = "485223374"
  ^DESCRIPTION = "JP2INFO.TXT"
END_OBJECT = COMPRESSED_FILE
END
