PDS_VERSION_ID = PDS3
/* FILE DATA ELEMENTS */
RECORD_TYPE = STREAM
/* POINTERS TO DATA OBJECTS */
^COMPRESSED_FILE = "H4483_0000_S23.JP2"
/* IDENTIFICATION DATA ELEMENTS */
DATA_SET_ID = "MEX-M-HRSC-5-REFDR-MAPPROJECTED-V3.0"
DATA_SET_NAME = "MARS EXPRESS HRSC MAP PROJECTED REFDR V3.0"
DETECTOR_ID = MEX_HRSC_S2
EVENT_TYPE = "MARS-LOCAL-CARTOGRAPHY-Gl-La-Ot"
INSTRUMENT_HOST_ID = MEX
INSTRUMENT_HOST_NAME = "MARS EXPRESS"
INSTRUMENT_ID = HRSC
INSTRUMENT_NAME = "HIGH RESOLUTION STEREO CAMERA"
MISSION_NAME = "MARS EXPRESS"
MISSION_PHASE_NAME = ME_Phase_8
PROCESSING_LEVEL_ID = 3
PRODUCT_CREATION_TIME = 2016-04-25T14:29:06.000Z
PRODUCT_ID = "H4483_0000_S23.JP2"
RELEASE_ID = 0051
REVISION_ID = 0000
/* QUALITY DATA ELEMENTS */
DATA_QUALITY_ID = 1
DATA_QUALITY_DESC = "Data calculated based on original SPICE kernels"
/* TIME DATA ELEMENTS */
SPACECRAFT_CLOCK_START_COUNT = "1/0131411989.07282"
SPACECRAFT_CLOCK_STOP_COUNT = "1/0131412170.56948"
START_TIME = 2007-07-01T23:21:04.178Z
STOP_TIME = 2007-07-01T23:22:52.911Z
/* ORBITAL DATA ELEMENTS */
ASCENDING_NODE_LONGITUDE = 134.51
MAXIMUM_RESOLUTION = 14.3
FOOTPRINT_POINT_LATITUDE = (-86.7882,-86.8231,-86.8402,-86.837, -86.811,-86.7599,-86.7242,-86.6512, -86.48,-86.7501,-86.9246,-87.0985, -87.2723,-87.4459,-87.6183,-87.7897, -88.0454,-88.2141,-88.3809,-88.5456, -88.7077,-88.8658,-89.0185,-89.1629, -89.293,-89.4411,-89.4901,-89.481, -89.3711,-89.1904,-89.0498,-88.8233, -88.6676,-88.5083,-88.3452,-88.1812, -88.0157,-87.8499,-87.6829,-87.5154, -87.2635,-87.0968,-86.8627,-86.7215, -86.5087,-86.3666,-86.2258,-86.0151, -85.8051,-85.6639,-85.5225,-85.2382, -85.136,-85.1036,-85.0383,-84.9794, -84.8936,-84.8261,-85.2381,-85.5121, -85.7862,-85.9237,-86.0632,-86.3341, -86.5349,-86.6898,-86.8504,-87.0107, -87.1681,-87.3222,-87.4761,-87.629, -87.8546,-88.0007,-88.2136,-88.3488, -88.4733,-88.6409,-88.7357,-88.8165, -88.8784,-88.9172,-88.9299,-88.8987, -88.8115,-88.7275,-88.5714,-88.3885, -88.2554,-88.1162,-87.9715,-87.8221, -87.5927,-87.4367,-87.199,-87.0383, -86.8743,-86.705,-86.7882)
FOOTPRINT_POINT_LONGITUDE = (87.251,83.0188,78.5493,73.8799,69.0692 ,64.1741,61.7143,57.7313,55.1155, 54.4898,54.0055,53.4603,52.8493,52.1578 ,51.3546,50.4195,48.7096,47.2879, 45.5588,43.4335,40.7677,37.3408,32.8265 ,26.7071,18.1833,358.723,340.729,321.42 ,297.755,282.905,276.422,269.747, 266.854,264.448,262.325,260.666,259.266 ,258.129,257.122,256.252,255.162, 254.608,253.862,253.465,252.906,252.568 ,252.295,251.942,251.649,251.436, 251.234,250.831,247.969,245.683,242.204 ,239.723,236.701,234.633,233.559, 232.734,231.812,231.311,230.795,229.582 ,228.536,227.653,226.664,225.573, 224.345,222.957,221.412,219.676,216.617 ,214.196,209.841,206.325,202.203, 194.675,188.628,181.649,173.75,165.097, 156.019,142.524,130.355,123.346,114.584 ,107.613,103.797,100.585,97.7929, 95.3494,92.3106,90.5994,88.3974,87.1212 ,85.9475,84.8466,87.251)
ORBIT_NUMBER = 4483
ORBITAL_ECCENTRICITY = 0.57
ORBITAL_INCLINATION = 86.7
ORBITAL_SEMIMAJOR_AXIS = 8538.32
PERIAPSIS_ALTITUDE = 291.79
PERIAPSIS_ARGUMENT_ANGLE = 288.72
PERIAPSIS_TIME = 2007-07-01T23:25:55.000Z
SPACECRAFT_ORIENTATION = (0.0,-1.0,0.0)
^MEX_ORIENTATION_DESC = "MEX_ORIENTATION_DESC.TXT"
SPACECRAFT_POINTING_MODE = INERT
^MEX_POINTING_DESC = "MEX_POINTING_DESC.TXT"
RIGHT_ASCENSION = 331.012
DECLINATION = 36.394
OFFSET_ANGLE = -1e+32
SPACECRAFT_SOLAR_DISTANCE = 2.07474e+08
TARGET_NAME = MARS
/* CAMERA DATA ELEMENTS */
DETECTOR_TEMPERATURE = 18.5744
FOCAL_PLANE_TEMPERATURE = 8.9911
INST_CMPRS_NAME = "DISCRETE COSINE TRANSFORMATION (DCT)"
INST_CMPRS_RATIO = 8.47695
INST_CMPRS_QUALITY = 0
INST_CMPRS_QUANTZ_TBL_ID = 0
INSTRUMENT_TEMPERATURE = 11.6418
LENS_TEMPERATURE = 10.8262
MACROPIXEL_SIZE = 1
MISSING_FRAMES = 0
PIXEL_SUBSAMPLING_FLAG = N
SIGNAL_CHAIN_ID = 1
/* RADIOMETRIC DATA ELEMENTS */
BANDWIDTH = 178.0
CENTER_FILTER_WAVELENGTH = 679.0
RADIANCE_OFFSET = 6.18188
RADIANCE_SCALING_FACTOR = 0.0264873
REFLECTANCE_SCALING_FACTOR = 0.000603804
MEX:REFLECTANCE_OFFSET = 0.140922
/* IMAGE OBJECT DEFINITIONS */
OBJECT = IMAGE
  INTERCHANGE_FORMAT = BINARY
  LINES = 22496
  LINE_SAMPLES = 38383
  SAMPLE_TYPE = UNSIGNED_INTEGER
  SAMPLE_BITS = 8
  BANDS = 1
  BAND_STORAGE_TYPE = BAND_SEQUENTIAL
  MAXIMUM = 254
  MEAN = 122.517
  MINIMUM = 1
  STANDARD_DEVIATION = 58.8899
END_OBJECT = IMAGE
/* MAP OBJECT DEFINITIONS */
OBJECT = IMAGE_MAP_PROJECTION
  ^DATA_SET_MAP_PROJECTION_CATALOG= "DSMAP.CAT"
  A_AXIS_RADIUS = 3396.0
  B_AXIS_RADIUS = 3396.0
  C_AXIS_RADIUS = 3396.0
  CENTER_LATITUDE = -90.0
  CENTER_LONGITUDE = 0.0
  COORDINATE_SYSTEM_NAME = PLANETOGRAPHIC
  COORDINATE_SYSTEM_TYPE = "BODY-FIXED ROTATING"
  EASTERNMOST_LONGITUDE = 360.0
  FIRST_STANDARD_PARALLEL = "N/A"
  LINE_FIRST_PIXEL = 1
  LINE_LAST_PIXEL = 22496
  LINE_PROJECTION_OFFSET = 8165.0
  MAP_PROJECTION_ROTATION = 0.0
  MAP_PROJECTION_TYPE = STEREOGRAPHIC
  MAP_RESOLUTION = 4741.71043093333
  MAP_SCALE = 0.0125
  MAXIMUM_LATITUDE = -84.8261
  MINIMUM_LATITUDE = -90.0
  POSITIVE_LONGITUDE_DIRECTION = EAST
  REFERENCE_LATITUDE = "N/A"
  REFERENCE_LONGITUDE = "N/A"
  SAMPLE_FIRST_PIXEL = 1
  SAMPLE_LAST_PIXEL = 38383
  SAMPLE_PROJECTION_OFFSET = 21902.0
  SECOND_STANDARD_PARALLEL = "N/A"
  WESTERNMOST_LONGITUDE = 0.0
END_OBJECT = IMAGE_MAP_PROJECTION
/* The JPEG2000 image data file associated with this label. */
OBJECT = COMPRESSED_FILE
  FILE_NAME = "H4483_0000_S23.JP2"
  RECORD_TYPE = UNDEFINED
  FILE_RECORDS = UNK
  ENCODING_TYPE = "JP2"
  INTERCHANGE_FORMAT = BINARY
  UNCOMPRESSED_FILE_NAME = "H4483_0000_S23.IMG"
  REQUIRED_STORAGE_BYTES = "863579117"
  ^DESCRIPTION = "JP2INFO.TXT"
END_OBJECT = COMPRESSED_FILE
END
