PDS_VERSION_ID = PDS3
/* FILE DATA ELEMENTS */
RECORD_TYPE = STREAM
/* POINTERS TO DATA OBJECTS */
^COMPRESSED_FILE = "H4488_0000_GR3.JP2"
/* IDENTIFICATION DATA ELEMENTS */
DATA_SET_ID = "MEX-M-HRSC-5-REFDR-MAPPROJECTED-V3.0"
DATA_SET_NAME = "MARS EXPRESS HRSC MAP PROJECTED REFDR V3.0"
DETECTOR_ID = MEX_HRSC_GREEN
EVENT_TYPE = "MARS-REGIONAL-MAPPING-Im-Pf"
INSTRUMENT_HOST_ID = MEX
INSTRUMENT_HOST_NAME = "MARS EXPRESS"
INSTRUMENT_ID = HRSC
INSTRUMENT_NAME = "HIGH RESOLUTION STEREO CAMERA"
MISSION_NAME = "MARS EXPRESS"
MISSION_PHASE_NAME = ME_Phase_8
PROCESSING_LEVEL_ID = 3
PRODUCT_CREATION_TIME = 2016-04-25T14:29:06.000Z
PRODUCT_ID = "H4488_0000_GR3.JP2"
RELEASE_ID = 0051
REVISION_ID = 0000
/* QUALITY DATA ELEMENTS */
DATA_QUALITY_ID = 1
DATA_QUALITY_DESC = "Data calculated based on original SPICE kernels"
/* TIME DATA ELEMENTS */
SPACECRAFT_CLOCK_START_COUNT = "1/0131533532.08270"
SPACECRAFT_CLOCK_STOP_COUNT = "1/0131533725.57092"
START_TIME = 2007-07-03T09:06:11.418Z
STOP_TIME = 2007-07-03T09:08:13.545Z
/* ORBITAL DATA ELEMENTS */
ASCENDING_NODE_LONGITUDE = 134.4
MAXIMUM_RESOLUTION = 109.8
FOOTPRINT_POINT_LATITUDE = (-55.462,-55.4527,-55.4421,-55.4308, -55.4202,-55.4075,-55.3299,-55.1912, -55.0524,-54.8442,-54.7056,-54.5672, -54.429,-54.2218,-53.9462,-53.6029, -53.3964,-53.1213,-52.7104,-52.4362, -52.1925,-52.0292,-51.8659,-51.702, -51.5391,-51.3759,-51.2125,-51.0498, -50.8063,-50.644,-50.4821,-50.2393, -50.0777,-49.9161,-49.7548,-49.5935, -49.4324,-49.2715,-49.1106,-48.95, -48.7896,-48.6291,-48.3885,-48.2284, -48.0694,-47.9075,-47.7298,-47.7434, -47.7504,-47.7569,-47.7662,-47.7738, -47.7801,-47.7873,-47.9516,-48.1145, -48.355,-48.5155,-48.6756,-48.8361, -48.997,-49.1582,-49.3195,-49.4808, -49.6423,-49.8845,-50.0462,-50.2082, -50.3705,-50.5329,-50.6953,-50.9389, -51.1017,-51.2649,-51.4282,-51.5914, -51.755,-51.9188,-52.1644,-52.3282, -52.5619,-52.8369,-52.9745,-53.1811, -53.3189,-53.5251,-53.6627,-53.8004, -53.9388,-54.0771,-54.2156,-54.354, -54.4921,-54.6306,-54.7697,-54.9086, -55.117,-55.256,-55.395,-55.462)
FOOTPRINT_POINT_LONGITUDE = (111.844,111.559,111.255,110.952, 110.686,110.383,110.026,110.043,110.06, 110.086,110.103,110.12,110.135,110.158, 110.186,110.217,110.238,110.266,110.302 ,110.328,110.35,110.365,110.38,110.397, 110.411,110.426,110.443,110.456,110.476 ,110.489,110.501,110.519,110.531, 110.542,110.553,110.565,110.576,110.586 ,110.597,110.607,110.617,110.627, 110.642,110.652,110.658,110.667,110.793 ,111.189,111.406,111.623,111.959, 112.256,112.533,112.784,112.772,112.761 ,112.744,112.732,112.719,112.706, 112.694,112.682,112.67,112.658,112.646, 112.626,112.613,112.6,112.587,112.574, 112.561,112.54,112.527,112.514,112.5, 112.487,112.473,112.46,112.439,112.424, 112.403,112.378,112.365,112.345,112.332 ,112.31,112.295,112.28,112.267,112.253, 112.239,112.225,112.21,112.195,112.181, 112.167,112.145,112.13,112.114,111.844)
ORBIT_NUMBER = 4488
ORBITAL_ECCENTRICITY = 0.57
ORBITAL_INCLINATION = 86.69
ORBITAL_SEMIMAJOR_AXIS = 8540.12
PERIAPSIS_ALTITUDE = 292.13
PERIAPSIS_ARGUMENT_ANGLE = 287.85
PERIAPSIS_TIME = 2007-07-03T09:01:56.000Z
SPACECRAFT_ORIENTATION = (0.0,1.0,0.0)
^MEX_ORIENTATION_DESC = "MEX_ORIENTATION_DESC.TXT"
SPACECRAFT_POINTING_MODE = NADIR
^MEX_POINTING_DESC = "MEX_POINTING_DESC.TXT"
RIGHT_ASCENSION = -1e+32
DECLINATION = -1e+32
OFFSET_ANGLE = -1e+32
SPACECRAFT_SOLAR_DISTANCE = 2.07558e+08
TARGET_NAME = MARS
/* CAMERA DATA ELEMENTS */
DETECTOR_TEMPERATURE = 17.9627
FOCAL_PLANE_TEMPERATURE = 8.7872
INST_CMPRS_NAME = "DISCRETE COSINE TRANSFORMATION (DCT)"
INST_CMPRS_RATIO = 26.2014
INST_CMPRS_QUALITY = 0
INST_CMPRS_QUANTZ_TBL_ID = 0
INSTRUMENT_TEMPERATURE = 11.4379
LENS_TEMPERATURE = 9.195
MACROPIXEL_SIZE = 8
MISSING_FRAMES = 0
PIXEL_SUBSAMPLING_FLAG = N
SIGNAL_CHAIN_ID = 2
/* RADIOMETRIC DATA ELEMENTS */
BANDWIDTH = 88.0
CENTER_FILTER_WAVELENGTH = 538.0
RADIANCE_OFFSET = 3.15688
RADIANCE_SCALING_FACTOR = 0.00303349
REFLECTANCE_SCALING_FACTOR = 0.000112515
MEX:REFLECTANCE_OFFSET = 0.117092
/* IMAGE OBJECT DEFINITIONS */
OBJECT = IMAGE
  INTERCHANGE_FORMAT = BINARY
  LINES = 4599
  LINE_SAMPLES = 1044
  SAMPLE_TYPE = UNSIGNED_INTEGER
  SAMPLE_BITS = 8
  BANDS = 1
  BAND_STORAGE_TYPE = BAND_SEQUENTIAL
  MAXIMUM = 255
  MEAN = 136.817
  MINIMUM = 7
  STANDARD_DEVIATION = 39.1392
END_OBJECT = IMAGE
/* MAP OBJECT DEFINITIONS */
OBJECT = IMAGE_MAP_PROJECTION
  ^DATA_SET_MAP_PROJECTION_CATALOG= "DSMAP.CAT"
  A_AXIS_RADIUS = 3396.0
  B_AXIS_RADIUS = 3396.0
  C_AXIS_RADIUS = 3396.0
  CENTER_LATITUDE = 0.0
  CENTER_LONGITUDE = 111.0
  COORDINATE_SYSTEM_NAME = PLANETOGRAPHIC
  COORDINATE_SYSTEM_TYPE = "BODY-FIXED ROTATING"
  EASTERNMOST_LONGITUDE = 112.784
  FIRST_STANDARD_PARALLEL = "N/A"
  LINE_FIRST_PIXEL = 1
  LINE_LAST_PIXEL = 4599
  LINE_PROJECTION_OFFSET = -28284.4375
  MAP_PROJECTION_ROTATION = 0.0
  MAP_PROJECTION_TYPE = SINUSOIDAL
  MAP_RESOLUTION = 592.713803866667
  MAP_SCALE = 0.1
  MAXIMUM_LATITUDE = -47.7298
  MINIMUM_LATITUDE = -55.462
  POSITIVE_LONGITUDE_DIRECTION = EAST
  REFERENCE_LATITUDE = "N/A"
  REFERENCE_LONGITUDE = "N/A"
  SAMPLE_FIRST_PIXEL = 1
  SAMPLE_LAST_PIXEL = 1044
  SAMPLE_PROJECTION_OFFSET = 334.3125
  SECOND_STANDARD_PARALLEL = "N/A"
  WESTERNMOST_LONGITUDE = 110.026
END_OBJECT = IMAGE_MAP_PROJECTION
/* The JPEG2000 image data file associated with this label. */
OBJECT = COMPRESSED_FILE
  FILE_NAME = "H4488_0000_GR3.JP2"
  RECORD_TYPE = UNDEFINED
  FILE_RECORDS = UNK
  ENCODING_TYPE = "JP2"
  INTERCHANGE_FORMAT = BINARY
  UNCOMPRESSED_FILE_NAME = "H4488_0000_GR3.IMG"
  REQUIRED_STORAGE_BYTES = "4820148"
  ^DESCRIPTION = "JP2INFO.TXT"
END_OBJECT = COMPRESSED_FILE
END
